Workbook
Name \0: #REF!
Name \a: #REF!
Name \b: #N/A
Name \c: #REF!
Name \d: #REF!
Name \e: #REF!
Name \f: #REF!
Name \g: #REF!
Name \h: #REF!
Name \i: #REF!
Name \j: #REF!
Name \k: #REF!
Name \l: #REF!
Name \LYN: #REF!
Name \m: #REF!
Name \n: #REF!
Name \o: #REF!
Name \p: #REF!
Name \q: #REF!
Name \r: #REF!
Name \s: #REF!
Name \t: #REF!
Name \u: #REF!
Name \v: #REF!
Name \w: #REF!
Name \x: #REF!
Name \y: #REF!
Name \Z: #REF!
Name _: #REF!
Name ___acc72: #REF!
Name ___acc75: #REF!
Name ___acc76: #REF!
Name ___acc77: #REF!
Name ___acc80: #REF!
Name ___acc81: #REF!
Name ___acc82: #REF!
Name ___acc83: #REF!
Name ___acc87: #REF!
Name ___acc88: #REF!
Name ___acc95: #REF!
Name ___act02: #REF!
Name ___bak1: #REF!
Name ___bak2: #REF!
Name ___bak3: #REF!
Name ___bcr8: #REF!
Name ___bcr9: #REF!
Name ___bud02: #REF!
Name ___bud03: #REF!
Name ___dat00225: #REF!
Name ___dat003: #REF!
Name ___dat01: #REF!
Name ___dat0105: #REF!
Name ___dat0165: #REF!
Name ___dat0202: #REF!
Name ___dat020203: #REF!
Name ___dat0205: #REF!
Name ___dat02789: #REF!
Name ___dat067893: #REF!
Name ___dat090909: #REF!
Name ___DAT1: #REF!

Sheet لا يعدل
I1: 1 | J1: 2 | K1: 3 | L1: 4 | M1: 5 | N1: 6 | O1: 7 | P1: 8 | Q1: 9 | R1: 10 | S1: 11 | T1: 12 | U1: 13 | V1: 14 | W1: 15 | X1: 16 | Y1: 17 | Z1: 18 | AA1: 19 | AB1: 20 | AC1: 21 | AD1: 22 | AE1: 23 | AF1: 24 | AG1: 25 | AH1: 26 | AI1: 27 | AJ1: 28 | AK1: 29 | AL1: 30 | AM1: 31 | AN1: 32 | AO1: 33 | AP1: 34 | AQ1: 35 | AR1: 36 | AS1: 37 | AT1: 38
B2: تفاصيل العمالة | AS2: المعامل الإضافي | AT2: نسبة الاشغال الكلية | AV2: الطرق والمداخل الخارجية | BG2: الوردية الأولى | BO2: الوردية الثانية | BW2: الوردية الثالثة
B3: المسمى الوظيفي | C3: السنة 1 | D3: السنة 2 | E3: السنة 3 | F3: السنة 4 | G3: السنة 5 | I3: {=_xlfn._xlws.FILTER(Table63[#All],Table63[[#All],[اسم التجمع (مجموعة مباني ضمن نفس المنطقة المسورة)]]<>0)} -> # | J3: المدينة | K3: اسم التجمع (مجموعة مباني ضمن نفس المنطقة المسورة) | L3: إسم المبنى | M3: تصنيف المبنى | N3: عدد الموظفين في الوردية (وقت الذروة) | O3: عدد الزوار في الوردية (وقت الذروة) | P3: عدد الأدوار | Q3: مساحة المسطح الأرضي | R3: إجمالي المساحة الداخلية (بالمتر المربع) | S3: عدد ورديات العمل | T3: نسبة الإشغال للوردية الأولى (%) (بحسب وقت الذروة) | U3: نسبة الإشغال للوردية الثانية (%) (وقت الذروة = 100%) | V3: نسبة الإشغال للوردية الثالثة (%) (وقت الذروة = 100%) | W3: عدد مداخل/بوابات المرفق الداخلية (مداخل تتطلب حراس أمن) الوردية الأولى | X3: عدد مداخل/بوابات المرفق الداخلية (مداخل تتطلب حراس أمن) الوردية الثانية | Y3: عدد مداخل/بوابات المرفق الداخلية (مداخل تتطلب حراس أمن) الوردية الثالثة | Z3: عدد النقاط الحرجة داخل المرفق (ما عدا المداخل/البوابات، وتتطلب حراس أمن) الوردية الاولى | AA3: عدد النقاط الحرجة داخل المرفق (ما عدا المداخل/البوابات، وتتطلب حراس أمن) الوردية الثانية | AB3: عدد النقاط الحرجة داخل المرفق (ما عدا المداخل/البوابات، وتتطلب حراس أمن) الوردية الثالثة | AC3: هل يوجد غرف مراقبة في المبنى؟ | AD3: عدد غرف المراقبة الوردية الأولى | AE3: عدد غرف المراقبة الوردية الثانية | AF3: عدد غرف المراقبة الوردية الثالثة | AG3: المساحات المغطاة بأنظمة المراقبة التقنية | AH3: عدد حراس الأمن الرسميين (موظفي الجهة الحكومية) | AI3: حالة المرفق | AJ3: سنة التشغيل | AK3: احتمالية المخاطر الأمنية | AL3: شدة التأثير على العمليات التشغيلية | AM3: ضعف الأنظمة الأمنية | AN3: احتمالية المخاطر الأمنية (بحسب مقترح ضوابط الشراء) | AO3: شدة التأثير على العمليات التشغيلية (بحسب مقترح ضوابط الشراء) | AP3: ضعف الأنظمة الأمنية (بحسب مقترح ضوابط الشراء) | AQ3: مستوى المخاطر | AR3: معامل المستخدمين | AV3: {=_xlfn._xlws.FILTER('حصر بيانات المشروع'!AK3:AT51,'حصر بيانات المشروع'!AL3:AL51<>"","")} -> # | AW3: اسم التجمع (مجموعة مباني ضمن نفس المنطقة المسورة) | AX3: اجمالي أطوال طرق المعبدة (كلم) | AY3: اجمالي أطوال طرق الغير معبدة (كلم) | AZ3: عدد ورديات العمل لسيارات الأمن | BA3: عدد مركبات الدفع الثنائي المملوكة من الجهة الحكومية | BB3: عدد مركبات الدفع الرباعي المملوكة من الجهة الحكومية | BC3: عدد مداخل/بوابات المرفق الخارجية (مداخل تتطلب حراس أمن) الوردية الأولى | BD3: عدد مداخل/بوابات المرفق الخارجية (مداخل تتطلب حراس أمن) الوردية الثانية | BE3: عدد مداخل/بوابات المرفق الخارجية (مداخل تتطلب حراس أمن) الوردية الثاثة | BG3: عدد حراس الأمن (بحسب المساحة) | BH3: عدد حراس الأمن (مداخل المرافق الداخلية) | BI3: عدد حراس الأمن (مداخل المرافق الخارجية) | BJ3: عدد حراس الأمن (بحسب سيارات الأمن) | BK3: عدد حراس الأمن (بحسب غرف المراقبة) | BL3: عدد حراس الأمن (بحسب النقاط الحرجة) | BM3: عدد سيارات الأمن ذات الدفع الثنائي | BN3: عدد سيارات الأمن ذات الدفع الرباعي | BO3: عدد حراس الأمن (بحسب المساحة) | BP3: عدد حراس الأمن (مداخل المرافق الداخلية) | BQ3: عدد حراس الأمن (مداخل المرافق الخارجية) | BR3: عدد حراس الأمن (بحسب سيارات الأمن) | BS3: عدد حراس الأمن (بحسب غرف المراقبة) | BT3: عدد حراس الأمن (بحسب النقاط الحرجة) | BU3: عدد سيارات الأمن ذات الدفع الثنائي | BV3: عدد سيارات الأمن ذات الدفع الرباعي | BW3: عدد حراس الأمن (بحسب المساحة) | BX3: عدد حراس الأمن (مداخل المرافق الداخلية) | BY3: عدد حراس الأمن (مداخل المرافق الخارجية) | BZ3: عدد حراس الأمن (بحسب سيارات الأمن) | CA3: عدد حراس الأمن (بحسب غرف المراقبة) | CB3: عدد حراس الأمن (بحسب النقاط الحرجة) | CC3: عدد سيارات الأمن ذات الدفع الثنائي | CD3: عدد سيارات الأمن ذات الدفع الرباعي | CE3: عدد حراس الامن الكلي للمبنى | CF3: عدد مراقبي الامن الكلي للمبنى | CG3: عدد سيارات الدفع الثنائي الكلي للمجمع | CH3: عدد سيارات الدفع الرباعي الكلي للمجمع
B4: مدير مشروع | C4: =الفرضيات!$D$2 -> 1 | D4: =IF(B21<>2,0,الفرضيات!$D$2) -> 0 | E4: =IF(B22<>3,0,الفرضيات!$D$2) -> 0 | F4: =IF(B23<>4,0,الفرضيات!$D$2) -> 0 | G4: =IF(B24<>5,0,الفرضيات!$D$2) -> 0 | AQ4: =IFERROR( IF(AND(AM4<>0,AL4<>0,AK4<>0), VLOOKUP(AL4,$B$45:$C$48,2,0)*VLOOKUP(AM4,$B$45:$C$48,2,0)*VLOOKUP(AK4,$B$45:$C$48,2,0), VLOOKUP(AO4,$B$45:$C$48,2,0)*VLOOKUP(AP4,$B$45:$C$48,2,0)*VLOOKUP(AN4,$B$45:$C$48,2,0)),"") | AR4: =IF(AQ4="","",(LOOKUP(SUM(N4:O4),الفرضيات!$R$2:$R$9, الفرضيات!$S$2:$S$9))) | AS4: =IF(ISBLANK(L4),"",الفرضيات!$L$2) | BG4: =IF(ISBLANK(L4),"0",T4*(R4-AG4)/الفرضيات!$H$2*(1+AR4)) -> 0 | BH4: =IF(ISBLANK(L4),"0",_xlfn.CEILING.MATH(W4)) -> 0 | BI4: =IF(ISBLANK(AW4),"0",_xlfn.CEILING.MATH(BC4)) -> 0 | BJ4: =IF(ISBLANK(AW4),"0",BM4+BN4) -> 0 | BK4: =IF(ISBLANK(L4),"0",_xlfn.CEILING.MATH(AD4)) -> 0 | BL4: =IF(ISBLANK(L4),"0",_xlfn.CEILING.MATH(Z4)) -> 0 | BM4: {=IF(ISBLANK(AW4),"0",_xlfn.CEILING.MATH(AX4/الفرضيات!$H$3*(1+MAX(_xlfn.CHOOSECOLS(_xlfn._xlws.FILTER($I$4:$AT$335,$K$4:$K$335=AW4),36)))))} -> 0 | BN4: {=IF(ISBLANK(AW4),"0",_xlfn.CEILING.MATH(AY4/الفرضيات!$H$4*(1+MAX(_xlfn.CHOOSECOLS(_xlfn._xlws.FILTER($I$4:$AT$335,$K$4:$K$335=AW4),36)))))} -> 0 | BO4: =IF(ISBLANK(L4),"0",IF(S4<2,"0",(U4*(R4-AG4)/الفرضيات!$H$2*(1+AR4)))) -> 0 | BP4: =IF(ISBLANK(L4),"0",_xlfn.CEILING.MATH(X4)) -> 0 | BQ4: =IF(ISBLANK(AW4),"0",_xlfn.CEILING.MATH(BD4)) -> 0 | BR4: =IF(ISBLANK(AW4),"0",IF($AZ4<2,"0",BU4+BV4)) -> 0 | BS4: =IF(ISBLANK(L4),"0",_xlfn.CEILING.MATH(AE4)) -> 0 | BT4: =IF(ISBLANK(L4),"0",_xlfn.CEILING.MATH(AA4)) -> 0 | BU4: {=IF(ISBLANK(AW4),"0",IF($AZ4<2,"0",_xlfn.CEILING.MATH(AX4/الفرضيات!$H$3*(1+MAX(_xlfn.CHOOSECOLS(_xlfn._xlws.FILTER($I$4:$AT$335,$K$4:$K$335=AW4),36))))))} -> 0 | BV4: {=IF(ISBLANK(AW4),"0",IF($AZ4<2,"0",_xlfn.CEILING.MATH(AY4/الفرضيات!$H$4*(1+MAX(_xlfn.CHOOSECOLS(_xlfn._xlws.FILTER($I$4:$AT$335,$K$4:$K$335=AW4),36))))))} -> 0 | BW4: =IF(ISBLANK(L4),"0",IF(S4<3,"0",(V4*(R4-AG4)/الفرضيات!$H$2*(1+AR4)))) -> 0 | BX4: =IF(ISBLANK(L4),"0",_xlfn.CEILING.MATH(Y4)) -> 0 | BY4: =IF(ISBLANK(AW4),"0",_xlfn.CEILING.MATH(BE4)) -> 0 | BZ4: =IF(ISBLANK(AW4),"0",IF($AZ4<3,"0",CC4+CD4)) -> 0 | CA4: =IF(ISBLANK(L4),"0",_xlfn.CEILING.MATH(AF4)) -> 0 | CB4: =IF(ISBLANK(L4),"0",_xlfn.CEILING.MATH(AB4)) -> 0 | CC4: {=IF(ISBLANK(AW4),"0",IF($AZ4<3,"0",_xlfn.CEILING.MATH(AX4/الفرضيات!$H$3*(1+MAX(_xlfn.CHOOSECOLS(_xlfn._xlws.FILTER($I$4:$AT$335,$K$4:$K$335=AW4),36))))))} -> 0 | CD4: {=IF(ISBLANK(AW4),"0",IF($AZ4<3,"0",_xlfn.CEILING.MATH(AY4/الفرضيات!$H$4*(1+MAX(_xlfn.CHOOSECOLS(_xlfn._xlws.FILTER($I$4:$AT$335,$K$4:$K$335=AW4),36))))))} -> 0 | CE4: =IFERROR(MAX(0,((BG4+BO4+BW4)*(1+AS4+AR4)+(BH4+BI4+BJ4+BL4+BP4+BQ4+BR4+BT4+BX4+BY4+BZ4+CB4)*(1+AS4))*(1+ VLOOKUP(AQ4,الفرضيات!$N$1:$O$11,2,0))-AH4),0) -> 0 | CF4: =IFERROR(BK4+BS4+CA4,0) -> 0 | CG4: {=IFERROR(MAX(0,MAX(BM4,BU4,CC4)*(1+VLOOKUP(MAX(_xlfn.CHOOSECOLS(_xlfn._xlws.FILTER($I$4:$AT$335,$K$4:$K$335=AW4),35)),الفرضيات!$N$2:$O$11,2,0))-BA4),0)} -> 0 | CH4: {=IFERROR(MAX(0,MAX(BN4,BV4,CD4)*(1+VLOOKUP(MAX(_xlfn.CHOOSECOLS(_xlfn._xlws.FILTER($I$4:$AT$335,$K$4:$K$335=AW4),35)),الفرضيات!$N$2:$O$11,2,0))-BB4),0)} -> 0
B5: مشرف أمن | C5: =_xlfn.CEILING.MATH(C6/الفرضيات!$D$3) -> 0 | D5: =_xlfn.CEILING.MATH(D6/الفرضيات!$D$3) -> 0 | E5: =_xlfn.CEILING.MATH(E6/الفرضيات!$D$3) -> 0 | F5: =_xlfn.CEILING.MATH(F6/الفرضيات!$D$3) -> 0 | G5: =_xlfn.CEILING.MATH(G6/الفرضيات!$D$3) -> 0 | AQ5: =IFERROR( IF(AND(AM5<>0,AL5<>0,AK5<>0), VLOOKUP(AL5,$B$45:$C$48,2,0)*VLOOKUP(AM5,$B$45:$C$48,2,0)*VLOOKUP(AK5,$B$45:$C$48,2,0), VLOOKUP(AO5,$B$45:$C$48,2,0)*VLOOKUP(AP5,$B$45:$C$48,2,0)*VLOOKUP(AN5,$B$45:$C$48,2,0)),"") | AR5: =IF(AQ5="","",(LOOKUP(SUM(N5:O5),الفرضيات!$R$2:$R$9, الفرضيات!$S$2:$S$9))) | AS5: =IF(ISBLANK(L5),"",الفرضيات!$L$2) | BG5: =IF(ISBLANK(L5),"0",T5*(R5-AG5)/الفرضيات!$H$2*(1+AR5)) -> 0 | BH5: =IF(ISBLANK(L5),"0",_xlfn.CEILING.MATH(W5)) -> 0 | BI5: =IF(ISBLANK(AW5),"0",_xlfn.CEILING.MATH(BC5)) -> 0 | BJ5: =IF(ISBLANK(AW5),"0",BM5+BN5) -> 0 | BK5: =IF(ISBLANK(L5),"0",_xlfn.CEILING.MATH(AD5)) -> 0 | BL5: =IF(ISBLANK(L5),"0",_xlfn.CEILING.MATH(Z5)) -> 0 | BM5: {=IF(ISBLANK(AW5),"0",_xlfn.CEILING.MATH(AX5/الفرضيات!$H$3*(1+MAX(_xlfn.CHOOSECOLS(_xlfn._xlws.FILTER($I$4:$AT$335,$K$4:$K$335=AW5),36)))))} -> 0 | BN5: {=IF(ISBLANK(AW5),"0",_xlfn.CEILING.MATH(AY5/الفرضيات!$H$4*(1+MAX(_xlfn.CHOOSECOLS(_xlfn._xlws.FILTER($I$4:$AT$335,$K$4:$K$335=AW5),36)))))} -> 0 | BO5: =IF(ISBLANK(L5),"0",IF(S5<2,"0",(U5*(R5-AG5)/الفرضيات!$H$2*(1+AR5)))) -> 0 | BP5: =IF(ISBLANK(L5),"0",_xlfn.CEILING.MATH(X5)) -> 0 | BQ5: =IF(ISBLANK(AW5),"0",_xlfn.CEILING.MATH(BD5)) -> 0 | BR5: =IF(ISBLANK(AW5),"0",IF($AZ5<2,"0",BU5+BV5)) -> 0 | BS5: =IF(ISBLANK(L5),"0",_xlfn.CEILING.MATH(AE5)) -> 0 | BT5: =IF(ISBLANK(L5),"0",_xlfn.CEILING.MATH(AA5)) -> 0 | BU5: {=IF(ISBLANK(AW5),"0",IF($AZ5<2,"0",_xlfn.CEILING.MATH(AX5/الفرضيات!$H$3*(1+MAX(_xlfn.CHOOSECOLS(_xlfn._xlws.FILTER($I$4:$AT$335,$K$4:$K$335=AW5),36))))))} -> 0 | BV5: {=IF(ISBLANK(AW5),"0",IF($AZ5<2,"0",_xlfn.CEILING.MATH(AY5/الفرضيات!$H$4*(1+MAX(_xlfn.CHOOSECOLS(_xlfn._xlws.FILTER($I$4:$AT$335,$K$4:$K$335=AW5),36))))))} -> 0 | BW5: =IF(ISBLANK(L5),"0",IF(S5<3,"0",(V5*(R5-AG5)/الفرضيات!$H$2*(1+AR5)))) -> 0 | BX5: =IF(ISBLANK(L5),"0",_xlfn.CEILING.MATH(Y5)) -> 0 | BY5: =IF(ISBLANK(AW5),"0",_xlfn.CEILING.MATH(BE5)) -> 0 | BZ5: =IF(ISBLANK(AW5),"0",IF($AZ5<3,"0",CC5+CD5)) -> 0 | CA5: =IF(ISBLANK(L5),"0",_xlfn.CEILING.MATH(AF5)) -> 0 | CB5: =IF(ISBLANK(L5),"0",_xlfn.CEILING.MATH(AB5)) -> 0 | CC5: {=IF(ISBLANK(AW5),"0",IF($AZ5<3,"0",_xlfn.CEILING.MATH(AX5/الفرضيات!$H$3*(1+MAX(_xlfn.CHOOSECOLS(_xlfn._xlws.FILTER($I$4:$AT$335,$K$4:$K$335=AW5),36))))))} -> 0 | CD5: {=IF(ISBLANK(AW5),"0",IF($AZ5<3,"0",_xlfn.CEILING.MATH(AY5/الفرضيات!$H$4*(1+MAX(_xlfn.CHOOSECOLS(_xlfn._xlws.FILTER($I$4:$AT$335,$K$4:$K$335=AW5),36))))))} -> 0 | CE5: =IFERROR(MAX(0,((BG5+BO5+BW5)*(1+AS5+AR5)+(BH5+BI5+BJ5+BL5+BP5+BQ5+BR5+BT5+BX5+BY5+BZ5+CB5)*(1+AS5))*(1+ VLOOKUP(AQ5,الفرضيات!$N$1:$O$11,2,0))-AH5),0) -> 0 | CF5: =IFERROR(BK5+BS5+CA5,0) -> 0 | CG5: {=IFERROR(MAX(0,MAX(BM5,BU5,CC5)*(1+VLOOKUP(MAX(_xlfn.CHOOSECOLS(_xlfn._xlws.FILTER($I$4:$AT$335,$K$4:$K$335=AW5),35)),الفرضيات!$N$2:$O$11,2,0))-BA5),0)} -> 0 | CH5: {=IFERROR(MAX(0,MAX(BN5,BV5,CD5)*(1+VLOOKUP(MAX(_xlfn.CHOOSECOLS(_xlfn._xlws.FILTER($I$4:$AT$335,$K$4:$K$335=AW5),35)),الفرضيات!$N$2:$O$11,2,0))-BB5),0)} -> 0
B6: حارس أمن | C6: =_xlfn.CEILING.MATH(MAX(0,SUMIF($AJ$4:$AJ$335,"<2",CE4:CE335))) -> 0 | D6: =IF(B21<>2,0,_xlfn.CEILING.MATH(MAX(0,SUMIF($AJ$4:$AJ$335,"<3",CE4:CE335)))) -> 0 | E6: =IF(B22<>3,0,_xlfn.CEILING.MATH(MAX(0,SUMIF($AJ$4:$AJ$335,"<4",CE4:CE335)))) -> 0 | F6: =IF(B23<>4,0,_xlfn.CEILING.MATH(MAX(0,SUMIF($AJ$4:$AJ$335,"<5",CE4:CE335)))) -> 0 | G6: =IF(B24<>5,0,_xlfn.CEILING.MATH(MAX(0,SUMIF($AJ$4:$AJ$335,"<6",CE4:CE335)))) -> 0 | AQ6: =IFERROR( IF(AND(AM6<>0,AL6<>0,AK6<>0), VLOOKUP(AL6,$B$45:$C$48,2,0)*VLOOKUP(AM6,$B$45:$C$48,2,0)*VLOOKUP(AK6,$B$45:$C$48,2,0), VLOOKUP(AO6,$B$45:$C$48,2,0)*VLOOKUP(AP6,$B$45:$C$48,2,0)*VLOOKUP(AN6,$B$45:$C$48,2,0)),"") | AR6: =IF(AQ6="","",(LOOKUP(SUM(N6:O6),الفرضيات!$R$2:$R$9, الفرضيات!$S$2:$S$9))) | AS6: =IF(ISBLANK(L6),"",الفرضيات!$L$2) | BG6: =IF(ISBLANK(L6),"0",T6*(R6-AG6)/الفرضيات!$H$2*(1+AR6)) -> 0 | BH6: =IF(ISBLANK(L6),"0",_xlfn.CEILING.MATH(W6)) -> 0 | BI6: =IF(ISBLANK(AW6),"0",_xlfn.CEILING.MATH(BC6)) -> 0 | BJ6: =IF(ISBLANK(AW6),"0",BM6+BN6) -> 0 | BK6: =IF(ISBLANK(L6),"0",_xlfn.CEILING.MATH(AD6)) -> 0 | BL6: =IF(ISBLANK(L6),"0",_xlfn.CEILING.MATH(Z6)) -> 0 | BM6: {=IF(ISBLANK(AW6),"0",_xlfn.CEILING.MATH(AX6/الفرضيات!$H$3*(1+MAX(_xlfn.CHOOSECOLS(_xlfn._xlws.FILTER($I$4:$AT$335,$K$4:$K$335=AW6),36)))))} -> 0 | BN6: {=IF(ISBLANK(AW6),"0",_xlfn.CEILING.MATH(AY6/الفرضيات!$H$4*(1+MAX(_xlfn.CHOOSECOLS(_xlfn._xlws.FILTER($I$4:$AT$335,$K$4:$K$335=AW6),36)))))} -> 0 | BO6: =IF(ISBLANK(L6),"0",IF(S6<2,"0",(U6*(R6-AG6)/الفرضيات!$H$2*(1+AR6)))) -> 0 | BP6: =IF(ISBLANK(L6),"0",_xlfn.CEILING.MATH(X6)) -> 0 | BQ6: =IF(ISBLANK(AW6),"0",_xlfn.CEILING.MATH(BD6)) -> 0 | BR6: =IF(ISBLANK(AW6),"0",IF($AZ6<2,"0",BU6+BV6)) -> 0 | BS6: =IF(ISBLANK(L6),"0",_xlfn.CEILING.MATH(AE6)) -> 0 | BT6: =IF(ISBLANK(L6),"0",_xlfn.CEILING.MATH(AA6)) -> 0 | BU6: {=IF(ISBLANK(AW6),"0",IF($AZ6<2,"0",_xlfn.CEILING.MATH(AX6/الفرضيات!$H$3*(1+MAX(_xlfn.CHOOSECOLS(_xlfn._xlws.FILTER($I$4:$AT$335,$K$4:$K$335=AW6),36))))))} -> 0 | BV6: {=IF(ISBLANK(AW6),"0",IF($AZ6<2,"0",_xlfn.CEILING.MATH(AY6/الفرضيات!$H$4*(1+MAX(_xlfn.CHOOSECOLS(_xlfn._xlws.FILTER($I$4:$AT$335,$K$4:$K$335=AW6),36))))))} -> 0 | BW6: =IF(ISBLANK(L6),"0",IF(S6<3,"0",(V6*(R6-AG6)/الفرضيات!$H$2*(1+AR6)))) -> 0 | BX6: =IF(ISBLANK(L6),"0",_xlfn.CEILING.MATH(Y6)) -> 0 | BY6: =IF(ISBLANK(AW6),"0",_xlfn.CEILING.MATH(BE6)) -> 0 | BZ6: =IF(ISBLANK(AW6),"0",IF($AZ6<3,"0",CC6+CD6)) -> 0 | CA6: =IF(ISBLANK(L6),"0",_xlfn.CEILING.MATH(AF6)) -> 0 | CB6: =IF(ISBLANK(L6),"0",_xlfn.CEILING.MATH(AB6)) -> 0 | CC6: {=IF(ISBLANK(AW6),"0",IF($AZ6<3,"0",_xlfn.CEILING.MATH(AX6/الفرضيات!$H$3*(1+MAX(_xlfn.CHOOSECOLS(_xlfn._xlws.FILTER($I$4:$AT$335,$K$4:$K$335=AW6),36))))))} -> 0 | CD6: {=IF(ISBLANK(AW6),"0",IF($AZ6<3,"0",_xlfn.CEILING.MATH(AY6/الفرضيات!$H$4*(1+MAX(_xlfn.CHOOSECOLS(_xlfn._xlws.FILTER($I$4:$AT$335,$K$4:$K$335=AW6),36))))))} -> 0 | CE6: =IFERROR(MAX(0,((BG6+BO6+BW6)*(1+AS6+AR6)+(BH6+BI6+BJ6+BL6+BP6+BQ6+BR6+BT6+BX6+BY6+BZ6+CB6)*(1+AS6))*(1+ VLOOKUP(AQ6,الفرضيات!$N$1:$O$11,2,0))-AH6),0) -> 0 | CF6: =IFERROR(BK6+BS6+CA6,0) -> 0 | CG6: {=IFERROR(MAX(0,MAX(BM6,BU6,CC6)*(1+VLOOKUP(MAX(_xlfn.CHOOSECOLS(_xlfn._xlws.FILTER($I$4:$AT$335,$K$4:$K$335=AW6),35)),الفرضيات!$N$2:$O$11,2,0))-BA6),0)} -> 0 | CH6: {=IFERROR(MAX(0,MAX(BN6,BV6,CD6)*(1+VLOOKUP(MAX(_xlfn.CHOOSECOLS(_xlfn._xlws.FILTER($I$4:$AT$335,$K$4:$K$335=AW6),35)),الفرضيات!$N$2:$O$11,2,0))-BB6),0)} -> 0
B7: مراقب كاميرات أمنية | C7: =_xlfn.CEILING.MATH(MAX(0,(SUMIF($AJ$4:$AJ$335,"<2",CF4:CF335)))) -> 0 | D7: =IF(B21<>2,0,_xlfn.CEILING.MATH(MAX(0,(SUMIF($AJ$4:$AJ$335,"<3",CF4:CF335))))) -> 0 | E7: =IF(B22<>3,0,_xlfn.CEILING.MATH(MAX(0,(SUMIF($AJ$4:$AJ$335,"<4",CF4:CF335))))) -> 0 | F7: =IF(B23<>4,0,_xlfn.CEILING.MATH(MAX(0,(SUMIF($AJ$4:$AJ$335,"<5",CF4:CF335))))) -> 0 | G7: =IF(B24<>5,0,_xlfn.CEILING.MATH(MAX(0,(SUMIF($AJ$4:$AJ$335,"<6",CF4:CF335))))) -> 0 | AQ7: =IFERROR( IF(AND(AM7<>0,AL7<>0,AK7<>0), VLOOKUP(AL7,$B$45:$C$48,2,0)*VLOOKUP(AM7,$B$45:$C$48,2,0)*VLOOKUP(AK7,$B$45:$C$48,2,0), VLOOKUP(AO7,$B$45:$C$48,2,0)*VLOOKUP(AP7,$B$45:$C$48,2,0)*VLOOKUP(AN7,$B$45:$C$48,2,0)),"") | AR7: =IF(AQ7="","",(LOOKUP(SUM(N7:O7),الفرضيات!$R$2:$R$9, الفرضيات!$S$2:$S$9))) | AS7: =IF(ISBLANK(L7),"",الفرضيات!$L$2) | BG7: =IF(ISBLANK(L7),"0",T7*(R7-AG7)/الفرضيات!$H$2*(1+AR7)) -> 0 | BH7: =IF(ISBLANK(L7),"0",_xlfn.CEILING.MATH(W7)) -> 0 | BI7: =IF(ISBLANK(AW7),"0",_xlfn.CEILING.MATH(BC7)) -> 0 | BJ7: =IF(ISBLANK(AW7),"0",BM7+BN7) -> 0 | BK7: =IF(ISBLANK(L7),"0",_xlfn.CEILING.MATH(AD7)) -> 0 | BL7: =IF(ISBLANK(L7),"0",_xlfn.CEILING.MATH(Z7)) -> 0 | BM7: {=IF(ISBLANK(AW7),"0",_xlfn.CEILING.MATH(AX7/الفرضيات!$H$3*(1+MAX(_xlfn.CHOOSECOLS(_xlfn._xlws.FILTER($I$4:$AT$335,$K$4:$K$335=AW7),36)))))} -> 0 | BN7: {=IF(ISBLANK(AW7),"0",_xlfn.CEILING.MATH(AY7/الفرضيات!$H$4*(1+MAX(_xlfn.CHOOSECOLS(_xlfn._xlws.FILTER($I$4:$AT$335,$K$4:$K$335=AW7),36)))))} -> 0 | BO7: =IF(ISBLANK(L7),"0",IF(S7<2,"0",(U7*(R7-AG7)/الفرضيات!$H$2*(1+AR7)))) -> 0 | BP7: =IF(ISBLANK(L7),"0",_xlfn.CEILING.MATH(X7)) -> 0 | BQ7: =IF(ISBLANK(AW7),"0",_xlfn.CEILING.MATH(BD7)) -> 0 | BR7: =IF(ISBLANK(AW7),"0",IF($AZ7<2,"0",BU7+BV7)) -> 0 | BS7: =IF(ISBLANK(L7),"0",_xlfn.CEILING.MATH(AE7)) -> 0 | BT7: =IF(ISBLANK(L7),"0",_xlfn.CEILING.MATH(AA7)) -> 0 | BU7: {=IF(ISBLANK(AW7),"0",IF($AZ7<2,"0",_xlfn.CEILING.MATH(AX7/الفرضيات!$H$3*(1+MAX(_xlfn.CHOOSECOLS(_xlfn._xlws.FILTER($I$4:$AT$335,$K$4:$K$335=AW7),36))))))} -> 0 | BV7: {=IF(ISBLANK(AW7),"0",IF($AZ7<2,"0",_xlfn.CEILING.MATH(AY7/الفرضيات!$H$4*(1+MAX(_xlfn.CHOOSECOLS(_xlfn._xlws.FILTER($I$4:$AT$335,$K$4:$K$335=AW7),36))))))} -> 0 | BW7: =IF(ISBLANK(L7),"0",IF(S7<3,"0",(V7*(R7-AG7)/الفرضيات!$H$2*(1+AR7)))) -> 0 | BX7: =IF(ISBLANK(L7),"0",_xlfn.CEILING.MATH(Y7)) -> 0 | BY7: =IF(ISBLANK(AW7),"0",_xlfn.CEILING.MATH(BE7)) -> 0 | BZ7: =IF(ISBLANK(AW7),"0",IF($AZ7<3,"0",CC7+CD7)) -> 0 | CA7: =IF(ISBLANK(L7),"0",_xlfn.CEILING.MATH(AF7)) -> 0 | CB7: =IF(ISBLANK(L7),"0",_xlfn.CEILING.MATH(AB7)) -> 0 | CC7: {=IF(ISBLANK(AW7),"0",IF($AZ7<3,"0",_xlfn.CEILING.MATH(AX7/الفرضيات!$H$3*(1+MAX(_xlfn.CHOOSECOLS(_xlfn._xlws.FILTER($I$4:$AT$335,$K$4:$K$335=AW7),36))))))} -> 0 | CD7: {=IF(ISBLANK(AW7),"0",IF($AZ7<3,"0",_xlfn.CEILING.MATH(AY7/الفرضيات!$H$4*(1+MAX(_xlfn.CHOOSECOLS(_xlfn._xlws.FILTER($I$4:$AT$335,$K$4:$K$335=AW7),36))))))} -> 0 | CE7: =IFERROR(MAX(0,((BG7+BO7+BW7)*(1+AS7+AR7)+(BH7+BI7+BJ7+BL7+BP7+BQ7+BR7+BT7+BX7+BY7+BZ7+CB7)*(1+AS7))*(1+ VLOOKUP(AQ7,الفرضيات!$N$1:$O$11,2,0))-AH7),0) -> 0 | CF7: =IFERROR(BK7+BS7+CA7,0) -> 0 | CG7: {=IFERROR(MAX(0,MAX(BM7,BU7,CC7)*(1+VLOOKUP(MAX(_xlfn.CHOOSECOLS(_xlfn._xlws.FILTER($I$4:$AT$335,$K$4:$K$335=AW7),35)),الفرضيات!$N$2:$O$11,2,0))-BA7),0)} -> 0 | CH7: {=IFERROR(MAX(0,MAX(BN7,BV7,CD7)*(1+VLOOKUP(MAX(_xlfn.CHOOSECOLS(_xlfn._xlws.FILTER($I$4:$AT$335,$K$4:$K$335=AW7),35)),الفرضيات!$N$2:$O$11,2,0))-BB7),0)} -> 0
AQ8: =IFERROR( IF(AND(AM8<>0,AL8<>0,AK8<>0), VLOOKUP(AL8,$B$45:$C$48,2,0)*VLOOKUP(AM8,$B$45:$C$48,2,0)*VLOOKUP(AK8,$B$45:$C$48,2,0), VLOOKUP(AO8,$B$45:$C$48,2,0)*VLOOKUP(AP8,$B$45:$C$48,2,0)*VLOOKUP(AN8,$B$45:$C$48,2,0)),"") | AR8: =IF(AQ8="","",(LOOKUP(SUM(N8:O8),الفرضيات!$R$2:$R$9, الفرضيات!$S$2:$S$9))) | AS8: =IF(ISBLANK(L8),"",الفرضيات!$L$2) | BG8: =IF(ISBLANK(L8),"0",T8*(R8-AG8)/الفرضيات!$H$2*(1+AR8)) -> 0 | BH8: =IF(ISBLANK(L8),"0",_xlfn.CEILING.MATH(W8)) -> 0 | BI8: =IF(ISBLANK(AW8),"0",_xlfn.CEILING.MATH(BC8)) -> 0 | BJ8: =IF(ISBLANK(AW8),"0",BM8+BN8) -> 0 | BK8: =IF(ISBLANK(L8),"0",_xlfn.CEILING.MATH(AD8)) -> 0 | BL8: =IF(ISBLANK(L8),"0",_xlfn.CEILING.MATH(Z8)) -> 0 | BM8: {=IF(ISBLANK(AW8),"0",_xlfn.CEILING.MATH(AX8/الفرضيات!$H$3*(1+MAX(_xlfn.CHOOSECOLS(_xlfn._xlws.FILTER($I$4:$AT$335,$K$4:$K$335=AW8),36)))))} -> 0 | BN8: {=IF(ISBLANK(AW8),"0",_xlfn.CEILING.MATH(AY8/الفرضيات!$H$4*(1+MAX(_xlfn.CHOOSECOLS(_xlfn._xlws.FILTER($I$4:$AT$335,$K$4:$K$335=AW8),36)))))} -> 0 | BO8: =IF(ISBLANK(L8),"0",IF(S8<2,"0",(U8*(R8-AG8)/الفرضيات!$H$2*(1+AR8)))) -> 0 | BP8: =IF(ISBLANK(L8),"0",_xlfn.CEILING.MATH(X8)) -> 0 | BQ8: =IF(ISBLANK(AW8),"0",_xlfn.CEILING.MATH(BD8)) -> 0 | BR8: =IF(ISBLANK(AW8),"0",IF($AZ8<2,"0",BU8+BV8)) -> 0 | BS8: =IF(ISBLANK(L8),"0",_xlfn.CEILING.MATH(AE8)) -> 0 | BT8: =IF(ISBLANK(L8),"0",_xlfn.CEILING.MATH(AA8)) -> 0 | BU8: {=IF(ISBLANK(AW8),"0",IF($AZ8<2,"0",_xlfn.CEILING.MATH(AX8/الفرضيات!$H$3*(1+MAX(_xlfn.CHOOSECOLS(_xlfn._xlws.FILTER($I$4:$AT$335,$K$4:$K$335=AW8),36))))))} -> 0 | BV8: {=IF(ISBLANK(AW8),"0",IF($AZ8<2,"0",_xlfn.CEILING.MATH(AY8/الفرضيات!$H$4*(1+MAX(_xlfn.CHOOSECOLS(_xlfn._xlws.FILTER($I$4:$AT$335,$K$4:$K$335=AW8),36))))))} -> 0 | BW8: =IF(ISBLANK(L8),"0",IF(S8<3,"0",(V8*(R8-AG8)/الفرضيات!$H$2*(1+AR8)))) -> 0 | BX8: =IF(ISBLANK(L8),"0",_xlfn.CEILING.MATH(Y8)) -> 0 | BY8: =IF(ISBLANK(AW8),"0",_xlfn.CEILING.MATH(BE8)) -> 0 | BZ8: =IF(ISBLANK(AW8),"0",IF($AZ8<3,"0",CC8+CD8)) -> 0 | CA8: =IF(ISBLANK(L8),"0",_xlfn.CEILING.MATH(AF8)) -> 0 | CB8: =IF(ISBLANK(L8),"0",_xlfn.CEILING.MATH(AB8)) -> 0 | CC8: {=IF(ISBLANK(AW8),"0",IF($AZ8<3,"0",_xlfn.CEILING.MATH(AX8/الفرضيات!$H$3*(1+MAX(_xlfn.CHOOSECOLS(_xlfn._xlws.FILTER($I$4:$AT$335,$K$4:$K$335=AW8),36))))))} -> 0 | CD8: {=IF(ISBLANK(AW8),"0",IF($AZ8<3,"0",_xlfn.CEILING.MATH(AY8/الفرضيات!$H$4*(1+MAX(_xlfn.CHOOSECOLS(_xlfn._xlws.FILTER($I$4:$AT$335,$K$4:$K$335=AW8),36))))))} -> 0 | CE8: =IFERROR(MAX(0,((BG8+BO8+BW8)*(1+AS8+AR8)+(BH8+BI8+BJ8+BL8+BP8+BQ8+BR8+BT8+BX8+BY8+BZ8+CB8)*(1+AS8))*(1+ VLOOKUP(AQ8,الفرضيات!$N$1:$O$11,2,0))-AH8),0) -> 0 | CF8: =IFERROR(BK8+BS8+CA8,0) -> 0 | CG8: {=IFERROR(MAX(0,MAX(BM8,BU8,CC8)*(1+VLOOKUP(MAX(_xlfn.CHOOSECOLS(_xlfn._xlws.FILTER($I$4:$AT$335,$K$4:$K$335=AW8),35)),الفرضيات!$N$2:$O$11,2,0))-BA8),0)} -> 0 | CH8: {=IFERROR(MAX(0,MAX(BN8,BV8,CD8)*(1+VLOOKUP(MAX(_xlfn.CHOOSECOLS(_xlfn._xlws.FILTER($I$4:$AT$335,$K$4:$K$335=AW8),35)),الفرضيات!$N$2:$O$11,2,0))-BB8),0)} -> 0
B9: تفاصيل المعدات | AQ9: =IFERROR( IF(AND(AM9<>0,AL9<>0,AK9<>0), VLOOKUP(AL9,$B$45:$C$48,2,0)*VLOOKUP(AM9,$B$45:$C$48,2,0)*VLOOKUP(AK9,$B$45:$C$48,2,0), VLOOKUP(AO9,$B$45:$C$48,2,0)*VLOOKUP(AP9,$B$45:$C$48,2,0)*VLOOKUP(AN9,$B$45:$C$48,2,0)),"") | AR9: =IF(AQ9="","",(LOOKUP(SUM(N9:O9),الفرضيات!$R$2:$R$9, الفرضيات!$S$2:$S$9))) | AS9: =IF(ISBLANK(L9),"",الفرضيات!$L$2) | BG9: =IF(ISBLANK(L9),"0",T9*(R9-AG9)/الفرضيات!$H$2*(1+AR9)) -> 0 | BH9: =IF(ISBLANK(L9),"0",_xlfn.CEILING.MATH(W9)) -> 0 | BI9: =IF(ISBLANK(AW9),"0",_xlfn.CEILING.MATH(BC9)) -> 0 | BJ9: =IF(ISBLANK(AW9),"0",BM9+BN9) -> 0 | BK9: =IF(ISBLANK(L9),"0",_xlfn.CEILING.MATH(AD9)) -> 0 | BL9: =IF(ISBLANK(L9),"0",_xlfn.CEILING.MATH(Z9)) -> 0 | BM9: {=IF(ISBLANK(AW9),"0",_xlfn.CEILING.MATH(AX9/الفرضيات!$H$3*(1+MAX(_xlfn.CHOOSECOLS(_xlfn._xlws.FILTER($I$4:$AT$335,$K$4:$K$335=AW9),36)))))} -> 0 | BN9: {=IF(ISBLANK(AW9),"0",_xlfn.CEILING.MATH(AY9/الفرضيات!$H$4*(1+MAX(_xlfn.CHOOSECOLS(_xlfn._xlws.FILTER($I$4:$AT$335,$K$4:$K$335=AW9),36)))))} -> 0 | BO9: =IF(ISBLANK(L9),"0",IF(S9<2,"0",(U9*(R9-AG9)/الفرضيات!$H$2*(1+AR9)))) -> 0 | BP9: =IF(ISBLANK(L9),"0",_xlfn.CEILING.MATH(X9)) -> 0 | BQ9: =IF(ISBLANK(AW9),"0",_xlfn.CEILING.MATH(BD9)) -> 0 | BR9: =IF(ISBLANK(AW9),"0",IF($AZ9<2,"0",BU9+BV9)) -> 0 | BS9: =IF(ISBLANK(L9),"0",_xlfn.CEILING.MATH(AE9)) -> 0 | BT9: =IF(ISBLANK(L9),"0",_xlfn.CEILING.MATH(AA9)) -> 0 | BU9: {=IF(ISBLANK(AW9),"0",IF($AZ9<2,"0",_xlfn.CEILING.MATH(AX9/الفرضيات!$H$3*(1+MAX(_xlfn.CHOOSECOLS(_xlfn._xlws.FILTER($I$4:$AT$335,$K$4:$K$335=AW9),36))))))} -> 0 | BV9: {=IF(ISBLANK(AW9),"0",IF($AZ9<2,"0",_xlfn.CEILING.MATH(AY9/الفرضيات!$H$4*(1+MAX(_xlfn.CHOOSECOLS(_xlfn._xlws.FILTER($I$4:$AT$335,$K$4:$K$335=AW9),36))))))} -> 0 | BW9: =IF(ISBLANK(L9),"0",IF(S9<3,"0",(V9*(R9-AG9)/الفرضيات!$H$2*(1+AR9)))) -> 0 | BX9: =IF(ISBLANK(L9),"0",_xlfn.CEILING.MATH(Y9)) -> 0 | BY9: =IF(ISBLANK(AW9),"0",_xlfn.CEILING.MATH(BE9)) -> 0 | BZ9: =IF(ISBLANK(AW9),"0",IF($AZ9<3,"0",CC9+CD9)) -> 0 | CA9: =IF(ISBLANK(L9),"0",_xlfn.CEILING.MATH(AF9)) -> 0 | CB9: =IF(ISBLANK(L9),"0",_xlfn.CEILING.MATH(AB9)) -> 0 | CC9: {=IF(ISBLANK(AW9),"0",IF($AZ9<3,"0",_xlfn.CEILING.MATH(AX9/الفرضيات!$H$3*(1+MAX(_xlfn.CHOOSECOLS(_xlfn._xlws.FILTER($I$4:$AT$335,$K$4:$K$335=AW9),36))))))} -> 0 | CD9: {=IF(ISBLANK(AW9),"0",IF($AZ9<3,"0",_xlfn.CEILING.MATH(AY9/الفرضيات!$H$4*(1+MAX(_xlfn.CHOOSECOLS(_xlfn._xlws.FILTER($I$4:$AT$335,$K$4:$K$335=AW9),36))))))} -> 0 | CE9: =IFERROR(MAX(0,((BG9+BO9+BW9)*(1+AS9+AR9)+(BH9+BI9+BJ9+BL9+BP9+BQ9+BR9+BT9+BX9+BY9+BZ9+CB9)*(1+AS9))*(1+ VLOOKUP(AQ9,الفرضيات!$N$1:$O$11,2,0))-AH9),0) -> 0 | CF9: =IFERROR(BK9+BS9+CA9,0) -> 0 | CG9: {=IFERROR(MAX(0,MAX(BM9,BU9,CC9)*(1+VLOOKUP(MAX(_xlfn.CHOOSECOLS(_xlfn._xlws.FILTER($I$4:$AT$335,$K$4:$K$335=AW9),35)),الفرضيات!$N$2:$O$11,2,0))-BA9),0)} -> 0 | CH9: {=IFERROR(MAX(0,MAX(BN9,BV9,CD9)*(1+VLOOKUP(MAX(_xlfn.CHOOSECOLS(_xlfn._xlws.FILTER($I$4:$AT$335,$K$4:$K$335=AW9),35)),الفرضيات!$N$2:$O$11,2,0))-BB9),0)} -> 0
B10: المسمى الوظيفي | C10: السنة 1 | D10: السنة 2 | E10: السنة 3 | F10: السنة 4 | G10: السنة 5 | AQ10: =IFERROR( IF(AND(AM10<>0,AL10<>0,AK10<>0), VLOOKUP(AL10,$B$45:$C$48,2,0)*VLOOKUP(AM10,$B$45:$C$48,2,0)*VLOOKUP(AK10,$B$45:$C$48,2,0), VLOOKUP(AO10,$B$45:$C$48,2,0)*VLOOKUP(AP10,$B$45:$C$48,2,0)*VLOOKUP(AN10,$B$45:$C$48,2,0)),"") | AR10: =IF(AQ10="","",(LOOKUP(SUM(N10:O10),الفرضيات!$R$2:$R$9, الفرضيات!$S$2:$S$9))) | AS10: =IF(ISBLANK(L10),"",الفرضيات!$L$2) | BG10: =IF(ISBLANK(L10),"0",T10*(R10-AG10)/الفرضيات!$H$2*(1+AR10)) -> 0 | BH10: =IF(ISBLANK(L10),"0",_xlfn.CEILING.MATH(W10)) -> 0 | BI10: =IF(ISBLANK(AW10),"0",_xlfn.CEILING.MATH(BC10)) -> 0 | BJ10: =IF(ISBLANK(AW10),"0",BM10+BN10) -> 0 | BK10: =IF(ISBLANK(L10),"0",_xlfn.CEILING.MATH(AD10)) -> 0 | BL10: =IF(ISBLANK(L10),"0",_xlfn.CEILING.MATH(Z10)) -> 0 | BM10: {=IF(ISBLANK(AW10),"0",_xlfn.CEILING.MATH(AX10/الفرضيات!$H$3*(1+MAX(_xlfn.CHOOSECOLS(_xlfn._xlws.FILTER($I$4:$AT$335,$K$4:$K$335=AW10),36)))))} -> 0 | BN10: {=IF(ISBLANK(AW10),"0",_xlfn.CEILING.MATH(AY10/الفرضيات!$H$4*(1+MAX(_xlfn.CHOOSECOLS(_xlfn._xlws.FILTER($I$4:$AT$335,$K$4:$K$335=AW10),36)))))} -> 0 | BO10: =IF(ISBLANK(L10),"0",IF(S10<2,"0",(U10*(R10-AG10)/الفرضيات!$H$2*(1+AR10)))) -> 0 | BP10: =IF(ISBLANK(L10),"0",_xlfn.CEILING.MATH(X10)) -> 0 | BQ10: =IF(ISBLANK(AW10),"0",_xlfn.CEILING.MATH(BD10)) -> 0 | BR10: =IF(ISBLANK(AW10),"0",IF($AZ10<2,"0",BU10+BV10)) -> 0 | BS10: =IF(ISBLANK(L10),"0",_xlfn.CEILING.MATH(AE10)) -> 0 | BT10: =IF(ISBLANK(L10),"0",_xlfn.CEILING.MATH(AA10)) -> 0 | BU10: {=IF(ISBLANK(AW10),"0",IF($AZ10<2,"0",_xlfn.CEILING.MATH(AX10/الفرضيات!$H$3*(1+MAX(_xlfn.CHOOSECOLS(_xlfn._xlws.FILTER($I$4:$AT$335,$K$4:$K$335=AW10),36))))))} -> 0 | BV10: {=IF(ISBLANK(AW10),"0",IF($AZ10<2,"0",_xlfn.CEILING.MATH(AY10/الفرضيات!$H$4*(1+MAX(_xlfn.CHOOSECOLS(_xlfn._xlws.FILTER($I$4:$AT$335,$K$4:$K$335=AW10),36))))))} -> 0 | BW10: =IF(ISBLANK(L10),"0",IF(S10<3,"0",(V10*(R10-AG10)/الفرضيات!$H$2*(1+AR10)))) -> 0 | BX10: =IF(ISBLANK(L10),"0",_xlfn.CEILING.MATH(Y10)) -> 0 | BY10: =IF(ISBLANK(AW10),"0",_xlfn.CEILING.MATH(BE10)) -> 0 | BZ10: =IF(ISBLANK(AW10),"0",IF($AZ10<3,"0",CC10+CD10)) -> 0 | CA10: =IF(ISBLANK(L10),"0",_xlfn.CEILING.MATH(AF10)) -> 0 | CB10: =IF(ISBLANK(L10),"0",_xlfn.CEILING.MATH(AB10)) -> 0 | CC10: {=IF(ISBLANK(AW10),"0",IF($AZ10<3,"0",_xlfn.CEILING.MATH(AX10/الفرضيات!$H$3*(1+MAX(_xlfn.CHOOSECOLS(_xlfn._xlws.FILTER($I$4:$AT$335,$K$4:$K$335=AW10),36))))))} -> 0 | CD10: {=IF(ISBLANK(AW10),"0",IF($AZ10<3,"0",_xlfn.CEILING.MATH(AY10/الفرضيات!$H$4*(1+MAX(_xlfn.CHOOSECOLS(_xlfn._xlws.FILTER($I$4:$AT$335,$K$4:$K$335=AW10),36))))))} -> 0 | CE10: =IFERROR(MAX(0,((BG10+BO10+BW10)*(1+AS10+AR10)+(BH10+BI10+BJ10+BL10+BP10+BQ10+BR10+BT10+BX10+BY10+BZ10+CB10)*(1+AS10))*(1+ VLOOKUP(AQ10,الفرضيات!$N$1:$O$11,2,0))-AH10),0) -> 0 | CF10: =IFERROR(BK10+BS10+CA10,0) -> 0 | CG10: {=IFERROR(MAX(0,MAX(BM10,BU10,CC10)*(1+VLOOKUP(MAX(_xlfn.CHOOSECOLS(_xlfn._xlws.FILTER($I$4:$AT$335,$K$4:$K$335=AW10),35)),الفرضيات!$N$2:$O$11,2,0))-BA10),0)} -> 0 | CH10: {=IFERROR(MAX(0,MAX(BN10,BV10,CD10)*(1+VLOOKUP(MAX(_xlfn.CHOOSECOLS(_xlfn._xlws.FILTER($I$4:$AT$335,$K$4:$K$335=AW10),35)),الفرضيات!$N$2:$O$11,2,0))-BB10),0)} -> 0
B11: سيارات الأمن ذات الدفع الثنائي | C11: =SUM(CG4:CG335) -> 0 | D11: =IF($B$21<>2,0,SUM(CG4:CG335)) -> 0 | E11: =IF(B22<>3,0,SUM(CG4:CG335)) -> 0 | F11: =IF(B23<>4,0,SUM(CG4:CG335)) -> 0 | G11: =IF(B24<>5,0,SUM(CG4:CG335)) -> 0 | AQ11: =IFERROR( IF(AND(AM11<>0,AL11<>0,AK11<>0), VLOOKUP(AL11,$B$45:$C$48,2,0)*VLOOKUP(AM11,$B$45:$C$48,2,0)*VLOOKUP(AK11,$B$45:$C$48,2,0), VLOOKUP(AO11,$B$45:$C$48,2,0)*VLOOKUP(AP11,$B$45:$C$48,2,0)*VLOOKUP(AN11,$B$45:$C$48,2,0)),"") | AR11: =IF(AQ11="","",(LOOKUP(SUM(N11:O11),الفرضيات!$R$2:$R$9, الفرضيات!$S$2:$S$9))) | AS11: =IF(ISBLANK(L11),"",الفرضيات!$L$2) | BG11: =IF(ISBLANK(L11),"0",T11*(R11-AG11)/الفرضيات!$H$2*(1+AR11)) -> 0 | BH11: =IF(ISBLANK(L11),"0",_xlfn.CEILING.MATH(W11)) -> 0 | BI11: =IF(ISBLANK(AW11),"0",_xlfn.CEILING.MATH(BC11)) -> 0 | BJ11: =IF(ISBLANK(AW11),"0",BM11+BN11) -> 0 | BK11: =IF(ISBLANK(L11),"0",_xlfn.CEILING.MATH(AD11)) -> 0 | BL11: =IF(ISBLANK(L11),"0",_xlfn.CEILING.MATH(Z11)) -> 0 | BM11: {=IF(ISBLANK(AW11),"0",_xlfn.CEILING.MATH(AX11/الفرضيات!$H$3*(1+MAX(_xlfn.CHOOSECOLS(_xlfn._xlws.FILTER($I$4:$AT$335,$K$4:$K$335=AW11),36)))))} -> 0 | BN11: {=IF(ISBLANK(AW11),"0",_xlfn.CEILING.MATH(AY11/الفرضيات!$H$4*(1+MAX(_xlfn.CHOOSECOLS(_xlfn._xlws.FILTER($I$4:$AT$335,$K$4:$K$335=AW11),36)))))} -> 0 | BO11: =IF(ISBLANK(L11),"0",IF(S11<2,"0",(U11*(R11-AG11)/الفرضيات!$H$2*(1+AR11)))) -> 0 | BP11: =IF(ISBLANK(L11),"0",_xlfn.CEILING.MATH(X11)) -> 0 | BQ11: =IF(ISBLANK(AW11),"0",_xlfn.CEILING.MATH(BD11)) -> 0 | BR11: =IF(ISBLANK(AW11),"0",IF($AZ11<2,"0",BU11+BV11)) -> 0 | BS11: =IF(ISBLANK(L11),"0",_xlfn.CEILING.MATH(AE11)) -> 0 | BT11: =IF(ISBLANK(L11),"0",_xlfn.CEILING.MATH(AA11)) -> 0 | BU11: {=IF(ISBLANK(AW11),"0",IF($AZ11<2,"0",_xlfn.CEILING.MATH(AX11/الفرضيات!$H$3*(1+MAX(_xlfn.CHOOSECOLS(_xlfn._xlws.FILTER($I$4:$AT$335,$K$4:$K$335=AW11),36))))))} -> 0 | BV11: {=IF(ISBLANK(AW11),"0",IF($AZ11<2,"0",_xlfn.CEILING.MATH(AY11/الفرضيات!$H$4*(1+MAX(_xlfn.CHOOSECOLS(_xlfn._xlws.FILTER($I$4:$AT$335,$K$4:$K$335=AW11),36))))))} -> 0 | BW11: =IF(ISBLANK(L11),"0",IF(S11<3,"0",(V11*(R11-AG11)/الفرضيات!$H$2*(1+AR11)))) -> 0 | BX11: =IF(ISBLANK(L11),"0",_xlfn.CEILING.MATH(Y11)) -> 0 | BY11: =IF(ISBLANK(AW11),"0",_xlfn.CEILING.MATH(BE11)) -> 0 | BZ11: =IF(ISBLANK(AW11),"0",IF($AZ11<3,"0",CC11+CD11)) -> 0 | CA11: =IF(ISBLANK(L11),"0",_xlfn.CEILING.MATH(AF11)) -> 0 | CB11: =IF(ISBLANK(L11),"0",_xlfn.CEILING.MATH(AB11)) -> 0 | CC11: {=IF(ISBLANK(AW11),"0",IF($AZ11<3,"0",_xlfn.CEILING.MATH(AX11/الفرضيات!$H$3*(1+MAX(_xlfn.CHOOSECOLS(_xlfn._xlws.FILTER($I$4:$AT$335,$K$4:$K$335=AW11),36))))))} -> 0 | CD11: {=IF(ISBLANK(AW11),"0",IF($AZ11<3,"0",_xlfn.CEILING.MATH(AY11/الفرضيات!$H$4*(1+MAX(_xlfn.CHOOSECOLS(_xlfn._xlws.FILTER($I$4:$AT$335,$K$4:$K$335=AW11),36))))))} -> 0 | CE11: =IFERROR(MAX(0,((BG11+BO11+BW11)*(1+AS11+AR11)+(BH11+BI11+BJ11+BL11+BP11+BQ11+BR11+BT11+BX11+BY11+BZ11+CB11)*(1+AS11))*(1+ VLOOKUP(AQ11,الفرضيات!$N$1:$O$11,2,0))-AH11),0) -> 0 | CF11: =IFERROR(BK11+BS11+CA11,0) -> 0 | CG11: {=IFERROR(MAX(0,MAX(BM11,BU11,CC11)*(1+VLOOKUP(MAX(_xlfn.CHOOSECOLS(_xlfn._xlws.FILTER($I$4:$AT$335,$K$4:$K$335=AW11),35)),الفرضيات!$N$2:$O$11,2,0))-BA11),0)} -> 0 | CH11: {=IFERROR(MAX(0,MAX(BN11,BV11,CD11)*(1+VLOOKUP(MAX(_xlfn.CHOOSECOLS(_xlfn._xlws.FILTER($I$4:$AT$335,$K$4:$K$335=AW11),35)),الفرضيات!$N$2:$O$11,2,0))-BB11),0)} -> 0
B12: سيارات الأمن ذات الدفع الرباعي | C12: =SUM(CH4:CH335) -> 0 | D12: =IF($B$21<>2,0,SUM(CH4:CH335)) -> 0 | E12: =IF(B22<>3,0,SUM(CH4:CH335)) -> 0 | F12: =IF(B23<>4,0,SUM(CH4:CH335)) -> 0 | G12: =IF(B24<>5,0,SUM(CH4:CH335)) -> 0 | AQ12: =IFERROR( IF(AND(AM12<>0,AL12<>0,AK12<>0), VLOOKUP(AL12,$B$45:$C$48,2,0)*VLOOKUP(AM12,$B$45:$C$48,2,0)*VLOOKUP(AK12,$B$45:$C$48,2,0), VLOOKUP(AO12,$B$45:$C$48,2,0)*VLOOKUP(AP12,$B$45:$C$48,2,0)*VLOOKUP(AN12,$B$45:$C$48,2,0)),"") | AR12: =IF(AQ12="","",(LOOKUP(SUM(N12:O12),الفرضيات!$R$2:$R$9, الفرضيات!$S$2:$S$9))) | AS12: =IF(ISBLANK(L12),"",الفرضيات!$L$2) | BG12: =IF(ISBLANK(L12),"0",T12*(R12-AG12)/الفرضيات!$H$2*(1+AR12)) -> 0 | BH12: =IF(ISBLANK(L12),"0",_xlfn.CEILING.MATH(W12)) -> 0 | BI12: =IF(ISBLANK(AW12),"0",_xlfn.CEILING.MATH(BC12)) -> 0 | BJ12: =IF(ISBLANK(AW12),"0",BM12+BN12) -> 0 | BK12: =IF(ISBLANK(L12),"0",_xlfn.CEILING.MATH(AD12)) -> 0 | BL12: =IF(ISBLANK(L12),"0",_xlfn.CEILING.MATH(Z12)) -> 0 | BM12: {=IF(ISBLANK(AW12),"0",_xlfn.CEILING.MATH(AX12/الفرضيات!$H$3*(1+MAX(_xlfn.CHOOSECOLS(_xlfn._xlws.FILTER($I$4:$AT$335,$K$4:$K$335=AW12),36)))))} -> 0 | BN12: {=IF(ISBLANK(AW12),"0",_xlfn.CEILING.MATH(AY12/الفرضيات!$H$4*(1+MAX(_xlfn.CHOOSECOLS(_xlfn._xlws.FILTER($I$4:$AT$335,$K$4:$K$335=AW12),36)))))} -> 0 | BO12: =IF(ISBLANK(L12),"0",IF(S12<2,"0",(U12*(R12-AG12)/الفرضيات!$H$2*(1+AR12)))) -> 0 | BP12: =IF(ISBLANK(L12),"0",_xlfn.CEILING.MATH(X12)) -> 0 | BQ12: =IF(ISBLANK(AW12),"0",_xlfn.CEILING.MATH(BD12)) -> 0 | BR12: =IF(ISBLANK(AW12),"0",IF($AZ12<2,"0",BU12+BV12)) -> 0 | BS12: =IF(ISBLANK(L12),"0",_xlfn.CEILING.MATH(AE12)) -> 0 | BT12: =IF(ISBLANK(L12),"0",_xlfn.CEILING.MATH(AA12)) -> 0 | BU12: {=IF(ISBLANK(AW12),"0",IF($AZ12<2,"0",_xlfn.CEILING.MATH(AX12/الفرضيات!$H$3*(1+MAX(_xlfn.CHOOSECOLS(_xlfn._xlws.FILTER($I$4:$AT$335,$K$4:$K$335=AW12),36))))))} -> 0 | BV12: {=IF(ISBLANK(AW12),"0",IF($AZ12<2,"0",_xlfn.CEILING.MATH(AY12/الفرضيات!$H$4*(1+MAX(_xlfn.CHOOSECOLS(_xlfn._xlws.FILTER($I$4:$AT$335,$K$4:$K$335=AW12),36))))))} -> 0 | BW12: =IF(ISBLANK(L12),"0",IF(S12<3,"0",(V12*(R12-AG12)/الفرضيات!$H$2*(1+AR12)))) -> 0 | BX12: =IF(ISBLANK(L12),"0",_xlfn.CEILING.MATH(Y12)) -> 0 | BY12: =IF(ISBLANK(AW12),"0",_xlfn.CEILING.MATH(BE12)) -> 0 | BZ12: =IF(ISBLANK(AW12),"0",IF($AZ12<3,"0",CC12+CD12)) -> 0 | CA12: =IF(ISBLANK(L12),"0",_xlfn.CEILING.MATH(AF12)) -> 0 | CB12: =IF(ISBLANK(L12),"0",_xlfn.CEILING.MATH(AB12)) -> 0 | CC12: {=IF(ISBLANK(AW12),"0",IF($AZ12<3,"0",_xlfn.CEILING.MATH(AX12/الفرضيات!$H$3*(1+MAX(_xlfn.CHOOSECOLS(_xlfn._xlws.FILTER($I$4:$AT$335,$K$4:$K$335=AW12),36))))))} -> 0 | CD12: {=IF(ISBLANK(AW12),"0",IF($AZ12<3,"0",_xlfn.CEILING.MATH(AY12/الفرضيات!$H$4*(1+MAX(_xlfn.CHOOSECOLS(_xlfn._xlws.FILTER($I$4:$AT$335,$K$4:$K$335=AW12),36))))))} -> 0 | CE12: =IFERROR(MAX(0,((BG12+BO12+BW12)*(1+AS12+AR12)+(BH12+BI12+BJ12+BL12+BP12+BQ12+BR12+BT12+BX12+BY12+BZ12+CB12)*(1+AS12))*(1+ VLOOKUP(AQ12,الفرضيات!$N$1:$O$11,2,0))-AH12),0) -> 0 | CF12: =IFERROR(BK12+BS12+CA12,0) -> 0 | CG12: {=IFERROR(MAX(0,MAX(BM12,BU12,CC12)*(1+VLOOKUP(MAX(_xlfn.CHOOSECOLS(_xlfn._xlws.FILTER($I$4:$AT$335,$K$4:$K$335=AW12),35)),الفرضيات!$N$2:$O$11,2,0))-BA12),0)} -> 0 | CH12: {=IFERROR(MAX(0,MAX(BN12,BV12,CD12)*(1+VLOOKUP(MAX(_xlfn.CHOOSECOLS(_xlfn._xlws.FILTER($I$4:$AT$335,$K$4:$K$335=AW12),35)),الفرضيات!$N$2:$O$11,2,0))-BB12),0)} -> 0
AQ13: =IFERROR( IF(AND(AM13<>0,AL13<>0,AK13<>0), VLOOKUP(AL13,$B$45:$C$48,2,0)*VLOOKUP(AM13,$B$45:$C$48,2,0)*VLOOKUP(AK13,$B$45:$C$48,2,0), VLOOKUP(AO13,$B$45:$C$48,2,0)*VLOOKUP(AP13,$B$45:$C$48,2,0)*VLOOKUP(AN13,$B$45:$C$48,2,0)),"") | AR13: =IF(AQ13="","",(LOOKUP(SUM(N13:O13),الفرضيات!$R$2:$R$9, الفرضيات!$S$2:$S$9))) | AS13: =IF(ISBLANK(L13),"",الفرضيات!$L$2) | BG13: =IF(ISBLANK(L13),"0",T13*(R13-AG13)/الفرضيات!$H$2*(1+AR13)) -> 0 | BH13: =IF(ISBLANK(L13),"0",_xlfn.CEILING.MATH(W13)) -> 0 | BI13: =IF(ISBLANK(AW13),"0",_xlfn.CEILING.MATH(BC13)) -> 0 | BJ13: =IF(ISBLANK(AW13),"0",BM13+BN13) -> 0 | BK13: =IF(ISBLANK(L13),"0",_xlfn.CEILING.MATH(AD13)) -> 0 | BL13: =IF(ISBLANK(L13),"0",_xlfn.CEILING.MATH(Z13)) -> 0 | BM13: {=IF(ISBLANK(AW13),"0",_xlfn.CEILING.MATH(AX13/الفرضيات!$H$3*(1+MAX(_xlfn.CHOOSECOLS(_xlfn._xlws.FILTER($I$4:$AT$335,$K$4:$K$335=AW13),36)))))} -> 0 | BN13: {=IF(ISBLANK(AW13),"0",_xlfn.CEILING.MATH(AY13/الفرضيات!$H$4*(1+MAX(_xlfn.CHOOSECOLS(_xlfn._xlws.FILTER($I$4:$AT$335,$K$4:$K$335=AW13),36)))))} -> 0 | BO13: =IF(ISBLANK(L13),"0",IF(S13<2,"0",(U13*(R13-AG13)/الفرضيات!$H$2*(1+AR13)))) -> 0 | BP13: =IF(ISBLANK(L13),"0",_xlfn.CEILING.MATH(X13)) -> 0 | BQ13: =IF(ISBLANK(AW13),"0",_xlfn.CEILING.MATH(BD13)) -> 0 | BR13: =IF(ISBLANK(AW13),"0",IF($AZ13<2,"0",BU13+BV13)) -> 0 | BS13: =IF(ISBLANK(L13),"0",_xlfn.CEILING.MATH(AE13)) -> 0 | BT13: =IF(ISBLANK(L13),"0",_xlfn.CEILING.MATH(AA13)) -> 0 | BU13: {=IF(ISBLANK(AW13),"0",IF($AZ13<2,"0",_xlfn.CEILING.MATH(AX13/الفرضيات!$H$3*(1+MAX(_xlfn.CHOOSECOLS(_xlfn._xlws.FILTER($I$4:$AT$335,$K$4:$K$335=AW13),36))))))} -> 0 | BV13: {=IF(ISBLANK(AW13),"0",IF($AZ13<2,"0",_xlfn.CEILING.MATH(AY13/الفرضيات!$H$4*(1+MAX(_xlfn.CHOOSECOLS(_xlfn._xlws.FILTER($I$4:$AT$335,$K$4:$K$335=AW13),36))))))} -> 0 | BW13: =IF(ISBLANK(L13),"0",IF(S13<3,"0",(V13*(R13-AG13)/الفرضيات!$H$2*(1+AR13)))) -> 0 | BX13: =IF(ISBLANK(L13),"0",_xlfn.CEILING.MATH(Y13)) -> 0 | BY13: =IF(ISBLANK(AW13),"0",_xlfn.CEILING.MATH(BE13)) -> 0 | BZ13: =IF(ISBLANK(AW13),"0",IF($AZ13<3,"0",CC13+CD13)) -> 0 | CA13: =IF(ISBLANK(L13),"0",_xlfn.CEILING.MATH(AF13)) -> 0 | CB13: =IF(ISBLANK(L13),"0",_xlfn.CEILING.MATH(AB13)) -> 0 | CC13: {=IF(ISBLANK(AW13),"0",IF($AZ13<3,"0",_xlfn.CEILING.MATH(AX13/الفرضيات!$H$3*(1+MAX(_xlfn.CHOOSECOLS(_xlfn._xlws.FILTER($I$4:$AT$335,$K$4:$K$335=AW13),36))))))} -> 0 | CD13: {=IF(ISBLANK(AW13),"0",IF($AZ13<3,"0",_xlfn.CEILING.MATH(AY13/الفرضيات!$H$4*(1+MAX(_xlfn.CHOOSECOLS(_xlfn._xlws.FILTER($I$4:$AT$335,$K$4:$K$335=AW13),36))))))} -> 0 | CE13: =IFERROR(MAX(0,((BG13+BO13+BW13)*(1+AS13+AR13)+(BH13+BI13+BJ13+BL13+BP13+BQ13+BR13+BT13+BX13+BY13+BZ13+CB13)*(1+AS13))*(1+ VLOOKUP(AQ13,الفرضيات!$N$1:$O$11,2,0))-AH13),0) -> 0 | CF13: =IFERROR(BK13+BS13+CA13,0) -> 0 | CG13: {=IFERROR(MAX(0,MAX(BM13,BU13,CC13)*(1+VLOOKUP(MAX(_xlfn.CHOOSECOLS(_xlfn._xlws.FILTER($I$4:$AT$335,$K$4:$K$335=AW13),35)),الفرضيات!$N$2:$O$11,2,0))-BA13),0)} -> 0 | CH13: {=IFERROR(MAX(0,MAX(BN13,BV13,CD13)*(1+VLOOKUP(MAX(_xlfn.CHOOSECOLS(_xlfn._xlws.FILTER($I$4:$AT$335,$K$4:$K$335=AW13),35)),الفرضيات!$N$2:$O$11,2,0))-BB13),0)} -> 0
AQ14: =IFERROR( IF(AND(AM14<>0,AL14<>0,AK14<>0), VLOOKUP(AL14,$B$45:$C$48,2,0)*VLOOKUP(AM14,$B$45:$C$48,2,0)*VLOOKUP(AK14,$B$45:$C$48,2,0), VLOOKUP(AO14,$B$45:$C$48,2,0)*VLOOKUP(AP14,$B$45:$C$48,2,0)*VLOOKUP(AN14,$B$45:$C$48,2,0)),"") | AR14: =IF(AQ14="","",(LOOKUP(SUM(N14:O14),الفرضيات!$R$2:$R$9, الفرضيات!$S$2:$S$9))) | AS14: =IF(ISBLANK(L14),"",الفرضيات!$L$2) | BG14: =IF(ISBLANK(L14),"0",T14*(R14-AG14)/الفرضيات!$H$2*(1+AR14)) -> 0 | BH14: =IF(ISBLANK(L14),"0",_xlfn.CEILING.MATH(W14)) -> 0 | BI14: =IF(ISBLANK(AW14),"0",_xlfn.CEILING.MATH(BC14)) -> 0 | BJ14: =IF(ISBLANK(AW14),"0",BM14+BN14) -> 0 | BK14: =IF(ISBLANK(L14),"0",_xlfn.CEILING.MATH(AD14)) -> 0 | BL14: =IF(ISBLANK(L14),"0",_xlfn.CEILING.MATH(Z14)) -> 0 | BM14: {=IF(ISBLANK(AW14),"0",_xlfn.CEILING.MATH(AX14/الفرضيات!$H$3*(1+MAX(_xlfn.CHOOSECOLS(_xlfn._xlws.FILTER($I$4:$AT$335,$K$4:$K$335=AW14),36)))))} -> 0 | BN14: {=IF(ISBLANK(AW14),"0",_xlfn.CEILING.MATH(AY14/الفرضيات!$H$4*(1+MAX(_xlfn.CHOOSECOLS(_xlfn._xlws.FILTER($I$4:$AT$335,$K$4:$K$335=AW14),36)))))} -> 0 | BO14: =IF(ISBLANK(L14),"0",IF(S14<2,"0",(U14*(R14-AG14)/الفرضيات!$H$2*(1+AR14)))) -> 0 | BP14: =IF(ISBLANK(L14),"0",_xlfn.CEILING.MATH(X14)) -> 0 | BQ14: =IF(ISBLANK(AW14),"0",_xlfn.CEILING.MATH(BD14)) -> 0 | BR14: =IF(ISBLANK(AW14),"0",IF($AZ14<2,"0",BU14+BV14)) -> 0 | BS14: =IF(ISBLANK(L14),"0",_xlfn.CEILING.MATH(AE14)) -> 0 | BT14: =IF(ISBLANK(L14),"0",_xlfn.CEILING.MATH(AA14)) -> 0 | BU14: {=IF(ISBLANK(AW14),"0",IF($AZ14<2,"0",_xlfn.CEILING.MATH(AX14/الفرضيات!$H$3*(1+MAX(_xlfn.CHOOSECOLS(_xlfn._xlws.FILTER($I$4:$AT$335,$K$4:$K$335=AW14),36))))))} -> 0 | BV14: {=IF(ISBLANK(AW14),"0",IF($AZ14<2,"0",_xlfn.CEILING.MATH(AY14/الفرضيات!$H$4*(1+MAX(_xlfn.CHOOSECOLS(_xlfn._xlws.FILTER($I$4:$AT$335,$K$4:$K$335=AW14),36))))))} -> 0 | BW14: =IF(ISBLANK(L14),"0",IF(S14<3,"0",(V14*(R14-AG14)/الفرضيات!$H$2*(1+AR14)))) -> 0 | BX14: =IF(ISBLANK(L14),"0",_xlfn.CEILING.MATH(Y14)) -> 0 | BY14: =IF(ISBLANK(AW14),"0",_xlfn.CEILING.MATH(BE14)) -> 0 | BZ14: =IF(ISBLANK(AW14),"0",IF($AZ14<3,"0",CC14+CD14)) -> 0 | CA14: =IF(ISBLANK(L14),"0",_xlfn.CEILING.MATH(AF14)) -> 0 | CB14: =IF(ISBLANK(L14),"0",_xlfn.CEILING.MATH(AB14)) -> 0 | CC14: {=IF(ISBLANK(AW14),"0",IF($AZ14<3,"0",_xlfn.CEILING.MATH(AX14/الفرضيات!$H$3*(1+MAX(_xlfn.CHOOSECOLS(_xlfn._xlws.FILTER($I$4:$AT$335,$K$4:$K$335=AW14),36))))))} -> 0 | CD14: {=IF(ISBLANK(AW14),"0",IF($AZ14<3,"0",_xlfn.CEILING.MATH(AY14/الفرضيات!$H$4*(1+MAX(_xlfn.CHOOSECOLS(_xlfn._xlws.FILTER($I$4:$AT$335,$K$4:$K$335=AW14),36))))))} -> 0 | CE14: =IFERROR(MAX(0,((BG14+BO14+BW14)*(1+AS14+AR14)+(BH14+BI14+BJ14+BL14+BP14+BQ14+BR14+BT14+BX14+BY14+BZ14+CB14)*(1+AS14))*(1+ VLOOKUP(AQ14,الفرضيات!$N$1:$O$11,2,0))-AH14),0) -> 0 | CF14: =IFERROR(BK14+BS14+CA14,0) -> 0 | CG14: {=IFERROR(MAX(0,MAX(BM14,BU14,CC14)*(1+VLOOKUP(MAX(_xlfn.CHOOSECOLS(_xlfn._xlws.FILTER($I$4:$AT$335,$K$4:$K$335=AW14),35)),الفرضيات!$N$2:$O$11,2,0))-BA14),0)} -> 0 | CH14: {=IFERROR(MAX(0,MAX(BN14,BV14,CD14)*(1+VLOOKUP(MAX(_xlfn.CHOOSECOLS(_xlfn._xlws.FILTER($I$4:$AT$335,$K$4:$K$335=AW14),35)),الفرضيات!$N$2:$O$11,2,0))-BB14),0)} -> 0
AQ15: =IFERROR( IF(AND(AM15<>0,AL15<>0,AK15<>0), VLOOKUP(AL15,$B$45:$C$48,2,0)*VLOOKUP(AM15,$B$45:$C$48,2,0)*VLOOKUP(AK15,$B$45:$C$48,2,0), VLOOKUP(AO15,$B$45:$C$48,2,0)*VLOOKUP(AP15,$B$45:$C$48,2,0)*VLOOKUP(AN15,$B$45:$C$48,2,0)),"") | AR15: =IF(AQ15="","",(LOOKUP(SUM(N15:O15),الفرضيات!$R$2:$R$9, الفرضيات!$S$2:$S$9))) | AS15: =IF(ISBLANK(L15),"",الفرضيات!$L$2) | BG15: =IF(ISBLANK(L15),"0",T15*(R15-AG15)/الفرضيات!$H$2*(1+AR15)) -> 0 | BH15: =IF(ISBLANK(L15),"0",_xlfn.CEILING.MATH(W15)) -> 0 | BI15: =IF(ISBLANK(AW15),"0",_xlfn.CEILING.MATH(BC15)) -> 0 | BJ15: =IF(ISBLANK(AW15),"0",BM15+BN15) -> 0 | BK15: =IF(ISBLANK(L15),"0",_xlfn.CEILING.MATH(AD15)) -> 0 | BL15: =IF(ISBLANK(L15),"0",_xlfn.CEILING.MATH(Z15)) -> 0 | BM15: {=IF(ISBLANK(AW15),"0",_xlfn.CEILING.MATH(AX15/الفرضيات!$H$3*(1+MAX(_xlfn.CHOOSECOLS(_xlfn._xlws.FILTER($I$4:$AT$335,$K$4:$K$335=AW15),36)))))} -> 0 | BN15: {=IF(ISBLANK(AW15),"0",_xlfn.CEILING.MATH(AY15/الفرضيات!$H$4*(1+MAX(_xlfn.CHOOSECOLS(_xlfn._xlws.FILTER($I$4:$AT$335,$K$4:$K$335=AW15),36)))))} -> 0 | BO15: =IF(ISBLANK(L15),"0",IF(S15<2,"0",(U15*(R15-AG15)/الفرضيات!$H$2*(1+AR15)))) -> 0 | BP15: =IF(ISBLANK(L15),"0",_xlfn.CEILING.MATH(X15)) -> 0 | BQ15: =IF(ISBLANK(AW15),"0",_xlfn.CEILING.MATH(BD15)) -> 0 | BR15: =IF(ISBLANK(AW15),"0",IF($AZ15<2,"0",BU15+BV15)) -> 0 | BS15: =IF(ISBLANK(L15),"0",_xlfn.CEILING.MATH(AE15)) -> 0 | BT15: =IF(ISBLANK(L15),"0",_xlfn.CEILING.MATH(AA15)) -> 0 | BU15: {=IF(ISBLANK(AW15),"0",IF($AZ15<2,"0",_xlfn.CEILING.MATH(AX15/الفرضيات!$H$3*(1+MAX(_xlfn.CHOOSECOLS(_xlfn._xlws.FILTER($I$4:$AT$335,$K$4:$K$335=AW15),36))))))} -> 0 | BV15: {=IF(ISBLANK(AW15),"0",IF($AZ15<2,"0",_xlfn.CEILING.MATH(AY15/الفرضيات!$H$4*(1+MAX(_xlfn.CHOOSECOLS(_xlfn._xlws.FILTER($I$4:$AT$335,$K$4:$K$335=AW15),36))))))} -> 0 | BW15: =IF(ISBLANK(L15),"0",IF(S15<3,"0",(V15*(R15-AG15)/الفرضيات!$H$2*(1+AR15)))) -> 0 | BX15: =IF(ISBLANK(L15),"0",_xlfn.CEILING.MATH(Y15)) -> 0 | BY15: =IF(ISBLANK(AW15),"0",_xlfn.CEILING.MATH(BE15)) -> 0 | BZ15: =IF(ISBLANK(AW15),"0",IF($AZ15<3,"0",CC15+CD15)) -> 0 | CA15: =IF(ISBLANK(L15),"0",_xlfn.CEILING.MATH(AF15)) -> 0 | CB15: =IF(ISBLANK(L15),"0",_xlfn.CEILING.MATH(AB15)) -> 0 | CC15: {=IF(ISBLANK(AW15),"0",IF($AZ15<3,"0",_xlfn.CEILING.MATH(AX15/الفرضيات!$H$3*(1+MAX(_xlfn.CHOOSECOLS(_xlfn._xlws.FILTER($I$4:$AT$335,$K$4:$K$335=AW15),36))))))} -> 0 | CD15: {=IF(ISBLANK(AW15),"0",IF($AZ15<3,"0",_xlfn.CEILING.MATH(AY15/الفرضيات!$H$4*(1+MAX(_xlfn.CHOOSECOLS(_xlfn._xlws.FILTER($I$4:$AT$335,$K$4:$K$335=AW15),36))))))} -> 0 | CE15: =IFERROR(MAX(0,((BG15+BO15+BW15)*(1+AS15+AR15)+(BH15+BI15+BJ15+BL15+BP15+BQ15+BR15+BT15+BX15+BY15+BZ15+CB15)*(1+AS15))*(1+ VLOOKUP(AQ15,الفرضيات!$N$1:$O$11,2,0))-AH15),0) -> 0 | CF15: =IFERROR(BK15+BS15+CA15,0) -> 0 | CG15: {=IFERROR(MAX(0,MAX(BM15,BU15,CC15)*(1+VLOOKUP(MAX(_xlfn.CHOOSECOLS(_xlfn._xlws.FILTER($I$4:$AT$335,$K$4:$K$335=AW15),35)),الفرضيات!$N$2:$O$11,2,0))-BA15),0)} -> 0 | CH15: {=IFERROR(MAX(0,MAX(BN15,BV15,CD15)*(1+VLOOKUP(MAX(_xlfn.CHOOSECOLS(_xlfn._xlws.FILTER($I$4:$AT$335,$K$4:$K$335=AW15),35)),الفرضيات!$N$2:$O$11,2,0))-BB15),0)} -> 0
AQ16: =IFERROR( IF(AND(AM16<>0,AL16<>0,AK16<>0), VLOOKUP(AL16,$B$45:$C$48,2,0)*VLOOKUP(AM16,$B$45:$C$48,2,0)*VLOOKUP(AK16,$B$45:$C$48,2,0), VLOOKUP(AO16,$B$45:$C$48,2,0)*VLOOKUP(AP16,$B$45:$C$48,2,0)*VLOOKUP(AN16,$B$45:$C$48,2,0)),"") | AR16: =IF(AQ16="","",(LOOKUP(SUM(N16:O16),الفرضيات!$R$2:$R$9, الفرضيات!$S$2:$S$9))) | AS16: =IF(ISBLANK(L16),"",الفرضيات!$L$2) | BG16: =IF(ISBLANK(L16),"0",T16*(R16-AG16)/الفرضيات!$H$2*(1+AR16)) -> 0 | BH16: =IF(ISBLANK(L16),"0",_xlfn.CEILING.MATH(W16)) -> 0 | BI16: =IF(ISBLANK(AW16),"0",_xlfn.CEILING.MATH(BC16)) -> 0 | BJ16: =IF(ISBLANK(AW16),"0",BM16+BN16) -> 0 | BK16: =IF(ISBLANK(L16),"0",_xlfn.CEILING.MATH(AD16)) -> 0 | BL16: =IF(ISBLANK(L16),"0",_xlfn.CEILING.MATH(Z16)) -> 0 | BM16: {=IF(ISBLANK(AW16),"0",_xlfn.CEILING.MATH(AX16/الفرضيات!$H$3*(1+MAX(_xlfn.CHOOSECOLS(_xlfn._xlws.FILTER($I$4:$AT$335,$K$4:$K$335=AW16),36)))))} -> 0 | BN16: {=IF(ISBLANK(AW16),"0",_xlfn.CEILING.MATH(AY16/الفرضيات!$H$4*(1+MAX(_xlfn.CHOOSECOLS(_xlfn._xlws.FILTER($I$4:$AT$335,$K$4:$K$335=AW16),36)))))} -> 0 | BO16: =IF(ISBLANK(L16),"0",IF(S16<2,"0",(U16*(R16-AG16)/الفرضيات!$H$2*(1+AR16)))) -> 0 | BP16: =IF(ISBLANK(L16),"0",_xlfn.CEILING.MATH(X16)) -> 0 | BQ16: =IF(ISBLANK(AW16),"0",_xlfn.CEILING.MATH(BD16)) -> 0 | BR16: =IF(ISBLANK(AW16),"0",IF($AZ16<2,"0",BU16+BV16)) -> 0 | BS16: =IF(ISBLANK(L16),"0",_xlfn.CEILING.MATH(AE16)) -> 0 | BT16: =IF(ISBLANK(L16),"0",_xlfn.CEILING.MATH(AA16)) -> 0 | BU16: {=IF(ISBLANK(AW16),"0",IF($AZ16<2,"0",_xlfn.CEILING.MATH(AX16/الفرضيات!$H$3*(1+MAX(_xlfn.CHOOSECOLS(_xlfn._xlws.FILTER($I$4:$AT$335,$K$4:$K$335=AW16),36))))))} -> 0 | BV16: {=IF(ISBLANK(AW16),"0",IF($AZ16<2,"0",_xlfn.CEILING.MATH(AY16/الفرضيات!$H$4*(1+MAX(_xlfn.CHOOSECOLS(_xlfn._xlws.FILTER($I$4:$AT$335,$K$4:$K$335=AW16),36))))))} -> 0 | BW16: =IF(ISBLANK(L16),"0",IF(S16<3,"0",(V16*(R16-AG16)/الفرضيات!$H$2*(1+AR16)))) -> 0 | BX16: =IF(ISBLANK(L16),"0",_xlfn.CEILING.MATH(Y16)) -> 0 | BY16: =IF(ISBLANK(AW16),"0",_xlfn.CEILING.MATH(BE16)) -> 0 | BZ16: =IF(ISBLANK(AW16),"0",IF($AZ16<3,"0",CC16+CD16)) -> 0 | CA16: =IF(ISBLANK(L16),"0",_xlfn.CEILING.MATH(AF16)) -> 0 | CB16: =IF(ISBLANK(L16),"0",_xlfn.CEILING.MATH(AB16)) -> 0 | CC16: {=IF(ISBLANK(AW16),"0",IF($AZ16<3,"0",_xlfn.CEILING.MATH(AX16/الفرضيات!$H$3*(1+MAX(_xlfn.CHOOSECOLS(_xlfn._xlws.FILTER($I$4:$AT$335,$K$4:$K$335=AW16),36))))))} -> 0 | CD16: {=IF(ISBLANK(AW16),"0",IF($AZ16<3,"0",_xlfn.CEILING.MATH(AY16/الفرضيات!$H$4*(1+MAX(_xlfn.CHOOSECOLS(_xlfn._xlws.FILTER($I$4:$AT$335,$K$4:$K$335=AW16),36))))))} -> 0 | CE16: =IFERROR(MAX(0,((BG16+BO16+BW16)*(1+AS16+AR16)+(BH16+BI16+BJ16+BL16+BP16+BQ16+BR16+BT16+BX16+BY16+BZ16+CB16)*(1+AS16))*(1+ VLOOKUP(AQ16,الفرضيات!$N$1:$O$11,2,0))-AH16),0) -> 0 | CF16: =IFERROR(BK16+BS16+CA16,0) -> 0 | CG16: {=IFERROR(MAX(0,MAX(BM16,BU16,CC16)*(1+VLOOKUP(MAX(_xlfn.CHOOSECOLS(_xlfn._xlws.FILTER($I$4:$AT$335,$K$4:$K$335=AW16),35)),الفرضيات!$N$2:$O$11,2,0))-BA16),0)} -> 0 | CH16: {=IFERROR(MAX(0,MAX(BN16,BV16,CD16)*(1+VLOOKUP(MAX(_xlfn.CHOOSECOLS(_xlfn._xlws.FILTER($I$4:$AT$335,$K$4:$K$335=AW16),35)),الفرضيات!$N$2:$O$11,2,0))-BB16),0)} -> 0
AQ17: =IFERROR( IF(AND(AM17<>0,AL17<>0,AK17<>0), VLOOKUP(AL17,$B$45:$C$48,2,0)*VLOOKUP(AM17,$B$45:$C$48,2,0)*VLOOKUP(AK17,$B$45:$C$48,2,0), VLOOKUP(AO17,$B$45:$C$48,2,0)*VLOOKUP(AP17,$B$45:$C$48,2,0)*VLOOKUP(AN17,$B$45:$C$48,2,0)),"") | AR17: =IF(AQ17="","",(LOOKUP(SUM(N17:O17),الفرضيات!$R$2:$R$9, الفرضيات!$S$2:$S$9))) | AS17: =IF(ISBLANK(L17),"",الفرضيات!$L$2) | BG17: =IF(ISBLANK(L17),"0",T17*(R17-AG17)/الفرضيات!$H$2*(1+AR17)) -> 0 | BH17: =IF(ISBLANK(L17),"0",_xlfn.CEILING.MATH(W17)) -> 0 | BI17: =IF(ISBLANK(AW17),"0",_xlfn.CEILING.MATH(BC17)) -> 0 | BJ17: =IF(ISBLANK(AW17),"0",BM17+BN17) -> 0 | BK17: =IF(ISBLANK(L17),"0",_xlfn.CEILING.MATH(AD17)) -> 0 | BL17: =IF(ISBLANK(L17),"0",_xlfn.CEILING.MATH(Z17)) -> 0 | BM17: {=IF(ISBLANK(AW17),"0",_xlfn.CEILING.MATH(AX17/الفرضيات!$H$3*(1+MAX(_xlfn.CHOOSECOLS(_xlfn._xlws.FILTER($I$4:$AT$335,$K$4:$K$335=AW17),36)))))} -> 0 | BN17: {=IF(ISBLANK(AW17),"0",_xlfn.CEILING.MATH(AY17/الفرضيات!$H$4*(1+MAX(_xlfn.CHOOSECOLS(_xlfn._xlws.FILTER($I$4:$AT$335,$K$4:$K$335=AW17),36)))))} -> 0 | BO17: =IF(ISBLANK(L17),"0",IF(S17<2,"0",(U17*(R17-AG17)/الفرضيات!$H$2*(1+AR17)))) -> 0 | BP17: =IF(ISBLANK(L17),"0",_xlfn.CEILING.MATH(X17)) -> 0 | BQ17: =IF(ISBLANK(AW17),"0",_xlfn.CEILING.MATH(BD17)) -> 0 | BR17: =IF(ISBLANK(AW17),"0",IF($AZ17<2,"0",BU17+BV17)) -> 0 | BS17: =IF(ISBLANK(L17),"0",_xlfn.CEILING.MATH(AE17)) -> 0 | BT17: =IF(ISBLANK(L17),"0",_xlfn.CEILING.MATH(AA17)) -> 0 | BU17: {=IF(ISBLANK(AW17),"0",IF($AZ17<2,"0",_xlfn.CEILING.MATH(AX17/الفرضيات!$H$3*(1+MAX(_xlfn.CHOOSECOLS(_xlfn._xlws.FILTER($I$4:$AT$335,$K$4:$K$335=AW17),36))))))} -> 0 | BV17: {=IF(ISBLANK(AW17),"0",IF($AZ17<2,"0",_xlfn.CEILING.MATH(AY17/الفرضيات!$H$4*(1+MAX(_xlfn.CHOOSECOLS(_xlfn._xlws.FILTER($I$4:$AT$335,$K$4:$K$335=AW17),36))))))} -> 0 | BW17: =IF(ISBLANK(L17),"0",IF(S17<3,"0",(V17*(R17-AG17)/الفرضيات!$H$2*(1+AR17)))) -> 0 | BX17: =IF(ISBLANK(L17),"0",_xlfn.CEILING.MATH(Y17)) -> 0 | BY17: =IF(ISBLANK(AW17),"0",_xlfn.CEILING.MATH(BE17)) -> 0 | BZ17: =IF(ISBLANK(AW17),"0",IF($AZ17<3,"0",CC17+CD17)) -> 0 | CA17: =IF(ISBLANK(L17),"0",_xlfn.CEILING.MATH(AF17)) -> 0 | CB17: =IF(ISBLANK(L17),"0",_xlfn.CEILING.MATH(AB17)) -> 0 | CC17: {=IF(ISBLANK(AW17),"0",IF($AZ17<3,"0",_xlfn.CEILING.MATH(AX17/الفرضيات!$H$3*(1+MAX(_xlfn.CHOOSECOLS(_xlfn._xlws.FILTER($I$4:$AT$335,$K$4:$K$335=AW17),36))))))} -> 0 | CD17: {=IF(ISBLANK(AW17),"0",IF($AZ17<3,"0",_xlfn.CEILING.MATH(AY17/الفرضيات!$H$4*(1+MAX(_xlfn.CHOOSECOLS(_xlfn._xlws.FILTER($I$4:$AT$335,$K$4:$K$335=AW17),36))))))} -> 0 | CE17: =IFERROR(MAX(0,((BG17+BO17+BW17)*(1+AS17+AR17)+(BH17+BI17+BJ17+BL17+BP17+BQ17+BR17+BT17+BX17+BY17+BZ17+CB17)*(1+AS17))*(1+ VLOOKUP(AQ17,الفرضيات!$N$1:$O$11,2,0))-AH17),0) -> 0 | CF17: =IFERROR(BK17+BS17+CA17,0) -> 0 | CG17: {=IFERROR(MAX(0,MAX(BM17,BU17,CC17)*(1+VLOOKUP(MAX(_xlfn.CHOOSECOLS(_xlfn._xlws.FILTER($I$4:$AT$335,$K$4:$K$335=AW17),35)),الفرضيات!$N$2:$O$11,2,0))-BA17),0)} -> 0 | CH17: {=IFERROR(MAX(0,MAX(BN17,BV17,CD17)*(1+VLOOKUP(MAX(_xlfn.CHOOSECOLS(_xlfn._xlws.FILTER($I$4:$AT$335,$K$4:$K$335=AW17),35)),الفرضيات!$N$2:$O$11,2,0))-BB17),0)} -> 0
AQ18: =IFERROR( IF(AND(AM18<>0,AL18<>0,AK18<>0), VLOOKUP(AL18,$B$45:$C$48,2,0)*VLOOKUP(AM18,$B$45:$C$48,2,0)*VLOOKUP(AK18,$B$45:$C$48,2,0), VLOOKUP(AO18,$B$45:$C$48,2,0)*VLOOKUP(AP18,$B$45:$C$48,2,0)*VLOOKUP(AN18,$B$45:$C$48,2,0)),"") | AR18: =IF(AQ18="","",(LOOKUP(SUM(N18:O18),الفرضيات!$R$2:$R$9, الفرضيات!$S$2:$S$9))) | AS18: =IF(ISBLANK(L18),"",الفرضيات!$L$2) | BG18: =IF(ISBLANK(L18),"0",T18*(R18-AG18)/الفرضيات!$H$2*(1+AR18)) -> 0 | BH18: =IF(ISBLANK(L18),"0",_xlfn.CEILING.MATH(W18)) -> 0 | BI18: =IF(ISBLANK(AW18),"0",_xlfn.CEILING.MATH(BC18)) -> 0 | BJ18: =IF(ISBLANK(AW18),"0",BM18+BN18) -> 0 | BK18: =IF(ISBLANK(L18),"0",_xlfn.CEILING.MATH(AD18)) -> 0 | BL18: =IF(ISBLANK(L18),"0",_xlfn.CEILING.MATH(Z18)) -> 0 | BM18: {=IF(ISBLANK(AW18),"0",_xlfn.CEILING.MATH(AX18/الفرضيات!$H$3*(1+MAX(_xlfn.CHOOSECOLS(_xlfn._xlws.FILTER($I$4:$AT$335,$K$4:$K$335=AW18),36)))))} -> 0 | BN18: {=IF(ISBLANK(AW18),"0",_xlfn.CEILING.MATH(AY18/الفرضيات!$H$4*(1+MAX(_xlfn.CHOOSECOLS(_xlfn._xlws.FILTER($I$4:$AT$335,$K$4:$K$335=AW18),36)))))} -> 0 | BO18: =IF(ISBLANK(L18),"0",IF(S18<2,"0",(U18*(R18-AG18)/الفرضيات!$H$2*(1+AR18)))) -> 0 | BP18: =IF(ISBLANK(L18),"0",_xlfn.CEILING.MATH(X18)) -> 0 | BQ18: =IF(ISBLANK(AW18),"0",_xlfn.CEILING.MATH(BD18)) -> 0 | BR18: =IF(ISBLANK(AW18),"0",IF($AZ18<2,"0",BU18+BV18)) -> 0 | BS18: =IF(ISBLANK(L18),"0",_xlfn.CEILING.MATH(AE18)) -> 0 | BT18: =IF(ISBLANK(L18),"0",_xlfn.CEILING.MATH(AA18)) -> 0 | BU18: {=IF(ISBLANK(AW18),"0",IF($AZ18<2,"0",_xlfn.CEILING.MATH(AX18/الفرضيات!$H$3*(1+MAX(_xlfn.CHOOSECOLS(_xlfn._xlws.FILTER($I$4:$AT$335,$K$4:$K$335=AW18),36))))))} -> 0 | BV18: {=IF(ISBLANK(AW18),"0",IF($AZ18<2,"0",_xlfn.CEILING.MATH(AY18/الفرضيات!$H$4*(1+MAX(_xlfn.CHOOSECOLS(_xlfn._xlws.FILTER($I$4:$AT$335,$K$4:$K$335=AW18),36))))))} -> 0 | BW18: =IF(ISBLANK(L18),"0",IF(S18<3,"0",(V18*(R18-AG18)/الفرضيات!$H$2*(1+AR18)))) -> 0 | BX18: =IF(ISBLANK(L18),"0",_xlfn.CEILING.MATH(Y18)) -> 0 | BY18: =IF(ISBLANK(AW18),"0",_xlfn.CEILING.MATH(BE18)) -> 0 | BZ18: =IF(ISBLANK(AW18),"0",IF($AZ18<3,"0",CC18+CD18)) -> 0 | CA18: =IF(ISBLANK(L18),"0",_xlfn.CEILING.MATH(AF18)) -> 0 | CB18: =IF(ISBLANK(L18),"0",_xlfn.CEILING.MATH(AB18)) -> 0 | CC18: {=IF(ISBLANK(AW18),"0",IF($AZ18<3,"0",_xlfn.CEILING.MATH(AX18/الفرضيات!$H$3*(1+MAX(_xlfn.CHOOSECOLS(_xlfn._xlws.FILTER($I$4:$AT$335,$K$4:$K$335=AW18),36))))))} -> 0 | CD18: {=IF(ISBLANK(AW18),"0",IF($AZ18<3,"0",_xlfn.CEILING.MATH(AY18/الفرضيات!$H$4*(1+MAX(_xlfn.CHOOSECOLS(_xlfn._xlws.FILTER($I$4:$AT$335,$K$4:$K$335=AW18),36))))))} -> 0 | CE18: =IFERROR(MAX(0,((BG18+BO18+BW18)*(1+AS18+AR18)+(BH18+BI18+BJ18+BL18+BP18+BQ18+BR18+BT18+BX18+BY18+BZ18+CB18)*(1+AS18))*(1+ VLOOKUP(AQ18,الفرضيات!$N$1:$O$11,2,0))-AH18),0) -> 0 | CF18: =IFERROR(BK18+BS18+CA18,0) -> 0 | CG18: {=IFERROR(MAX(0,MAX(BM18,BU18,CC18)*(1+VLOOKUP(MAX(_xlfn.CHOOSECOLS(_xlfn._xlws.FILTER($I$4:$AT$335,$K$4:$K$335=AW18),35)),الفرضيات!$N$2:$O$11,2,0))-BA18),0)} -> 0 | CH18: {=IFERROR(MAX(0,MAX(BN18,BV18,CD18)*(1+VLOOKUP(MAX(_xlfn.CHOOSECOLS(_xlfn._xlws.FILTER($I$4:$AT$335,$K$4:$K$335=AW18),35)),الفرضيات!$N$2:$O$11,2,0))-BB18),0)} -> 0
B19: سنوات العقد | AQ19: =IFERROR( IF(AND(AM19<>0,AL19<>0,AK19<>0), VLOOKUP(AL19,$B$45:$C$48,2,0)*VLOOKUP(AM19,$B$45:$C$48,2,0)*VLOOKUP(AK19,$B$45:$C$48,2,0), VLOOKUP(AO19,$B$45:$C$48,2,0)*VLOOKUP(AP19,$B$45:$C$48,2,0)*VLOOKUP(AN19,$B$45:$C$48,2,0)),"") | AR19: =IF(AQ19="","",(LOOKUP(SUM(N19:O19),الفرضيات!$R$2:$R$9, الفرضيات!$S$2:$S$9))) | AS19: =IF(ISBLANK(L19),"",الفرضيات!$L$2) | BG19: =IF(ISBLANK(L19),"0",T19*(R19-AG19)/الفرضيات!$H$2*(1+AR19)) -> 0 | BH19: =IF(ISBLANK(L19),"0",_xlfn.CEILING.MATH(W19)) -> 0 | BI19: =IF(ISBLANK(AW19),"0",_xlfn.CEILING.MATH(BC19)) -> 0 | BJ19: =IF(ISBLANK(AW19),"0",BM19+BN19) -> 0 | BK19: =IF(ISBLANK(L19),"0",_xlfn.CEILING.MATH(AD19)) -> 0 | BL19: =IF(ISBLANK(L19),"0",_xlfn.CEILING.MATH(Z19)) -> 0 | BM19: {=IF(ISBLANK(AW19),"0",_xlfn.CEILING.MATH(AX19/الفرضيات!$H$3*(1+MAX(_xlfn.CHOOSECOLS(_xlfn._xlws.FILTER($I$4:$AT$335,$K$4:$K$335=AW19),36)))))} -> 0 | BN19: {=IF(ISBLANK(AW19),"0",_xlfn.CEILING.MATH(AY19/الفرضيات!$H$4*(1+MAX(_xlfn.CHOOSECOLS(_xlfn._xlws.FILTER($I$4:$AT$335,$K$4:$K$335=AW19),36)))))} -> 0 | BO19: =IF(ISBLANK(L19),"0",IF(S19<2,"0",(U19*(R19-AG19)/الفرضيات!$H$2*(1+AR19)))) -> 0 | BP19: =IF(ISBLANK(L19),"0",_xlfn.CEILING.MATH(X19)) -> 0 | BQ19: =IF(ISBLANK(AW19),"0",_xlfn.CEILING.MATH(BD19)) -> 0 | BR19: =IF(ISBLANK(AW19),"0",IF($AZ19<2,"0",BU19+BV19)) -> 0 | BS19: =IF(ISBLANK(L19),"0",_xlfn.CEILING.MATH(AE19)) -> 0 | BT19: =IF(ISBLANK(L19),"0",_xlfn.CEILING.MATH(AA19)) -> 0 | BU19: {=IF(ISBLANK(AW19),"0",IF($AZ19<2,"0",_xlfn.CEILING.MATH(AX19/الفرضيات!$H$3*(1+MAX(_xlfn.CHOOSECOLS(_xlfn._xlws.FILTER($I$4:$AT$335,$K$4:$K$335=AW19),36))))))} -> 0 | BV19: {=IF(ISBLANK(AW19),"0",IF($AZ19<2,"0",_xlfn.CEILING.MATH(AY19/الفرضيات!$H$4*(1+MAX(_xlfn.CHOOSECOLS(_xlfn._xlws.FILTER($I$4:$AT$335,$K$4:$K$335=AW19),36))))))} -> 0 | BW19: =IF(ISBLANK(L19),"0",IF(S19<3,"0",(V19*(R19-AG19)/الفرضيات!$H$2*(1+AR19)))) -> 0 | BX19: =IF(ISBLANK(L19),"0",_xlfn.CEILING.MATH(Y19)) -> 0 | BY19: =IF(ISBLANK(AW19),"0",_xlfn.CEILING.MATH(BE19)) -> 0 | BZ19: =IF(ISBLANK(AW19),"0",IF($AZ19<3,"0",CC19+CD19)) -> 0 | CA19: =IF(ISBLANK(L19),"0",_xlfn.CEILING.MATH(AF19)) -> 0 | CB19: =IF(ISBLANK(L19),"0",_xlfn.CEILING.MATH(AB19)) -> 0 | CC19: {=IF(ISBLANK(AW19),"0",IF($AZ19<3,"0",_xlfn.CEILING.MATH(AX19/الفرضيات!$H$3*(1+MAX(_xlfn.CHOOSECOLS(_xlfn._xlws.FILTER($I$4:$AT$335,$K$4:$K$335=AW19),36))))))} -> 0 | CD19: {=IF(ISBLANK(AW19),"0",IF($AZ19<3,"0",_xlfn.CEILING.MATH(AY19/الفرضيات!$H$4*(1+MAX(_xlfn.CHOOSECOLS(_xlfn._xlws.FILTER($I$4:$AT$335,$K$4:$K$335=AW19),36))))))} -> 0 | CE19: =IFERROR(MAX(0,((BG19+BO19+BW19)*(1+AS19+AR19)+(BH19+BI19+BJ19+BL19+BP19+BQ19+BR19+BT19+BX19+BY19+BZ19+CB19)*(1+AS19))*(1+ VLOOKUP(AQ19,الفرضيات!$N$1:$O$11,2,0))-AH19),0) -> 0 | CF19: =IFERROR(BK19+BS19+CA19,0) -> 0 | CG19: {=IFERROR(MAX(0,MAX(BM19,BU19,CC19)*(1+VLOOKUP(MAX(_xlfn.CHOOSECOLS(_xlfn._xlws.FILTER($I$4:$AT$335,$K$4:$K$335=AW19),35)),الفرضيات!$N$2:$O$11,2,0))-BA19),0)} -> 0 | CH19: {=IFERROR(MAX(0,MAX(BN19,BV19,CD19)*(1+VLOOKUP(MAX(_xlfn.CHOOSECOLS(_xlfn._xlws.FILTER($I$4:$AT$335,$K$4:$K$335=AW19),35)),الفرضيات!$N$2:$O$11,2,0))-BB19),0)} -> 0
B20: =IF('الصفحة الرئيسية '!$E$11>=1,1,"") | AQ20: =IFERROR( IF(AND(AM20<>0,AL20<>0,AK20<>0), VLOOKUP(AL20,$B$45:$C$48,2,0)*VLOOKUP(AM20,$B$45:$C$48,2,0)*VLOOKUP(AK20,$B$45:$C$48,2,0), VLOOKUP(AO20,$B$45:$C$48,2,0)*VLOOKUP(AP20,$B$45:$C$48,2,0)*VLOOKUP(AN20,$B$45:$C$48,2,0)),"") | AR20: =IF(AQ20="","",(LOOKUP(SUM(N20:O20),الفرضيات!$R$2:$R$9, الفرضيات!$S$2:$S$9))) | AS20: =IF(ISBLANK(L20),"",الفرضيات!$L$2) | BG20: =IF(ISBLANK(L20),"0",T20*(R20-AG20)/الفرضيات!$H$2*(1+AR20)) -> 0 | BH20: =IF(ISBLANK(L20),"0",_xlfn.CEILING.MATH(W20)) -> 0 | BI20: =IF(ISBLANK(AW20),"0",_xlfn.CEILING.MATH(BC20)) -> 0 | BJ20: =IF(ISBLANK(AW20),"0",BM20+BN20) -> 0 | BK20: =IF(ISBLANK(L20),"0",_xlfn.CEILING.MATH(AD20)) -> 0 | BL20: =IF(ISBLANK(L20),"0",_xlfn.CEILING.MATH(Z20)) -> 0 | BM20: {=IF(ISBLANK(AW20),"0",_xlfn.CEILING.MATH(AX20/الفرضيات!$H$3*(1+MAX(_xlfn.CHOOSECOLS(_xlfn._xlws.FILTER($I$4:$AT$335,$K$4:$K$335=AW20),36)))))} -> 0 | BN20: {=IF(ISBLANK(AW20),"0",_xlfn.CEILING.MATH(AY20/الفرضيات!$H$4*(1+MAX(_xlfn.CHOOSECOLS(_xlfn._xlws.FILTER($I$4:$AT$335,$K$4:$K$335=AW20),36)))))} -> 0 | BO20: =IF(ISBLANK(L20),"0",IF(S20<2,"0",(U20*(R20-AG20)/الفرضيات!$H$2*(1+AR20)))) -> 0 | BP20: =IF(ISBLANK(L20),"0",_xlfn.CEILING.MATH(X20)) -> 0 | BQ20: =IF(ISBLANK(AW20),"0",_xlfn.CEILING.MATH(BD20)) -> 0 | BR20: =IF(ISBLANK(AW20),"0",IF($AZ20<2,"0",BU20+BV20)) -> 0 | BS20: =IF(ISBLANK(L20),"0",_xlfn.CEILING.MATH(AE20)) -> 0 | BT20: =IF(ISBLANK(L20),"0",_xlfn.CEILING.MATH(AA20)) -> 0 | BU20: {=IF(ISBLANK(AW20),"0",IF($AZ20<2,"0",_xlfn.CEILING.MATH(AX20/الفرضيات!$H$3*(1+MAX(_xlfn.CHOOSECOLS(_xlfn._xlws.FILTER($I$4:$AT$335,$K$4:$K$335=AW20),36))))))} -> 0 | BV20: {=IF(ISBLANK(AW20),"0",IF($AZ20<2,"0",_xlfn.CEILING.MATH(AY20/الفرضيات!$H$4*(1+MAX(_xlfn.CHOOSECOLS(_xlfn._xlws.FILTER($I$4:$AT$335,$K$4:$K$335=AW20),36))))))} -> 0 | BW20: =IF(ISBLANK(L20),"0",IF(S20<3,"0",(V20*(R20-AG20)/الفرضيات!$H$2*(1+AR20)))) -> 0 | BX20: =IF(ISBLANK(L20),"0",_xlfn.CEILING.MATH(Y20)) -> 0 | BY20: =IF(ISBLANK(AW20),"0",_xlfn.CEILING.MATH(BE20)) -> 0 | BZ20: =IF(ISBLANK(AW20),"0",IF($AZ20<3,"0",CC20+CD20)) -> 0 | CA20: =IF(ISBLANK(L20),"0",_xlfn.CEILING.MATH(AF20)) -> 0 | CB20: =IF(ISBLANK(L20),"0",_xlfn.CEILING.MATH(AB20)) -> 0 | CC20: {=IF(ISBLANK(AW20),"0",IF($AZ20<3,"0",_xlfn.CEILING.MATH(AX20/الفرضيات!$H$3*(1+MAX(_xlfn.CHOOSECOLS(_xlfn._xlws.FILTER($I$4:$AT$335,$K$4:$K$335=AW20),36))))))} -> 0 | CD20: {=IF(ISBLANK(AW20),"0",IF($AZ20<3,"0",_xlfn.CEILING.MATH(AY20/الفرضيات!$H$4*(1+MAX(_xlfn.CHOOSECOLS(_xlfn._xlws.FILTER($I$4:$AT$335,$K$4:$K$335=AW20),36))))))} -> 0 | CE20: =IFERROR(MAX(0,((BG20+BO20+BW20)*(1+AS20+AR20)+(BH20+BI20+BJ20+BL20+BP20+BQ20+BR20+BT20+BX20+BY20+BZ20+CB20)*(1+AS20))*(1+ VLOOKUP(AQ20,الفرضيات!$N$1:$O$11,2,0))-AH20),0) -> 0 | CF20: =IFERROR(BK20+BS20+CA20,0) -> 0 | CG20: {=IFERROR(MAX(0,MAX(BM20,BU20,CC20)*(1+VLOOKUP(MAX(_xlfn.CHOOSECOLS(_xlfn._xlws.FILTER($I$4:$AT$335,$K$4:$K$335=AW20),35)),الفرضيات!$N$2:$O$11,2,0))-BA20),0)} -> 0 | CH20: {=IFERROR(MAX(0,MAX(BN20,BV20,CD20)*(1+VLOOKUP(MAX(_xlfn.CHOOSECOLS(_xlfn._xlws.FILTER($I$4:$AT$335,$K$4:$K$335=AW20),35)),الفرضيات!$N$2:$O$11,2,0))-BB20),0)} -> 0
B21: =IF('الصفحة الرئيسية '!$E$11>=2,2,"") | AQ21: =IFERROR( IF(AND(AM21<>0,AL21<>0,AK21<>0), VLOOKUP(AL21,$B$45:$C$48,2,0)*VLOOKUP(AM21,$B$45:$C$48,2,0)*VLOOKUP(AK21,$B$45:$C$48,2,0), VLOOKUP(AO21,$B$45:$C$48,2,0)*VLOOKUP(AP21,$B$45:$C$48,2,0)*VLOOKUP(AN21,$B$45:$C$48,2,0)),"") | AR21: =IF(AQ21="","",(LOOKUP(SUM(N21:O21),الفرضيات!$R$2:$R$9, الفرضيات!$S$2:$S$9))) | AS21: =IF(ISBLANK(L21),"",الفرضيات!$L$2) | BG21: =IF(ISBLANK(L21),"0",T21*(R21-AG21)/الفرضيات!$H$2*(1+AR21)) -> 0 | BH21: =IF(ISBLANK(L21),"0",_xlfn.CEILING.MATH(W21)) -> 0 | BI21: =IF(ISBLANK(AW21),"0",_xlfn.CEILING.MATH(BC21)) -> 0 | BJ21: =IF(ISBLANK(AW21),"0",BM21+BN21) -> 0 | BK21: =IF(ISBLANK(L21),"0",_xlfn.CEILING.MATH(AD21)) -> 0 | BL21: =IF(ISBLANK(L21),"0",_xlfn.CEILING.MATH(Z21)) -> 0 | BM21: {=IF(ISBLANK(AW21),"0",_xlfn.CEILING.MATH(AX21/الفرضيات!$H$3*(1+MAX(_xlfn.CHOOSECOLS(_xlfn._xlws.FILTER($I$4:$AT$335,$K$4:$K$335=AW21),36)))))} -> 0 | BN21: {=IF(ISBLANK(AW21),"0",_xlfn.CEILING.MATH(AY21/الفرضيات!$H$4*(1+MAX(_xlfn.CHOOSECOLS(_xlfn._xlws.FILTER($I$4:$AT$335,$K$4:$K$335=AW21),36)))))} -> 0 | BO21: =IF(ISBLANK(L21),"0",IF(S21<2,"0",(U21*(R21-AG21)/الفرضيات!$H$2*(1+AR21)))) -> 0 | BP21: =IF(ISBLANK(L21),"0",_xlfn.CEILING.MATH(X21)) -> 0 | BQ21: =IF(ISBLANK(AW21),"0",_xlfn.CEILING.MATH(BD21)) -> 0 | BR21: =IF(ISBLANK(AW21),"0",IF($AZ21<2,"0",BU21+BV21)) -> 0 | BS21: =IF(ISBLANK(L21),"0",_xlfn.CEILING.MATH(AE21)) -> 0 | BT21: =IF(ISBLANK(L21),"0",_xlfn.CEILING.MATH(AA21)) -> 0 | BU21: {=IF(ISBLANK(AW21),"0",IF($AZ21<2,"0",_xlfn.CEILING.MATH(AX21/الفرضيات!$H$3*(1+MAX(_xlfn.CHOOSECOLS(_xlfn._xlws.FILTER($I$4:$AT$335,$K$4:$K$335=AW21),36))))))} -> 0 | BV21: {=IF(ISBLANK(AW21),"0",IF($AZ21<2,"0",_xlfn.CEILING.MATH(AY21/الفرضيات!$H$4*(1+MAX(_xlfn.CHOOSECOLS(_xlfn._xlws.FILTER($I$4:$AT$335,$K$4:$K$335=AW21),36))))))} -> 0 | BW21: =IF(ISBLANK(L21),"0",IF(S21<3,"0",(V21*(R21-AG21)/الفرضيات!$H$2*(1+AR21)))) -> 0 | BX21: =IF(ISBLANK(L21),"0",_xlfn.CEILING.MATH(Y21)) -> 0 | BY21: =IF(ISBLANK(AW21),"0",_xlfn.CEILING.MATH(BE21)) -> 0 | BZ21: =IF(ISBLANK(AW21),"0",IF($AZ21<3,"0",CC21+CD21)) -> 0 | CA21: =IF(ISBLANK(L21),"0",_xlfn.CEILING.MATH(AF21)) -> 0 | CB21: =IF(ISBLANK(L21),"0",_xlfn.CEILING.MATH(AB21)) -> 0 | CC21: {=IF(ISBLANK(AW21),"0",IF($AZ21<3,"0",_xlfn.CEILING.MATH(AX21/الفرضيات!$H$3*(1+MAX(_xlfn.CHOOSECOLS(_xlfn._xlws.FILTER($I$4:$AT$335,$K$4:$K$335=AW21),36))))))} -> 0 | CD21: {=IF(ISBLANK(AW21),"0",IF($AZ21<3,"0",_xlfn.CEILING.MATH(AY21/الفرضيات!$H$4*(1+MAX(_xlfn.CHOOSECOLS(_xlfn._xlws.FILTER($I$4:$AT$335,$K$4:$K$335=AW21),36))))))} -> 0 | CE21: =IFERROR(MAX(0,((BG21+BO21+BW21)*(1+AS21+AR21)+(BH21+BI21+BJ21+BL21+BP21+BQ21+BR21+BT21+BX21+BY21+BZ21+CB21)*(1+AS21))*(1+ VLOOKUP(AQ21,الفرضيات!$N$1:$O$11,2,0))-AH21),0) -> 0 | CF21: =IFERROR(BK21+BS21+CA21,0) -> 0 | CG21: {=IFERROR(MAX(0,MAX(BM21,BU21,CC21)*(1+VLOOKUP(MAX(_xlfn.CHOOSECOLS(_xlfn._xlws.FILTER($I$4:$AT$335,$K$4:$K$335=AW21),35)),الفرضيات!$N$2:$O$11,2,0))-BA21),0)} -> 0 | CH21: {=IFERROR(MAX(0,MAX(BN21,BV21,CD21)*(1+VLOOKUP(MAX(_xlfn.CHOOSECOLS(_xlfn._xlws.FILTER($I$4:$AT$335,$K$4:$K$335=AW21),35)),الفرضيات!$N$2:$O$11,2,0))-BB21),0)} -> 0
B22: =IF('الصفحة الرئيسية '!$E$11>=3,3,"") | AQ22: =IFERROR( IF(AND(AM22<>0,AL22<>0,AK22<>0), VLOOKUP(AL22,$B$45:$C$48,2,0)*VLOOKUP(AM22,$B$45:$C$48,2,0)*VLOOKUP(AK22,$B$45:$C$48,2,0), VLOOKUP(AO22,$B$45:$C$48,2,0)*VLOOKUP(AP22,$B$45:$C$48,2,0)*VLOOKUP(AN22,$B$45:$C$48,2,0)),"") | AR22: =IF(AQ22="","",(LOOKUP(SUM(N22:O22),الفرضيات!$R$2:$R$9, الفرضيات!$S$2:$S$9))) | AS22: =IF(ISBLANK(L22),"",الفرضيات!$L$2) | BG22: =IF(ISBLANK(L22),"0",T22*(R22-AG22)/الفرضيات!$H$2*(1+AR22)) -> 0 | BH22: =IF(ISBLANK(L22),"0",_xlfn.CEILING.MATH(W22)) -> 0 | BI22: =IF(ISBLANK(AW22),"0",_xlfn.CEILING.MATH(BC22)) -> 0 | BJ22: =IF(ISBLANK(AW22),"0",BM22+BN22) -> 0 | BK22: =IF(ISBLANK(L22),"0",_xlfn.CEILING.MATH(AD22)) -> 0 | BL22: =IF(ISBLANK(L22),"0",_xlfn.CEILING.MATH(Z22)) -> 0 | BM22: {=IF(ISBLANK(AW22),"0",_xlfn.CEILING.MATH(AX22/الفرضيات!$H$3*(1+MAX(_xlfn.CHOOSECOLS(_xlfn._xlws.FILTER($I$4:$AT$335,$K$4:$K$335=AW22),36)))))} -> 0 | BN22: {=IF(ISBLANK(AW22),"0",_xlfn.CEILING.MATH(AY22/الفرضيات!$H$4*(1+MAX(_xlfn.CHOOSECOLS(_xlfn._xlws.FILTER($I$4:$AT$335,$K$4:$K$335=AW22),36)))))} -> 0 | BO22: =IF(ISBLANK(L22),"0",IF(S22<2,"0",(U22*(R22-AG22)/الفرضيات!$H$2*(1+AR22)))) -> 0 | BP22: =IF(ISBLANK(L22),"0",_xlfn.CEILING.MATH(X22)) -> 0 | BQ22: =IF(ISBLANK(AW22),"0",_xlfn.CEILING.MATH(BD22)) -> 0 | BR22: =IF(ISBLANK(AW22),"0",IF($AZ22<2,"0",BU22+BV22)) -> 0 | BS22: =IF(ISBLANK(L22),"0",_xlfn.CEILING.MATH(AE22)) -> 0 | BT22: =IF(ISBLANK(L22),"0",_xlfn.CEILING.MATH(AA22)) -> 0 | BU22: {=IF(ISBLANK(AW22),"0",IF($AZ22<2,"0",_xlfn.CEILING.MATH(AX22/الفرضيات!$H$3*(1+MAX(_xlfn.CHOOSECOLS(_xlfn._xlws.FILTER($I$4:$AT$335,$K$4:$K$335=AW22),36))))))} -> 0 | BV22: {=IF(ISBLANK(AW22),"0",IF($AZ22<2,"0",_xlfn.CEILING.MATH(AY22/الفرضيات!$H$4*(1+MAX(_xlfn.CHOOSECOLS(_xlfn._xlws.FILTER($I$4:$AT$335,$K$4:$K$335=AW22),36))))))} -> 0 | BW22: =IF(ISBLANK(L22),"0",IF(S22<3,"0",(V22*(R22-AG22)/الفرضيات!$H$2*(1+AR22)))) -> 0 | BX22: =IF(ISBLANK(L22),"0",_xlfn.CEILING.MATH(Y22)) -> 0 | BY22: =IF(ISBLANK(AW22),"0",_xlfn.CEILING.MATH(BE22)) -> 0 | BZ22: =IF(ISBLANK(AW22),"0",IF($AZ22<3,"0",CC22+CD22)) -> 0 | CA22: =IF(ISBLANK(L22),"0",_xlfn.CEILING.MATH(AF22)) -> 0 | CB22: =IF(ISBLANK(L22),"0",_xlfn.CEILING.MATH(AB22)) -> 0 | CC22: {=IF(ISBLANK(AW22),"0",IF($AZ22<3,"0",_xlfn.CEILING.MATH(AX22/الفرضيات!$H$3*(1+MAX(_xlfn.CHOOSECOLS(_xlfn._xlws.FILTER($I$4:$AT$335,$K$4:$K$335=AW22),36))))))} -> 0 | CD22: {=IF(ISBLANK(AW22),"0",IF($AZ22<3,"0",_xlfn.CEILING.MATH(AY22/الفرضيات!$H$4*(1+MAX(_xlfn.CHOOSECOLS(_xlfn._xlws.FILTER($I$4:$AT$335,$K$4:$K$335=AW22),36))))))} -> 0 | CE22: =IFERROR(MAX(0,((BG22+BO22+BW22)*(1+AS22+AR22)+(BH22+BI22+BJ22+BL22+BP22+BQ22+BR22+BT22+BX22+BY22+BZ22+CB22)*(1+AS22))*(1+ VLOOKUP(AQ22,الفرضيات!$N$1:$O$11,2,0))-AH22),0) -> 0 | CF22: =IFERROR(BK22+BS22+CA22,0) -> 0 | CG22: {=IFERROR(MAX(0,MAX(BM22,BU22,CC22)*(1+VLOOKUP(MAX(_xlfn.CHOOSECOLS(_xlfn._xlws.FILTER($I$4:$AT$335,$K$4:$K$335=AW22),35)),الفرضيات!$N$2:$O$11,2,0))-BA22),0)} -> 0 | CH22: {=IFERROR(MAX(0,MAX(BN22,BV22,CD22)*(1+VLOOKUP(MAX(_xlfn.CHOOSECOLS(_xlfn._xlws.FILTER($I$4:$AT$335,$K$4:$K$335=AW22),35)),الفرضيات!$N$2:$O$11,2,0))-BB22),0)} -> 0
B23: =IF('الصفحة الرئيسية '!$E$11>=4,4,"") | AQ23: =IFERROR( IF(AND(AM23<>0,AL23<>0,AK23<>0), VLOOKUP(AL23,$B$45:$C$48,2,0)*VLOOKUP(AM23,$B$45:$C$48,2,0)*VLOOKUP(AK23,$B$45:$C$48,2,0), VLOOKUP(AO23,$B$45:$C$48,2,0)*VLOOKUP(AP23,$B$45:$C$48,2,0)*VLOOKUP(AN23,$B$45:$C$48,2,0)),"") | AR23: =IF(AQ23="","",(LOOKUP(SUM(N23:O23),الفرضيات!$R$2:$R$9, الفرضيات!$S$2:$S$9))) | AS23: =IF(ISBLANK(L23),"",الفرضيات!$L$2) | BG23: =IF(ISBLANK(L23),"0",T23*(R23-AG23)/الفرضيات!$H$2*(1+AR23)) -> 0 | BH23: =IF(ISBLANK(L23),"0",_xlfn.CEILING.MATH(W23)) -> 0 | BI23: =IF(ISBLANK(AW23),"0",_xlfn.CEILING.MATH(BC23)) -> 0 | BJ23: =IF(ISBLANK(AW23),"0",BM23+BN23) -> 0 | BK23: =IF(ISBLANK(L23),"0",_xlfn.CEILING.MATH(AD23)) -> 0 | BL23: =IF(ISBLANK(L23),"0",_xlfn.CEILING.MATH(Z23)) -> 0 | BM23: {=IF(ISBLANK(AW23),"0",_xlfn.CEILING.MATH(AX23/الفرضيات!$H$3*(1+MAX(_xlfn.CHOOSECOLS(_xlfn._xlws.FILTER($I$4:$AT$335,$K$4:$K$335=AW23),36)))))} -> 0 | BN23: {=IF(ISBLANK(AW23),"0",_xlfn.CEILING.MATH(AY23/الفرضيات!$H$4*(1+MAX(_xlfn.CHOOSECOLS(_xlfn._xlws.FILTER($I$4:$AT$335,$K$4:$K$335=AW23),36)))))} -> 0 | BO23: =IF(ISBLANK(L23),"0",IF(S23<2,"0",(U23*(R23-AG23)/الفرضيات!$H$2*(1+AR23)))) -> 0 | BP23: =IF(ISBLANK(L23),"0",_xlfn.CEILING.MATH(X23)) -> 0 | BQ23: =IF(ISBLANK(AW23),"0",_xlfn.CEILING.MATH(BD23)) -> 0 | BR23: =IF(ISBLANK(AW23),"0",IF($AZ23<2,"0",BU23+BV23)) -> 0 | BS23: =IF(ISBLANK(L23),"0",_xlfn.CEILING.MATH(AE23)) -> 0 | BT23: =IF(ISBLANK(L23),"0",_xlfn.CEILING.MATH(AA23)) -> 0 | BU23: {=IF(ISBLANK(AW23),"0",IF($AZ23<2,"0",_xlfn.CEILING.MATH(AX23/الفرضيات!$H$3*(1+MAX(_xlfn.CHOOSECOLS(_xlfn._xlws.FILTER($I$4:$AT$335,$K$4:$K$335=AW23),36))))))} -> 0 | BV23: {=IF(ISBLANK(AW23),"0",IF($AZ23<2,"0",_xlfn.CEILING.MATH(AY23/الفرضيات!$H$4*(1+MAX(_xlfn.CHOOSECOLS(_xlfn._xlws.FILTER($I$4:$AT$335,$K$4:$K$335=AW23),36))))))} -> 0 | BW23: =IF(ISBLANK(L23),"0",IF(S23<3,"0",(V23*(R23-AG23)/الفرضيات!$H$2*(1+AR23)))) -> 0 | BX23: =IF(ISBLANK(L23),"0",_xlfn.CEILING.MATH(Y23)) -> 0 | BY23: =IF(ISBLANK(AW23),"0",_xlfn.CEILING.MATH(BE23)) -> 0 | BZ23: =IF(ISBLANK(AW23),"0",IF($AZ23<3,"0",CC23+CD23)) -> 0 | CA23: =IF(ISBLANK(L23),"0",_xlfn.CEILING.MATH(AF23)) -> 0 | CB23: =IF(ISBLANK(L23),"0",_xlfn.CEILING.MATH(AB23)) -> 0 | CC23: {=IF(ISBLANK(AW23),"0",IF($AZ23<3,"0",_xlfn.CEILING.MATH(AX23/الفرضيات!$H$3*(1+MAX(_xlfn.CHOOSECOLS(_xlfn._xlws.FILTER($I$4:$AT$335,$K$4:$K$335=AW23),36))))))} -> 0 | CD23: {=IF(ISBLANK(AW23),"0",IF($AZ23<3,"0",_xlfn.CEILING.MATH(AY23/الفرضيات!$H$4*(1+MAX(_xlfn.CHOOSECOLS(_xlfn._xlws.FILTER($I$4:$AT$335,$K$4:$K$335=AW23),36))))))} -> 0 | CE23: =IFERROR(MAX(0,((BG23+BO23+BW23)*(1+AS23+AR23)+(BH23+BI23+BJ23+BL23+BP23+BQ23+BR23+BT23+BX23+BY23+BZ23+CB23)*(1+AS23))*(1+ VLOOKUP(AQ23,الفرضيات!$N$1:$O$11,2,0))-AH23),0) -> 0 | CF23: =IFERROR(BK23+BS23+CA23,0) -> 0 | CG23: {=IFERROR(MAX(0,MAX(BM23,BU23,CC23)*(1+VLOOKUP(MAX(_xlfn.CHOOSECOLS(_xlfn._xlws.FILTER($I$4:$AT$335,$K$4:$K$335=AW23),35)),الفرضيات!$N$2:$O$11,2,0))-BA23),0)} -> 0 | CH23: {=IFERROR(MAX(0,MAX(BN23,BV23,CD23)*(1+VLOOKUP(MAX(_xlfn.CHOOSECOLS(_xlfn._xlws.FILTER($I$4:$AT$335,$K$4:$K$335=AW23),35)),الفرضيات!$N$2:$O$11,2,0))-BB23),0)} -> 0
B24: =IF('الصفحة الرئيسية '!$E$11>=5,5,"") | AQ24: =IFERROR( IF(AND(AM24<>0,AL24<>0,AK24<>0), VLOOKUP(AL24,$B$45:$C$48,2,0)*VLOOKUP(AM24,$B$45:$C$48,2,0)*VLOOKUP(AK24,$B$45:$C$48,2,0), VLOOKUP(AO24,$B$45:$C$48,2,0)*VLOOKUP(AP24,$B$45:$C$48,2,0)*VLOOKUP(AN24,$B$45:$C$48,2,0)),"") | AR24: =IF(AQ24="","",(LOOKUP(SUM(N24:O24),الفرضيات!$R$2:$R$9, الفرضيات!$S$2:$S$9))) | AS24: =IF(ISBLANK(L24),"",الفرضيات!$L$2) | BG24: =IF(ISBLANK(L24),"0",T24*(R24-AG24)/الفرضيات!$H$2*(1+AR24)) -> 0 | BH24: =IF(ISBLANK(L24),"0",_xlfn.CEILING.MATH(W24)) -> 0 | BI24: =IF(ISBLANK(AW24),"0",_xlfn.CEILING.MATH(BC24)) -> 0 | BJ24: =IF(ISBLANK(AW24),"0",BM24+BN24) -> 0 | BK24: =IF(ISBLANK(L24),"0",_xlfn.CEILING.MATH(AD24)) -> 0 | BL24: =IF(ISBLANK(L24),"0",_xlfn.CEILING.MATH(Z24)) -> 0 | BM24: {=IF(ISBLANK(AW24),"0",_xlfn.CEILING.MATH(AX24/الفرضيات!$H$3*(1+MAX(_xlfn.CHOOSECOLS(_xlfn._xlws.FILTER($I$4:$AT$335,$K$4:$K$335=AW24),36)))))} -> 0 | BN24: {=IF(ISBLANK(AW24),"0",_xlfn.CEILING.MATH(AY24/الفرضيات!$H$4*(1+MAX(_xlfn.CHOOSECOLS(_xlfn._xlws.FILTER($I$4:$AT$335,$K$4:$K$335=AW24),36)))))} -> 0 | BO24: =IF(ISBLANK(L24),"0",IF(S24<2,"0",(U24*(R24-AG24)/الفرضيات!$H$2*(1+AR24)))) -> 0 | BP24: =IF(ISBLANK(L24),"0",_xlfn.CEILING.MATH(X24)) -> 0 | BQ24: =IF(ISBLANK(AW24),"0",_xlfn.CEILING.MATH(BD24)) -> 0 | BR24: =IF(ISBLANK(AW24),"0",IF($AZ24<2,"0",BU24+BV24)) -> 0 | BS24: =IF(ISBLANK(L24),"0",_xlfn.CEILING.MATH(AE24)) -> 0 | BT24: =IF(ISBLANK(L24),"0",_xlfn.CEILING.MATH(AA24)) -> 0 | BU24: {=IF(ISBLANK(AW24),"0",IF($AZ24<2,"0",_xlfn.CEILING.MATH(AX24/الفرضيات!$H$3*(1+MAX(_xlfn.CHOOSECOLS(_xlfn._xlws.FILTER($I$4:$AT$335,$K$4:$K$335=AW24),36))))))} -> 0 | BV24: {=IF(ISBLANK(AW24),"0",IF($AZ24<2,"0",_xlfn.CEILING.MATH(AY24/الفرضيات!$H$4*(1+MAX(_xlfn.CHOOSECOLS(_xlfn._xlws.FILTER($I$4:$AT$335,$K$4:$K$335=AW24),36))))))} -> 0 | BW24: =IF(ISBLANK(L24),"0",IF(S24<3,"0",(V24*(R24-AG24)/الفرضيات!$H$2*(1+AR24)))) -> 0 | BX24: =IF(ISBLANK(L24),"0",_xlfn.CEILING.MATH(Y24)) -> 0 | BY24: =IF(ISBLANK(AW24),"0",_xlfn.CEILING.MATH(BE24)) -> 0 | BZ24: =IF(ISBLANK(AW24),"0",IF($AZ24<3,"0",CC24+CD24)) -> 0 | CA24: =IF(ISBLANK(L24),"0",_xlfn.CEILING.MATH(AF24)) -> 0 | CB24: =IF(ISBLANK(L24),"0",_xlfn.CEILING.MATH(AB24)) -> 0 | CC24: {=IF(ISBLANK(AW24),"0",IF($AZ24<3,"0",_xlfn.CEILING.MATH(AX24/الفرضيات!$H$3*(1+MAX(_xlfn.CHOOSECOLS(_xlfn._xlws.FILTER($I$4:$AT$335,$K$4:$K$335=AW24),36))))))} -> 0 | CD24: {=IF(ISBLANK(AW24),"0",IF($AZ24<3,"0",_xlfn.CEILING.MATH(AY24/الفرضيات!$H$4*(1+MAX(_xlfn.CHOOSECOLS(_xlfn._xlws.FILTER($I$4:$AT$335,$K$4:$K$335=AW24),36))))))} -> 0 | CE24: =IFERROR(MAX(0,((BG24+BO24+BW24)*(1+AS24+AR24)+(BH24+BI24+BJ24+BL24+BP24+BQ24+BR24+BT24+BX24+BY24+BZ24+CB24)*(1+AS24))*(1+ VLOOKUP(AQ24,الفرضيات!$N$1:$O$11,2,0))-AH24),0) -> 0 | CF24: =IFERROR(BK24+BS24+CA24,0) -> 0 | CG24: {=IFERROR(MAX(0,MAX(BM24,BU24,CC24)*(1+VLOOKUP(MAX(_xlfn.CHOOSECOLS(_xlfn._xlws.FILTER($I$4:$AT$335,$K$4:$K$335=AW24),35)),الفرضيات!$N$2:$O$11,2,0))-BA24),0)} -> 0 | CH24: {=IFERROR(MAX(0,MAX(BN24,BV24,CD24)*(1+VLOOKUP(MAX(_xlfn.CHOOSECOLS(_xlfn._xlws.FILTER($I$4:$AT$335,$K$4:$K$335=AW24),35)),الفرضيات!$N$2:$O$11,2,0))-BB24),0)} -> 0
AQ25: =IFERROR( IF(AND(AM25<>0,AL25<>0,AK25<>0), VLOOKUP(AL25,$B$45:$C$48,2,0)*VLOOKUP(AM25,$B$45:$C$48,2,0)*VLOOKUP(AK25,$B$45:$C$48,2,0), VLOOKUP(AO25,$B$45:$C$48,2,0)*VLOOKUP(AP25,$B$45:$C$48,2,0)*VLOOKUP(AN25,$B$45:$C$48,2,0)),"") | AR25: =IF(AQ25="","",(LOOKUP(SUM(N25:O25),الفرضيات!$R$2:$R$9, الفرضيات!$S$2:$S$9))) | AS25: =IF(ISBLANK(L25),"",الفرضيات!$L$2) | BG25: =IF(ISBLANK(L25),"0",T25*(R25-AG25)/الفرضيات!$H$2*(1+AR25)) -> 0 | BH25: =IF(ISBLANK(L25),"0",_xlfn.CEILING.MATH(W25)) -> 0 | BI25: =IF(ISBLANK(AW25),"0",_xlfn.CEILING.MATH(BC25)) -> 0 | BJ25: =IF(ISBLANK(AW25),"0",BM25+BN25) -> 0 | BK25: =IF(ISBLANK(L25),"0",_xlfn.CEILING.MATH(AD25)) -> 0 | BL25: =IF(ISBLANK(L25),"0",_xlfn.CEILING.MATH(Z25)) -> 0 | BM25: {=IF(ISBLANK(AW25),"0",_xlfn.CEILING.MATH(AX25/الفرضيات!$H$3*(1+MAX(_xlfn.CHOOSECOLS(_xlfn._xlws.FILTER($I$4:$AT$335,$K$4:$K$335=AW25),36)))))} -> 0 | BN25: {=IF(ISBLANK(AW25),"0",_xlfn.CEILING.MATH(AY25/الفرضيات!$H$4*(1+MAX(_xlfn.CHOOSECOLS(_xlfn._xlws.FILTER($I$4:$AT$335,$K$4:$K$335=AW25),36)))))} -> 0 | BO25: =IF(ISBLANK(L25),"0",IF(S25<2,"0",(U25*(R25-AG25)/الفرضيات!$H$2*(1+AR25)))) -> 0 | BP25: =IF(ISBLANK(L25),"0",_xlfn.CEILING.MATH(X25)) -> 0 | BQ25: =IF(ISBLANK(AW25),"0",_xlfn.CEILING.MATH(BD25)) -> 0 | BR25: =IF(ISBLANK(AW25),"0",IF($AZ25<2,"0",BU25+BV25)) -> 0 | BS25: =IF(ISBLANK(L25),"0",_xlfn.CEILING.MATH(AE25)) -> 0 | BT25: =IF(ISBLANK(L25),"0",_xlfn.CEILING.MATH(AA25)) -> 0 | BU25: {=IF(ISBLANK(AW25),"0",IF($AZ25<2,"0",_xlfn.CEILING.MATH(AX25/الفرضيات!$H$3*(1+MAX(_xlfn.CHOOSECOLS(_xlfn._xlws.FILTER($I$4:$AT$335,$K$4:$K$335=AW25),36))))))} -> 0 | BV25: {=IF(ISBLANK(AW25),"0",IF($AZ25<2,"0",_xlfn.CEILING.MATH(AY25/الفرضيات!$H$4*(1+MAX(_xlfn.CHOOSECOLS(_xlfn._xlws.FILTER($I$4:$AT$335,$K$4:$K$335=AW25),36))))))} -> 0 | BW25: =IF(ISBLANK(L25),"0",IF(S25<3,"0",(V25*(R25-AG25)/الفرضيات!$H$2*(1+AR25)))) -> 0 | BX25: =IF(ISBLANK(L25),"0",_xlfn.CEILING.MATH(Y25)) -> 0 | BY25: =IF(ISBLANK(AW25),"0",_xlfn.CEILING.MATH(BE25)) -> 0 | BZ25: =IF(ISBLANK(AW25),"0",IF($AZ25<3,"0",CC25+CD25)) -> 0 | CA25: =IF(ISBLANK(L25),"0",_xlfn.CEILING.MATH(AF25)) -> 0 | CB25: =IF(ISBLANK(L25),"0",_xlfn.CEILING.MATH(AB25)) -> 0 | CC25: {=IF(ISBLANK(AW25),"0",IF($AZ25<3,"0",_xlfn.CEILING.MATH(AX25/الفرضيات!$H$3*(1+MAX(_xlfn.CHOOSECOLS(_xlfn._xlws.FILTER($I$4:$AT$335,$K$4:$K$335=AW25),36))))))} -> 0 | CD25: {=IF(ISBLANK(AW25),"0",IF($AZ25<3,"0",_xlfn.CEILING.MATH(AY25/الفرضيات!$H$4*(1+MAX(_xlfn.CHOOSECOLS(_xlfn._xlws.FILTER($I$4:$AT$335,$K$4:$K$335=AW25),36))))))} -> 0 | CE25: =IFERROR(MAX(0,((BG25+BO25+BW25)*(1+AS25+AR25)+(BH25+BI25+BJ25+BL25+BP25+BQ25+BR25+BT25+BX25+BY25+BZ25+CB25)*(1+AS25))*(1+ VLOOKUP(AQ25,الفرضيات!$N$1:$O$11,2,0))-AH25),0) -> 0 | CF25: =IFERROR(BK25+BS25+CA25,0) -> 0 | CG25: {=IFERROR(MAX(0,MAX(BM25,BU25,CC25)*(1+VLOOKUP(MAX(_xlfn.CHOOSECOLS(_xlfn._xlws.FILTER($I$4:$AT$335,$K$4:$K$335=AW25),35)),الفرضيات!$N$2:$O$11,2,0))-BA25),0)} -> 0 | CH25: {=IFERROR(MAX(0,MAX(BN25,BV25,CD25)*(1+VLOOKUP(MAX(_xlfn.CHOOSECOLS(_xlfn._xlws.FILTER($I$4:$AT$335,$K$4:$K$335=AW25),35)),الفرضيات!$N$2:$O$11,2,0))-BB25),0)} -> 0
B26: قائم | C26: غير_قائم | AQ26: =IFERROR( IF(AND(AM26<>0,AL26<>0,AK26<>0), VLOOKUP(AL26,$B$45:$C$48,2,0)*VLOOKUP(AM26,$B$45:$C$48,2,0)*VLOOKUP(AK26,$B$45:$C$48,2,0), VLOOKUP(AO26,$B$45:$C$48,2,0)*VLOOKUP(AP26,$B$45:$C$48,2,0)*VLOOKUP(AN26,$B$45:$C$48,2,0)),"") | AR26: =IF(AQ26="","",(LOOKUP(SUM(N26:O26),الفرضيات!$R$2:$R$9, الفرضيات!$S$2:$S$9))) | AS26: =IF(ISBLANK(L26),"",الفرضيات!$L$2) | BG26: =IF(ISBLANK(L26),"0",T26*(R26-AG26)/الفرضيات!$H$2*(1+AR26)) -> 0 | BH26: =IF(ISBLANK(L26),"0",_xlfn.CEILING.MATH(W26)) -> 0 | BI26: =IF(ISBLANK(AW26),"0",_xlfn.CEILING.MATH(BC26)) -> 0 | BJ26: =IF(ISBLANK(AW26),"0",BM26+BN26) -> 0 | BK26: =IF(ISBLANK(L26),"0",_xlfn.CEILING.MATH(AD26)) -> 0 | BL26: =IF(ISBLANK(L26),"0",_xlfn.CEILING.MATH(Z26)) -> 0 | BM26: {=IF(ISBLANK(AW26),"0",_xlfn.CEILING.MATH(AX26/الفرضيات!$H$3*(1+MAX(_xlfn.CHOOSECOLS(_xlfn._xlws.FILTER($I$4:$AT$335,$K$4:$K$335=AW26),36)))))} -> 0 | BN26: {=IF(ISBLANK(AW26),"0",_xlfn.CEILING.MATH(AY26/الفرضيات!$H$4*(1+MAX(_xlfn.CHOOSECOLS(_xlfn._xlws.FILTER($I$4:$AT$335,$K$4:$K$335=AW26),36)))))} -> 0 | BO26: =IF(ISBLANK(L26),"0",IF(S26<2,"0",(U26*(R26-AG26)/الفرضيات!$H$2*(1+AR26)))) -> 0 | BP26: =IF(ISBLANK(L26),"0",_xlfn.CEILING.MATH(X26)) -> 0 | BQ26: =IF(ISBLANK(AW26),"0",_xlfn.CEILING.MATH(BD26)) -> 0 | BR26: =IF(ISBLANK(AW26),"0",IF($AZ26<2,"0",BU26+BV26)) -> 0 | BS26: =IF(ISBLANK(L26),"0",_xlfn.CEILING.MATH(AE26)) -> 0 | BT26: =IF(ISBLANK(L26),"0",_xlfn.CEILING.MATH(AA26)) -> 0 | BU26: {=IF(ISBLANK(AW26),"0",IF($AZ26<2,"0",_xlfn.CEILING.MATH(AX26/الفرضيات!$H$3*(1+MAX(_xlfn.CHOOSECOLS(_xlfn._xlws.FILTER($I$4:$AT$335,$K$4:$K$335=AW26),36))))))} -> 0 | BV26: {=IF(ISBLANK(AW26),"0",IF($AZ26<2,"0",_xlfn.CEILING.MATH(AY26/الفرضيات!$H$4*(1+MAX(_xlfn.CHOOSECOLS(_xlfn._xlws.FILTER($I$4:$AT$335,$K$4:$K$335=AW26),36))))))} -> 0 | BW26: =IF(ISBLANK(L26),"0",IF(S26<3,"0",(V26*(R26-AG26)/الفرضيات!$H$2*(1+AR26)))) -> 0 | BX26: =IF(ISBLANK(L26),"0",_xlfn.CEILING.MATH(Y26)) -> 0 | BY26: =IF(ISBLANK(AW26),"0",_xlfn.CEILING.MATH(BE26)) -> 0 | BZ26: =IF(ISBLANK(AW26),"0",IF($AZ26<3,"0",CC26+CD26)) -> 0 | CA26: =IF(ISBLANK(L26),"0",_xlfn.CEILING.MATH(AF26)) -> 0 | CB26: =IF(ISBLANK(L26),"0",_xlfn.CEILING.MATH(AB26)) -> 0 | CC26: {=IF(ISBLANK(AW26),"0",IF($AZ26<3,"0",_xlfn.CEILING.MATH(AX26/الفرضيات!$H$3*(1+MAX(_xlfn.CHOOSECOLS(_xlfn._xlws.FILTER($I$4:$AT$335,$K$4:$K$335=AW26),36))))))} -> 0 | CD26: {=IF(ISBLANK(AW26),"0",IF($AZ26<3,"0",_xlfn.CEILING.MATH(AY26/الفرضيات!$H$4*(1+MAX(_xlfn.CHOOSECOLS(_xlfn._xlws.FILTER($I$4:$AT$335,$K$4:$K$335=AW26),36))))))} -> 0 | CE26: =IFERROR(MAX(0,((BG26+BO26+BW26)*(1+AS26+AR26)+(BH26+BI26+BJ26+BL26+BP26+BQ26+BR26+BT26+BX26+BY26+BZ26+CB26)*(1+AS26))*(1+ VLOOKUP(AQ26,الفرضيات!$N$1:$O$11,2,0))-AH26),0) -> 0 | CF26: =IFERROR(BK26+BS26+CA26,0) -> 0 | CG26: {=IFERROR(MAX(0,MAX(BM26,BU26,CC26)*(1+VLOOKUP(MAX(_xlfn.CHOOSECOLS(_xlfn._xlws.FILTER($I$4:$AT$335,$K$4:$K$335=AW26),35)),الفرضيات!$N$2:$O$11,2,0))-BA26),0)} -> 0 | CH26: {=IFERROR(MAX(0,MAX(BN26,BV26,CD26)*(1+VLOOKUP(MAX(_xlfn.CHOOSECOLS(_xlfn._xlws.FILTER($I$4:$AT$335,$K$4:$K$335=AW26),35)),الفرضيات!$N$2:$O$11,2,0))-BB26),0)} -> 0
B27: 1 | C27: =IF('الصفحة الرئيسية '!$E$11>=2,2,"") | AQ27: =IFERROR( IF(AND(AM27<>0,AL27<>0,AK27<>0), VLOOKUP(AL27,$B$45:$C$48,2,0)*VLOOKUP(AM27,$B$45:$C$48,2,0)*VLOOKUP(AK27,$B$45:$C$48,2,0), VLOOKUP(AO27,$B$45:$C$48,2,0)*VLOOKUP(AP27,$B$45:$C$48,2,0)*VLOOKUP(AN27,$B$45:$C$48,2,0)),"") | AR27: =IF(AQ27="","",(LOOKUP(SUM(N27:O27),الفرضيات!$R$2:$R$9, الفرضيات!$S$2:$S$9))) | AS27: =IF(ISBLANK(L27),"",الفرضيات!$L$2) | BG27: =IF(ISBLANK(L27),"0",T27*(R27-AG27)/الفرضيات!$H$2*(1+AR27)) -> 0 | BH27: =IF(ISBLANK(L27),"0",_xlfn.CEILING.MATH(W27)) -> 0 | BI27: =IF(ISBLANK(AW27),"0",_xlfn.CEILING.MATH(BC27)) -> 0 | BJ27: =IF(ISBLANK(AW27),"0",BM27+BN27) -> 0 | BK27: =IF(ISBLANK(L27),"0",_xlfn.CEILING.MATH(AD27)) -> 0 | BL27: =IF(ISBLANK(L27),"0",_xlfn.CEILING.MATH(Z27)) -> 0 | BM27: {=IF(ISBLANK(AW27),"0",_xlfn.CEILING.MATH(AX27/الفرضيات!$H$3*(1+MAX(_xlfn.CHOOSECOLS(_xlfn._xlws.FILTER($I$4:$AT$335,$K$4:$K$335=AW27),36)))))} -> 0 | BN27: {=IF(ISBLANK(AW27),"0",_xlfn.CEILING.MATH(AY27/الفرضيات!$H$4*(1+MAX(_xlfn.CHOOSECOLS(_xlfn._xlws.FILTER($I$4:$AT$335,$K$4:$K$335=AW27),36)))))} -> 0 | BO27: =IF(ISBLANK(L27),"0",IF(S27<2,"0",(U27*(R27-AG27)/الفرضيات!$H$2*(1+AR27)))) -> 0 | BP27: =IF(ISBLANK(L27),"0",_xlfn.CEILING.MATH(X27)) -> 0 | BQ27: =IF(ISBLANK(AW27),"0",_xlfn.CEILING.MATH(BD27)) -> 0 | BR27: =IF(ISBLANK(AW27),"0",IF($AZ27<2,"0",BU27+BV27)) -> 0 | BS27: =IF(ISBLANK(L27),"0",_xlfn.CEILING.MATH(AE27)) -> 0 | BT27: =IF(ISBLANK(L27),"0",_xlfn.CEILING.MATH(AA27)) -> 0 | BU27: {=IF(ISBLANK(AW27),"0",IF($AZ27<2,"0",_xlfn.CEILING.MATH(AX27/الفرضيات!$H$3*(1+MAX(_xlfn.CHOOSECOLS(_xlfn._xlws.FILTER($I$4:$AT$335,$K$4:$K$335=AW27),36))))))} -> 0 | BV27: {=IF(ISBLANK(AW27),"0",IF($AZ27<2,"0",_xlfn.CEILING.MATH(AY27/الفرضيات!$H$4*(1+MAX(_xlfn.CHOOSECOLS(_xlfn._xlws.FILTER($I$4:$AT$335,$K$4:$K$335=AW27),36))))))} -> 0 | BW27: =IF(ISBLANK(L27),"0",IF(S27<3,"0",(V27*(R27-AG27)/الفرضيات!$H$2*(1+AR27)))) -> 0 | BX27: =IF(ISBLANK(L27),"0",_xlfn.CEILING.MATH(Y27)) -> 0 | BY27: =IF(ISBLANK(AW27),"0",_xlfn.CEILING.MATH(BE27)) -> 0 | BZ27: =IF(ISBLANK(AW27),"0",IF($AZ27<3,"0",CC27+CD27)) -> 0 | CA27: =IF(ISBLANK(L27),"0",_xlfn.CEILING.MATH(AF27)) -> 0 | CB27: =IF(ISBLANK(L27),"0",_xlfn.CEILING.MATH(AB27)) -> 0 | CC27: {=IF(ISBLANK(AW27),"0",IF($AZ27<3,"0",_xlfn.CEILING.MATH(AX27/الفرضيات!$H$3*(1+MAX(_xlfn.CHOOSECOLS(_xlfn._xlws.FILTER($I$4:$AT$335,$K$4:$K$335=AW27),36))))))} -> 0 | CD27: {=IF(ISBLANK(AW27),"0",IF($AZ27<3,"0",_xlfn.CEILING.MATH(AY27/الفرضيات!$H$4*(1+MAX(_xlfn.CHOOSECOLS(_xlfn._xlws.FILTER($I$4:$AT$335,$K$4:$K$335=AW27),36))))))} -> 0 | CE27: =IFERROR(MAX(0,((BG27+BO27+BW27)*(1+AS27+AR27)+(BH27+BI27+BJ27+BL27+BP27+BQ27+BR27+BT27+BX27+BY27+BZ27+CB27)*(1+AS27))*(1+ VLOOKUP(AQ27,الفرضيات!$N$1:$O$11,2,0))-AH27),0) -> 0 | CF27: =IFERROR(BK27+BS27+CA27,0) -> 0 | CG27: {=IFERROR(MAX(0,MAX(BM27,BU27,CC27)*(1+VLOOKUP(MAX(_xlfn.CHOOSECOLS(_xlfn._xlws.FILTER($I$4:$AT$335,$K$4:$K$335=AW27),35)),الفرضيات!$N$2:$O$11,2,0))-BA27),0)} -> 0 | CH27: {=IFERROR(MAX(0,MAX(BN27,BV27,CD27)*(1+VLOOKUP(MAX(_xlfn.CHOOSECOLS(_xlfn._xlws.FILTER($I$4:$AT$335,$K$4:$K$335=AW27),35)),الفرضيات!$N$2:$O$11,2,0))-BB27),0)} -> 0
C28: =IF('الصفحة الرئيسية '!$E$11>=3,3,"") | AQ28: =IFERROR( IF(AND(AM28<>0,AL28<>0,AK28<>0), VLOOKUP(AL28,$B$45:$C$48,2,0)*VLOOKUP(AM28,$B$45:$C$48,2,0)*VLOOKUP(AK28,$B$45:$C$48,2,0), VLOOKUP(AO28,$B$45:$C$48,2,0)*VLOOKUP(AP28,$B$45:$C$48,2,0)*VLOOKUP(AN28,$B$45:$C$48,2,0)),"") | AR28: =IF(AQ28="","",(LOOKUP(SUM(N28:O28),الفرضيات!$R$2:$R$9, الفرضيات!$S$2:$S$9))) | AS28: =IF(ISBLANK(L28),"",الفرضيات!$L$2) | BG28: =IF(ISBLANK(L28),"0",T28*(R28-AG28)/الفرضيات!$H$2*(1+AR28)) -> 0 | BH28: =IF(ISBLANK(L28),"0",_xlfn.CEILING.MATH(W28)) -> 0 | BI28: =IF(ISBLANK(AW28),"0",_xlfn.CEILING.MATH(BC28)) -> 0 | BJ28: =IF(ISBLANK(AW28),"0",BM28+BN28) -> 0 | BK28: =IF(ISBLANK(L28),"0",_xlfn.CEILING.MATH(AD28)) -> 0 | BL28: =IF(ISBLANK(L28),"0",_xlfn.CEILING.MATH(Z28)) -> 0 | BM28: {=IF(ISBLANK(AW28),"0",_xlfn.CEILING.MATH(AX28/الفرضيات!$H$3*(1+MAX(_xlfn.CHOOSECOLS(_xlfn._xlws.FILTER($I$4:$AT$335,$K$4:$K$335=AW28),36)))))} -> 0 | BN28: {=IF(ISBLANK(AW28),"0",_xlfn.CEILING.MATH(AY28/الفرضيات!$H$4*(1+MAX(_xlfn.CHOOSECOLS(_xlfn._xlws.FILTER($I$4:$AT$335,$K$4:$K$335=AW28),36)))))} -> 0 | BO28: =IF(ISBLANK(L28),"0",IF(S28<2,"0",(U28*(R28-AG28)/الفرضيات!$H$2*(1+AR28)))) -> 0 | BP28: =IF(ISBLANK(L28),"0",_xlfn.CEILING.MATH(X28)) -> 0 | BQ28: =IF(ISBLANK(AW28),"0",_xlfn.CEILING.MATH(BD28)) -> 0 | BR28: =IF(ISBLANK(AW28),"0",IF($AZ28<2,"0",BU28+BV28)) -> 0 | BS28: =IF(ISBLANK(L28),"0",_xlfn.CEILING.MATH(AE28)) -> 0 | BT28: =IF(ISBLANK(L28),"0",_xlfn.CEILING.MATH(AA28)) -> 0 | BU28: {=IF(ISBLANK(AW28),"0",IF($AZ28<2,"0",_xlfn.CEILING.MATH(AX28/الفرضيات!$H$3*(1+MAX(_xlfn.CHOOSECOLS(_xlfn._xlws.FILTER($I$4:$AT$335,$K$4:$K$335=AW28),36))))))} -> 0 | BV28: {=IF(ISBLANK(AW28),"0",IF($AZ28<2,"0",_xlfn.CEILING.MATH(AY28/الفرضيات!$H$4*(1+MAX(_xlfn.CHOOSECOLS(_xlfn._xlws.FILTER($I$4:$AT$335,$K$4:$K$335=AW28),36))))))} -> 0 | BW28: =IF(ISBLANK(L28),"0",IF(S28<3,"0",(V28*(R28-AG28)/الفرضيات!$H$2*(1+AR28)))) -> 0 | BX28: =IF(ISBLANK(L28),"0",_xlfn.CEILING.MATH(Y28)) -> 0 | BY28: =IF(ISBLANK(AW28),"0",_xlfn.CEILING.MATH(BE28)) -> 0 | BZ28: =IF(ISBLANK(AW28),"0",IF($AZ28<3,"0",CC28+CD28)) -> 0 | CA28: =IF(ISBLANK(L28),"0",_xlfn.CEILING.MATH(AF28)) -> 0 | CB28: =IF(ISBLANK(L28),"0",_xlfn.CEILING.MATH(AB28)) -> 0 | CC28: {=IF(ISBLANK(AW28),"0",IF($AZ28<3,"0",_xlfn.CEILING.MATH(AX28/الفرضيات!$H$3*(1+MAX(_xlfn.CHOOSECOLS(_xlfn._xlws.FILTER($I$4:$AT$335,$K$4:$K$335=AW28),36))))))} -> 0 | CD28: {=IF(ISBLANK(AW28),"0",IF($AZ28<3,"0",_xlfn.CEILING.MATH(AY28/الفرضيات!$H$4*(1+MAX(_xlfn.CHOOSECOLS(_xlfn._xlws.FILTER($I$4:$AT$335,$K$4:$K$335=AW28),36))))))} -> 0 | CE28: =IFERROR(MAX(0,((BG28+BO28+BW28)*(1+AS28+AR28)+(BH28+BI28+BJ28+BL28+BP28+BQ28+BR28+BT28+BX28+BY28+BZ28+CB28)*(1+AS28))*(1+ VLOOKUP(AQ28,الفرضيات!$N$1:$O$11,2,0))-AH28),0) -> 0 | CF28: =IFERROR(BK28+BS28+CA28,0) -> 0 | CG28: {=IFERROR(MAX(0,MAX(BM28,BU28,CC28)*(1+VLOOKUP(MAX(_xlfn.CHOOSECOLS(_xlfn._xlws.FILTER($I$4:$AT$335,$K$4:$K$335=AW28),35)),الفرضيات!$N$2:$O$11,2,0))-BA28),0)} -> 0 | CH28: {=IFERROR(MAX(0,MAX(BN28,BV28,CD28)*(1+VLOOKUP(MAX(_xlfn.CHOOSECOLS(_xlfn._xlws.FILTER($I$4:$AT$335,$K$4:$K$335=AW28),35)),الفرضيات!$N$2:$O$11,2,0))-BB28),0)} -> 0
C29: =IF('الصفحة الرئيسية '!$E$11>=4,4,"") | AQ29: =IFERROR( IF(AND(AM29<>0,AL29<>0,AK29<>0), VLOOKUP(AL29,$B$45:$C$48,2,0)*VLOOKUP(AM29,$B$45:$C$48,2,0)*VLOOKUP(AK29,$B$45:$C$48,2,0), VLOOKUP(AO29,$B$45:$C$48,2,0)*VLOOKUP(AP29,$B$45:$C$48,2,0)*VLOOKUP(AN29,$B$45:$C$48,2,0)),"") | AR29: =IF(AQ29="","",(LOOKUP(SUM(N29:O29),الفرضيات!$R$2:$R$9, الفرضيات!$S$2:$S$9))) | AS29: =IF(ISBLANK(L29),"",الفرضيات!$L$2) | BG29: =IF(ISBLANK(L29),"0",T29*(R29-AG29)/الفرضيات!$H$2*(1+AR29)) -> 0 | BH29: =IF(ISBLANK(L29),"0",_xlfn.CEILING.MATH(W29)) -> 0 | BI29: =IF(ISBLANK(AW29),"0",_xlfn.CEILING.MATH(BC29)) -> 0 | BJ29: =IF(ISBLANK(AW29),"0",BM29+BN29) -> 0 | BK29: =IF(ISBLANK(L29),"0",_xlfn.CEILING.MATH(AD29)) -> 0 | BL29: =IF(ISBLANK(L29),"0",_xlfn.CEILING.MATH(Z29)) -> 0 | BM29: {=IF(ISBLANK(AW29),"0",_xlfn.CEILING.MATH(AX29/الفرضيات!$H$3*(1+MAX(_xlfn.CHOOSECOLS(_xlfn._xlws.FILTER($I$4:$AT$335,$K$4:$K$335=AW29),36)))))} -> 0 | BN29: {=IF(ISBLANK(AW29),"0",_xlfn.CEILING.MATH(AY29/الفرضيات!$H$4*(1+MAX(_xlfn.CHOOSECOLS(_xlfn._xlws.FILTER($I$4:$AT$335,$K$4:$K$335=AW29),36)))))} -> 0 | BO29: =IF(ISBLANK(L29),"0",IF(S29<2,"0",(U29*(R29-AG29)/الفرضيات!$H$2*(1+AR29)))) -> 0 | BP29: =IF(ISBLANK(L29),"0",_xlfn.CEILING.MATH(X29)) -> 0 | BQ29: =IF(ISBLANK(AW29),"0",_xlfn.CEILING.MATH(BD29)) -> 0 | BR29: =IF(ISBLANK(AW29),"0",IF($AZ29<2,"0",BU29+BV29)) -> 0 | BS29: =IF(ISBLANK(L29),"0",_xlfn.CEILING.MATH(AE29)) -> 0 | BT29: =IF(ISBLANK(L29),"0",_xlfn.CEILING.MATH(AA29)) -> 0 | BU29: {=IF(ISBLANK(AW29),"0",IF($AZ29<2,"0",_xlfn.CEILING.MATH(AX29/الفرضيات!$H$3*(1+MAX(_xlfn.CHOOSECOLS(_xlfn._xlws.FILTER($I$4:$AT$335,$K$4:$K$335=AW29),36))))))} -> 0 | BV29: {=IF(ISBLANK(AW29),"0",IF($AZ29<2,"0",_xlfn.CEILING.MATH(AY29/الفرضيات!$H$4*(1+MAX(_xlfn.CHOOSECOLS(_xlfn._xlws.FILTER($I$4:$AT$335,$K$4:$K$335=AW29),36))))))} -> 0 | BW29: =IF(ISBLANK(L29),"0",IF(S29<3,"0",(V29*(R29-AG29)/الفرضيات!$H$2*(1+AR29)))) -> 0 | BX29: =IF(ISBLANK(L29),"0",_xlfn.CEILING.MATH(Y29)) -> 0 | BY29: =IF(ISBLANK(AW29),"0",_xlfn.CEILING.MATH(BE29)) -> 0 | BZ29: =IF(ISBLANK(AW29),"0",IF($AZ29<3,"0",CC29+CD29)) -> 0 | CA29: =IF(ISBLANK(L29),"0",_xlfn.CEILING.MATH(AF29)) -> 0 | CB29: =IF(ISBLANK(L29),"0",_xlfn.CEILING.MATH(AB29)) -> 0 | CC29: {=IF(ISBLANK(AW29),"0",IF($AZ29<3,"0",_xlfn.CEILING.MATH(AX29/الفرضيات!$H$3*(1+MAX(_xlfn.CHOOSECOLS(_xlfn._xlws.FILTER($I$4:$AT$335,$K$4:$K$335=AW29),36))))))} -> 0 | CD29: {=IF(ISBLANK(AW29),"0",IF($AZ29<3,"0",_xlfn.CEILING.MATH(AY29/الفرضيات!$H$4*(1+MAX(_xlfn.CHOOSECOLS(_xlfn._xlws.FILTER($I$4:$AT$335,$K$4:$K$335=AW29),36))))))} -> 0 | CE29: =IFERROR(MAX(0,((BG29+BO29+BW29)*(1+AS29+AR29)+(BH29+BI29+BJ29+BL29+BP29+BQ29+BR29+BT29+BX29+BY29+BZ29+CB29)*(1+AS29))*(1+ VLOOKUP(AQ29,الفرضيات!$N$1:$O$11,2,0))-AH29),0) -> 0 | CF29: =IFERROR(BK29+BS29+CA29,0) -> 0 | CG29: {=IFERROR(MAX(0,MAX(BM29,BU29,CC29)*(1+VLOOKUP(MAX(_xlfn.CHOOSECOLS(_xlfn._xlws.FILTER($I$4:$AT$335,$K$4:$K$335=AW29),35)),الفرضيات!$N$2:$O$11,2,0))-BA29),0)} -> 0 | CH29: {=IFERROR(MAX(0,MAX(BN29,BV29,CD29)*(1+VLOOKUP(MAX(_xlfn.CHOOSECOLS(_xlfn._xlws.FILTER($I$4:$AT$335,$K$4:$K$335=AW29),35)),الفرضيات!$N$2:$O$11,2,0))-BB29),0)} -> 0
C30: =IF('الصفحة الرئيسية '!$E$11>=5,5,"") | AQ30: =IFERROR( IF(AND(AM30<>0,AL30<>0,AK30<>0), VLOOKUP(AL30,$B$45:$C$48,2,0)*VLOOKUP(AM30,$B$45:$C$48,2,0)*VLOOKUP(AK30,$B$45:$C$48,2,0), VLOOKUP(AO30,$B$45:$C$48,2,0)*VLOOKUP(AP30,$B$45:$C$48,2,0)*VLOOKUP(AN30,$B$45:$C$48,2,0)),"") | AR30: =IF(AQ30="","",(LOOKUP(SUM(N30:O30),الفرضيات!$R$2:$R$9, الفرضيات!$S$2:$S$9))) | AS30: =IF(ISBLANK(L30),"",الفرضيات!$L$2) | BG30: =IF(ISBLANK(L30),"0",T30*(R30-AG30)/الفرضيات!$H$2*(1+AR30)) -> 0 | BH30: =IF(ISBLANK(L30),"0",_xlfn.CEILING.MATH(W30)) -> 0 | BI30: =IF(ISBLANK(AW30),"0",_xlfn.CEILING.MATH(BC30)) -> 0 | BJ30: =IF(ISBLANK(AW30),"0",BM30+BN30) -> 0 | BK30: =IF(ISBLANK(L30),"0",_xlfn.CEILING.MATH(AD30)) -> 0 | BL30: =IF(ISBLANK(L30),"0",_xlfn.CEILING.MATH(Z30)) -> 0 | BM30: {=IF(ISBLANK(AW30),"0",_xlfn.CEILING.MATH(AX30/الفرضيات!$H$3*(1+MAX(_xlfn.CHOOSECOLS(_xlfn._xlws.FILTER($I$4:$AT$335,$K$4:$K$335=AW30),36)))))} -> 0 | BN30: {=IF(ISBLANK(AW30),"0",_xlfn.CEILING.MATH(AY30/الفرضيات!$H$4*(1+MAX(_xlfn.CHOOSECOLS(_xlfn._xlws.FILTER($I$4:$AT$335,$K$4:$K$335=AW30),36)))))} -> 0 | BO30: =IF(ISBLANK(L30),"0",IF(S30<2,"0",(U30*(R30-AG30)/الفرضيات!$H$2*(1+AR30)))) -> 0 | BP30: =IF(ISBLANK(L30),"0",_xlfn.CEILING.MATH(X30)) -> 0 | BQ30: =IF(ISBLANK(AW30),"0",_xlfn.CEILING.MATH(BD30)) -> 0 | BR30: =IF(ISBLANK(AW30),"0",IF($AZ30<2,"0",BU30+BV30)) -> 0 | BS30: =IF(ISBLANK(L30),"0",_xlfn.CEILING.MATH(AE30)) -> 0 | BT30: =IF(ISBLANK(L30),"0",_xlfn.CEILING.MATH(AA30)) -> 0 | BU30: {=IF(ISBLANK(AW30),"0",IF($AZ30<2,"0",_xlfn.CEILING.MATH(AX30/الفرضيات!$H$3*(1+MAX(_xlfn.CHOOSECOLS(_xlfn._xlws.FILTER($I$4:$AT$335,$K$4:$K$335=AW30),36))))))} -> 0 | BV30: {=IF(ISBLANK(AW30),"0",IF($AZ30<2,"0",_xlfn.CEILING.MATH(AY30/الفرضيات!$H$4*(1+MAX(_xlfn.CHOOSECOLS(_xlfn._xlws.FILTER($I$4:$AT$335,$K$4:$K$335=AW30),36))))))} -> 0 | BW30: =IF(ISBLANK(L30),"0",IF(S30<3,"0",(V30*(R30-AG30)/الفرضيات!$H$2*(1+AR30)))) -> 0 | BX30: =IF(ISBLANK(L30),"0",_xlfn.CEILING.MATH(Y30)) -> 0 | BY30: =IF(ISBLANK(AW30),"0",_xlfn.CEILING.MATH(BE30)) -> 0 | BZ30: =IF(ISBLANK(AW30),"0",IF($AZ30<3,"0",CC30+CD30)) -> 0 | CA30: =IF(ISBLANK(L30),"0",_xlfn.CEILING.MATH(AF30)) -> 0 | CB30: =IF(ISBLANK(L30),"0",_xlfn.CEILING.MATH(AB30)) -> 0 | CC30: {=IF(ISBLANK(AW30),"0",IF($AZ30<3,"0",_xlfn.CEILING.MATH(AX30/الفرضيات!$H$3*(1+MAX(_xlfn.CHOOSECOLS(_xlfn._xlws.FILTER($I$4:$AT$335,$K$4:$K$335=AW30),36))))))} -> 0 | CD30: {=IF(ISBLANK(AW30),"0",IF($AZ30<3,"0",_xlfn.CEILING.MATH(AY30/الفرضيات!$H$4*(1+MAX(_xlfn.CHOOSECOLS(_xlfn._xlws.FILTER($I$4:$AT$335,$K$4:$K$335=AW30),36))))))} -> 0 | CE30: =IFERROR(MAX(0,((BG30+BO30+BW30)*(1+AS30+AR30)+(BH30+BI30+BJ30+BL30+BP30+BQ30+BR30+BT30+BX30+BY30+BZ30+CB30)*(1+AS30))*(1+ VLOOKUP(AQ30,الفرضيات!$N$1:$O$11,2,0))-AH30),0) -> 0 | CF30: =IFERROR(BK30+BS30+CA30,0) -> 0 | CG30: {=IFERROR(MAX(0,MAX(BM30,BU30,CC30)*(1+VLOOKUP(MAX(_xlfn.CHOOSECOLS(_xlfn._xlws.FILTER($I$4:$AT$335,$K$4:$K$335=AW30),35)),الفرضيات!$N$2:$O$11,2,0))-BA30),0)} -> 0 | CH30: {=IFERROR(MAX(0,MAX(BN30,BV30,CD30)*(1+VLOOKUP(MAX(_xlfn.CHOOSECOLS(_xlfn._xlws.FILTER($I$4:$AT$335,$K$4:$K$335=AW30),35)),الفرضيات!$N$2:$O$11,2,0))-BB30),0)} -> 0
AQ31: =IFERROR( IF(AND(AM31<>0,AL31<>0,AK31<>0), VLOOKUP(AL31,$B$45:$C$48,2,0)*VLOOKUP(AM31,$B$45:$C$48,2,0)*VLOOKUP(AK31,$B$45:$C$48,2,0), VLOOKUP(AO31,$B$45:$C$48,2,0)*VLOOKUP(AP31,$B$45:$C$48,2,0)*VLOOKUP(AN31,$B$45:$C$48,2,0)),"") | AR31: =IF(AQ31="","",(LOOKUP(SUM(N31:O31),الفرضيات!$R$2:$R$9, الفرضيات!$S$2:$S$9))) | AS31: =IF(ISBLANK(L31),"",الفرضيات!$L$2) | BG31: =IF(ISBLANK(L31),"0",T31*(R31-AG31)/الفرضيات!$H$2*(1+AR31)) -> 0 | BH31: =IF(ISBLANK(L31),"0",_xlfn.CEILING.MATH(W31)) -> 0 | BI31: =IF(ISBLANK(AW31),"0",_xlfn.CEILING.MATH(BC31)) -> 0 | BJ31: =IF(ISBLANK(AW31),"0",BM31+BN31) -> 0 | BK31: =IF(ISBLANK(L31),"0",_xlfn.CEILING.MATH(AD31)) -> 0 | BL31: =IF(ISBLANK(L31),"0",_xlfn.CEILING.MATH(Z31)) -> 0 | BM31: {=IF(ISBLANK(AW31),"0",_xlfn.CEILING.MATH(AX31/الفرضيات!$H$3*(1+MAX(_xlfn.CHOOSECOLS(_xlfn._xlws.FILTER($I$4:$AT$335,$K$4:$K$335=AW31),36)))))} -> 0 | BN31: {=IF(ISBLANK(AW31),"0",_xlfn.CEILING.MATH(AY31/الفرضيات!$H$4*(1+MAX(_xlfn.CHOOSECOLS(_xlfn._xlws.FILTER($I$4:$AT$335,$K$4:$K$335=AW31),36)))))} -> 0 | BO31: =IF(ISBLANK(L31),"0",IF(S31<2,"0",(U31*(R31-AG31)/الفرضيات!$H$2*(1+AR31)))) -> 0 | BP31: =IF(ISBLANK(L31),"0",_xlfn.CEILING.MATH(X31)) -> 0 | BQ31: =IF(ISBLANK(AW31),"0",_xlfn.CEILING.MATH(BD31)) -> 0 | BR31: =IF(ISBLANK(AW31),"0",IF($AZ31<2,"0",BU31+BV31)) -> 0 | BS31: =IF(ISBLANK(L31),"0",_xlfn.CEILING.MATH(AE31)) -> 0 | BT31: =IF(ISBLANK(L31),"0",_xlfn.CEILING.MATH(AA31)) -> 0 | BU31: {=IF(ISBLANK(AW31),"0",IF($AZ31<2,"0",_xlfn.CEILING.MATH(AX31/الفرضيات!$H$3*(1+MAX(_xlfn.CHOOSECOLS(_xlfn._xlws.FILTER($I$4:$AT$335,$K$4:$K$335=AW31),36))))))} -> 0 | BV31: {=IF(ISBLANK(AW31),"0",IF($AZ31<2,"0",_xlfn.CEILING.MATH(AY31/الفرضيات!$H$4*(1+MAX(_xlfn.CHOOSECOLS(_xlfn._xlws.FILTER($I$4:$AT$335,$K$4:$K$335=AW31),36))))))} -> 0 | BW31: =IF(ISBLANK(L31),"0",IF(S31<3,"0",(V31*(R31-AG31)/الفرضيات!$H$2*(1+AR31)))) -> 0 | BX31: =IF(ISBLANK(L31),"0",_xlfn.CEILING.MATH(Y31)) -> 0 | BY31: =IF(ISBLANK(AW31),"0",_xlfn.CEILING.MATH(BE31)) -> 0 | BZ31: =IF(ISBLANK(AW31),"0",IF($AZ31<3,"0",CC31+CD31)) -> 0 | CA31: =IF(ISBLANK(L31),"0",_xlfn.CEILING.MATH(AF31)) -> 0 | CB31: =IF(ISBLANK(L31),"0",_xlfn.CEILING.MATH(AB31)) -> 0 | CC31: {=IF(ISBLANK(AW31),"0",IF($AZ31<3,"0",_xlfn.CEILING.MATH(AX31/الفرضيات!$H$3*(1+MAX(_xlfn.CHOOSECOLS(_xlfn._xlws.FILTER($I$4:$AT$335,$K$4:$K$335=AW31),36))))))} -> 0 | CD31: {=IF(ISBLANK(AW31),"0",IF($AZ31<3,"0",_xlfn.CEILING.MATH(AY31/الفرضيات!$H$4*(1+MAX(_xlfn.CHOOSECOLS(_xlfn._xlws.FILTER($I$4:$AT$335,$K$4:$K$335=AW31),36))))))} -> 0 | CE31: =IFERROR(MAX(0,((BG31+BO31+BW31)*(1+AS31+AR31)+(BH31+BI31+BJ31+BL31+BP31+BQ31+BR31+BT31+BX31+BY31+BZ31+CB31)*(1+AS31))*(1+ VLOOKUP(AQ31,الفرضيات!$N$1:$O$11,2,0))-AH31),0) -> 0 | CF31: =IFERROR(BK31+BS31+CA31,0) -> 0 | CG31: {=IFERROR(MAX(0,MAX(BM31,BU31,CC31)*(1+VLOOKUP(MAX(_xlfn.CHOOSECOLS(_xlfn._xlws.FILTER($I$4:$AT$335,$K$4:$K$335=AW31),35)),الفرضيات!$N$2:$O$11,2,0))-BA31),0)} -> 0 | CH31: {=IFERROR(MAX(0,MAX(BN31,BV31,CD31)*(1+VLOOKUP(MAX(_xlfn.CHOOSECOLS(_xlfn._xlws.FILTER($I$4:$AT$335,$K$4:$K$335=AW31),35)),الفرضيات!$N$2:$O$11,2,0))-BB31),0)} -> 0
AQ32: =IFERROR( IF(AND(AM32<>0,AL32<>0,AK32<>0), VLOOKUP(AL32,$B$45:$C$48,2,0)*VLOOKUP(AM32,$B$45:$C$48,2,0)*VLOOKUP(AK32,$B$45:$C$48,2,0), VLOOKUP(AO32,$B$45:$C$48,2,0)*VLOOKUP(AP32,$B$45:$C$48,2,0)*VLOOKUP(AN32,$B$45:$C$48,2,0)),"") | AR32: =IF(AQ32="","",(LOOKUP(SUM(N32:O32),الفرضيات!$R$2:$R$9, الفرضيات!$S$2:$S$9))) | AS32: =IF(ISBLANK(L32),"",الفرضيات!$L$2) | BG32: =IF(ISBLANK(L32),"0",T32*(R32-AG32)/الفرضيات!$H$2*(1+AR32)) -> 0 | BH32: =IF(ISBLANK(L32),"0",_xlfn.CEILING.MATH(W32)) -> 0 | BI32: =IF(ISBLANK(AW32),"0",_xlfn.CEILING.MATH(BC32)) -> 0 | BJ32: =IF(ISBLANK(AW32),"0",BM32+BN32) -> 0 | BK32: =IF(ISBLANK(L32),"0",_xlfn.CEILING.MATH(AD32)) -> 0 | BL32: =IF(ISBLANK(L32),"0",_xlfn.CEILING.MATH(Z32)) -> 0 | BM32: {=IF(ISBLANK(AW32),"0",_xlfn.CEILING.MATH(AX32/الفرضيات!$H$3*(1+MAX(_xlfn.CHOOSECOLS(_xlfn._xlws.FILTER($I$4:$AT$335,$K$4:$K$335=AW32),36)))))} -> 0 | BN32: {=IF(ISBLANK(AW32),"0",_xlfn.CEILING.MATH(AY32/الفرضيات!$H$4*(1+MAX(_xlfn.CHOOSECOLS(_xlfn._xlws.FILTER($I$4:$AT$335,$K$4:$K$335=AW32),36)))))} -> 0 | BO32: =IF(ISBLANK(L32),"0",IF(S32<2,"0",(U32*(R32-AG32)/الفرضيات!$H$2*(1+AR32)))) -> 0 | BP32: =IF(ISBLANK(L32),"0",_xlfn.CEILING.MATH(X32)) -> 0 | BQ32: =IF(ISBLANK(AW32),"0",_xlfn.CEILING.MATH(BD32)) -> 0 | BR32: =IF(ISBLANK(AW32),"0",IF($AZ32<2,"0",BU32+BV32)) -> 0 | BS32: =IF(ISBLANK(L32),"0",_xlfn.CEILING.MATH(AE32)) -> 0 | BT32: =IF(ISBLANK(L32),"0",_xlfn.CEILING.MATH(AA32)) -> 0 | BU32: {=IF(ISBLANK(AW32),"0",IF($AZ32<2,"0",_xlfn.CEILING.MATH(AX32/الفرضيات!$H$3*(1+MAX(_xlfn.CHOOSECOLS(_xlfn._xlws.FILTER($I$4:$AT$335,$K$4:$K$335=AW32),36))))))} -> 0 | BV32: {=IF(ISBLANK(AW32),"0",IF($AZ32<2,"0",_xlfn.CEILING.MATH(AY32/الفرضيات!$H$4*(1+MAX(_xlfn.CHOOSECOLS(_xlfn._xlws.FILTER($I$4:$AT$335,$K$4:$K$335=AW32),36))))))} -> 0 | BW32: =IF(ISBLANK(L32),"0",IF(S32<3,"0",(V32*(R32-AG32)/الفرضيات!$H$2*(1+AR32)))) -> 0 | BX32: =IF(ISBLANK(L32),"0",_xlfn.CEILING.MATH(Y32)) -> 0 | BY32: =IF(ISBLANK(AW32),"0",_xlfn.CEILING.MATH(BE32)) -> 0 | BZ32: =IF(ISBLANK(AW32),"0",IF($AZ32<3,"0",CC32+CD32)) -> 0 | CA32: =IF(ISBLANK(L32),"0",_xlfn.CEILING.MATH(AF32)) -> 0 | CB32: =IF(ISBLANK(L32),"0",_xlfn.CEILING.MATH(AB32)) -> 0 | CC32: {=IF(ISBLANK(AW32),"0",IF($AZ32<3,"0",_xlfn.CEILING.MATH(AX32/الفرضيات!$H$3*(1+MAX(_xlfn.CHOOSECOLS(_xlfn._xlws.FILTER($I$4:$AT$335,$K$4:$K$335=AW32),36))))))} -> 0 | CD32: {=IF(ISBLANK(AW32),"0",IF($AZ32<3,"0",_xlfn.CEILING.MATH(AY32/الفرضيات!$H$4*(1+MAX(_xlfn.CHOOSECOLS(_xlfn._xlws.FILTER($I$4:$AT$335,$K$4:$K$335=AW32),36))))))} -> 0 | CE32: =IFERROR(MAX(0,((BG32+BO32+BW32)*(1+AS32+AR32)+(BH32+BI32+BJ32+BL32+BP32+BQ32+BR32+BT32+BX32+BY32+BZ32+CB32)*(1+AS32))*(1+ VLOOKUP(AQ32,الفرضيات!$N$1:$O$11,2,0))-AH32),0) -> 0 | CF32: =IFERROR(BK32+BS32+CA32,0) -> 0 | CG32: {=IFERROR(MAX(0,MAX(BM32,BU32,CC32)*(1+VLOOKUP(MAX(_xlfn.CHOOSECOLS(_xlfn._xlws.FILTER($I$4:$AT$335,$K$4:$K$335=AW32),35)),الفرضيات!$N$2:$O$11,2,0))-BA32),0)} -> 0 | CH32: {=IFERROR(MAX(0,MAX(BN32,BV32,CD32)*(1+VLOOKUP(MAX(_xlfn.CHOOSECOLS(_xlfn._xlws.FILTER($I$4:$AT$335,$K$4:$K$335=AW32),35)),الفرضيات!$N$2:$O$11,2,0))-BB32),0)} -> 0
B33: خدمات تخصصية | C33: اسم الخدمة | D33: معدل تكرار الخدمة | AQ33: =IFERROR( IF(AND(AM33<>0,AL33<>0,AK33<>0), VLOOKUP(AL33,$B$45:$C$48,2,0)*VLOOKUP(AM33,$B$45:$C$48,2,0)*VLOOKUP(AK33,$B$45:$C$48,2,0), VLOOKUP(AO33,$B$45:$C$48,2,0)*VLOOKUP(AP33,$B$45:$C$48,2,0)*VLOOKUP(AN33,$B$45:$C$48,2,0)),"") | AR33: =IF(AQ33="","",(LOOKUP(SUM(N33:O33),الفرضيات!$R$2:$R$9, الفرضيات!$S$2:$S$9))) | AS33: =IF(ISBLANK(L33),"",الفرضيات!$L$2) | BG33: =IF(ISBLANK(L33),"0",T33*(R33-AG33)/الفرضيات!$H$2*(1+AR33)) -> 0 | BH33: =IF(ISBLANK(L33),"0",_xlfn.CEILING.MATH(W33)) -> 0 | BI33: =IF(ISBLANK(AW33),"0",_xlfn.CEILING.MATH(BC33)) -> 0 | BJ33: =IF(ISBLANK(AW33),"0",BM33+BN33) -> 0 | BK33: =IF(ISBLANK(L33),"0",_xlfn.CEILING.MATH(AD33)) -> 0 | BL33: =IF(ISBLANK(L33),"0",_xlfn.CEILING.MATH(Z33)) -> 0 | BM33: {=IF(ISBLANK(AW33),"0",_xlfn.CEILING.MATH(AX33/الفرضيات!$H$3*(1+MAX(_xlfn.CHOOSECOLS(_xlfn._xlws.FILTER($I$4:$AT$335,$K$4:$K$335=AW33),36)))))} -> 0 | BN33: {=IF(ISBLANK(AW33),"0",_xlfn.CEILING.MATH(AY33/الفرضيات!$H$4*(1+MAX(_xlfn.CHOOSECOLS(_xlfn._xlws.FILTER($I$4:$AT$335,$K$4:$K$335=AW33),36)))))} -> 0 | BO33: =IF(ISBLANK(L33),"0",IF(S33<2,"0",(U33*(R33-AG33)/الفرضيات!$H$2*(1+AR33)))) -> 0 | BP33: =IF(ISBLANK(L33),"0",_xlfn.CEILING.MATH(X33)) -> 0 | BQ33: =IF(ISBLANK(AW33),"0",_xlfn.CEILING.MATH(BD33)) -> 0 | BR33: =IF(ISBLANK(AW33),"0",IF($AZ33<2,"0",BU33+BV33)) -> 0 | BS33: =IF(ISBLANK(L33),"0",_xlfn.CEILING.MATH(AE33)) -> 0 | BT33: =IF(ISBLANK(L33),"0",_xlfn.CEILING.MATH(AA33)) -> 0 | BU33: {=IF(ISBLANK(AW33),"0",IF($AZ33<2,"0",_xlfn.CEILING.MATH(AX33/الفرضيات!$H$3*(1+MAX(_xlfn.CHOOSECOLS(_xlfn._xlws.FILTER($I$4:$AT$335,$K$4:$K$335=AW33),36))))))} -> 0 | BV33: {=IF(ISBLANK(AW33),"0",IF($AZ33<2,"0",_xlfn.CEILING.MATH(AY33/الفرضيات!$H$4*(1+MAX(_xlfn.CHOOSECOLS(_xlfn._xlws.FILTER($I$4:$AT$335,$K$4:$K$335=AW33),36))))))} -> 0 | BW33: =IF(ISBLANK(L33),"0",IF(S33<3,"0",(V33*(R33-AG33)/الفرضيات!$H$2*(1+AR33)))) -> 0 | BX33: =IF(ISBLANK(L33),"0",_xlfn.CEILING.MATH(Y33)) -> 0 | BY33: =IF(ISBLANK(AW33),"0",_xlfn.CEILING.MATH(BE33)) -> 0 | BZ33: =IF(ISBLANK(AW33),"0",IF($AZ33<3,"0",CC33+CD33)) -> 0 | CA33: =IF(ISBLANK(L33),"0",_xlfn.CEILING.MATH(AF33)) -> 0 | CB33: =IF(ISBLANK(L33),"0",_xlfn.CEILING.MATH(AB33)) -> 0 | CC33: {=IF(ISBLANK(AW33),"0",IF($AZ33<3,"0",_xlfn.CEILING.MATH(AX33/الفرضيات!$H$3*(1+MAX(_xlfn.CHOOSECOLS(_xlfn._xlws.FILTER($I$4:$AT$335,$K$4:$K$335=AW33),36))))))} -> 0 | CD33: {=IF(ISBLANK(AW33),"0",IF($AZ33<3,"0",_xlfn.CEILING.MATH(AY33/الفرضيات!$H$4*(1+MAX(_xlfn.CHOOSECOLS(_xlfn._xlws.FILTER($I$4:$AT$335,$K$4:$K$335=AW33),36))))))} -> 0 | CE33: =IFERROR(MAX(0,((BG33+BO33+BW33)*(1+AS33+AR33)+(BH33+BI33+BJ33+BL33+BP33+BQ33+BR33+BT33+BX33+BY33+BZ33+CB33)*(1+AS33))*(1+ VLOOKUP(AQ33,الفرضيات!$N$1:$O$11,2,0))-AH33),0) -> 0 | CF33: =IFERROR(BK33+BS33+CA33,0) -> 0 | CG33: {=IFERROR(MAX(0,MAX(BM33,BU33,CC33)*(1+VLOOKUP(MAX(_xlfn.CHOOSECOLS(_xlfn._xlws.FILTER($I$4:$AT$335,$K$4:$K$335=AW33),35)),الفرضيات!$N$2:$O$11,2,0))-BA33),0)} -> 0 | CH33: {=IFERROR(MAX(0,MAX(BN33,BV33,CD33)*(1+VLOOKUP(MAX(_xlfn.CHOOSECOLS(_xlfn._xlws.FILTER($I$4:$AT$335,$K$4:$K$335=AW33),35)),الفرضيات!$N$2:$O$11,2,0))-BB33),0)} -> 0
B34: خدمة أمن الفعاليات | D34: 2 | AQ34: =IFERROR( IF(AND(AM34<>0,AL34<>0,AK34<>0), VLOOKUP(AL34,$B$45:$C$48,2,0)*VLOOKUP(AM34,$B$45:$C$48,2,0)*VLOOKUP(AK34,$B$45:$C$48,2,0), VLOOKUP(AO34,$B$45:$C$48,2,0)*VLOOKUP(AP34,$B$45:$C$48,2,0)*VLOOKUP(AN34,$B$45:$C$48,2,0)),"") | AR34: =IF(AQ34="","",(LOOKUP(SUM(N34:O34),الفرضيات!$R$2:$R$9, الفرضيات!$S$2:$S$9))) | AS34: =IF(ISBLANK(L34),"",الفرضيات!$L$2) | BG34: =IF(ISBLANK(L34),"0",T34*(R34-AG34)/الفرضيات!$H$2*(1+AR34)) -> 0 | BH34: =IF(ISBLANK(L34),"0",_xlfn.CEILING.MATH(W34)) -> 0 | BI34: =IF(ISBLANK(AW34),"0",_xlfn.CEILING.MATH(BC34)) -> 0 | BJ34: =IF(ISBLANK(AW34),"0",BM34+BN34) -> 0 | BK34: =IF(ISBLANK(L34),"0",_xlfn.CEILING.MATH(AD34)) -> 0 | BL34: =IF(ISBLANK(L34),"0",_xlfn.CEILING.MATH(Z34)) -> 0 | BM34: {=IF(ISBLANK(AW34),"0",_xlfn.CEILING.MATH(AX34/الفرضيات!$H$3*(1+MAX(_xlfn.CHOOSECOLS(_xlfn._xlws.FILTER($I$4:$AT$335,$K$4:$K$335=AW34),36)))))} -> 0 | BN34: {=IF(ISBLANK(AW34),"0",_xlfn.CEILING.MATH(AY34/الفرضيات!$H$4*(1+MAX(_xlfn.CHOOSECOLS(_xlfn._xlws.FILTER($I$4:$AT$335,$K$4:$K$335=AW34),36)))))} -> 0 | BO34: =IF(ISBLANK(L34),"0",IF(S34<2,"0",(U34*(R34-AG34)/الفرضيات!$H$2*(1+AR34)))) -> 0 | BP34: =IF(ISBLANK(L34),"0",_xlfn.CEILING.MATH(X34)) -> 0 | BQ34: =IF(ISBLANK(AW34),"0",_xlfn.CEILING.MATH(BD34)) -> 0 | BR34: =IF(ISBLANK(AW34),"0",IF($AZ34<2,"0",BU34+BV34)) -> 0 | BS34: =IF(ISBLANK(L34),"0",_xlfn.CEILING.MATH(AE34)) -> 0 | BT34: =IF(ISBLANK(L34),"0",_xlfn.CEILING.MATH(AA34)) -> 0 | BU34: {=IF(ISBLANK(AW34),"0",IF($AZ34<2,"0",_xlfn.CEILING.MATH(AX34/الفرضيات!$H$3*(1+MAX(_xlfn.CHOOSECOLS(_xlfn._xlws.FILTER($I$4:$AT$335,$K$4:$K$335=AW34),36))))))} -> 0 | BV34: {=IF(ISBLANK(AW34),"0",IF($AZ34<2,"0",_xlfn.CEILING.MATH(AY34/الفرضيات!$H$4*(1+MAX(_xlfn.CHOOSECOLS(_xlfn._xlws.FILTER($I$4:$AT$335,$K$4:$K$335=AW34),36))))))} -> 0 | BW34: =IF(ISBLANK(L34),"0",IF(S34<3,"0",(V34*(R34-AG34)/الفرضيات!$H$2*(1+AR34)))) -> 0 | BX34: =IF(ISBLANK(L34),"0",_xlfn.CEILING.MATH(Y34)) -> 0 | BY34: =IF(ISBLANK(AW34),"0",_xlfn.CEILING.MATH(BE34)) -> 0 | BZ34: =IF(ISBLANK(AW34),"0",IF($AZ34<3,"0",CC34+CD34)) -> 0 | CA34: =IF(ISBLANK(L34),"0",_xlfn.CEILING.MATH(AF34)) -> 0 | CB34: =IF(ISBLANK(L34),"0",_xlfn.CEILING.MATH(AB34)) -> 0 | CC34: {=IF(ISBLANK(AW34),"0",IF($AZ34<3,"0",_xlfn.CEILING.MATH(AX34/الفرضيات!$H$3*(1+MAX(_xlfn.CHOOSECOLS(_xlfn._xlws.FILTER($I$4:$AT$335,$K$4:$K$335=AW34),36))))))} -> 0 | CD34: {=IF(ISBLANK(AW34),"0",IF($AZ34<3,"0",_xlfn.CEILING.MATH(AY34/الفرضيات!$H$4*(1+MAX(_xlfn.CHOOSECOLS(_xlfn._xlws.FILTER($I$4:$AT$335,$K$4:$K$335=AW34),36))))))} -> 0 | CE34: =IFERROR(MAX(0,((BG34+BO34+BW34)*(1+AS34+AR34)+(BH34+BI34+BJ34+BL34+BP34+BQ34+BR34+BT34+BX34+BY34+BZ34+CB34)*(1+AS34))*(1+ VLOOKUP(AQ34,الفرضيات!$N$1:$O$11,2,0))-AH34),0) -> 0 | CF34: =IFERROR(BK34+BS34+CA34,0) -> 0 | CG34: {=IFERROR(MAX(0,MAX(BM34,BU34,CC34)*(1+VLOOKUP(MAX(_xlfn.CHOOSECOLS(_xlfn._xlws.FILTER($I$4:$AT$335,$K$4:$K$335=AW34),35)),الفرضيات!$N$2:$O$11,2,0))-BA34),0)} -> 0 | CH34: {=IFERROR(MAX(0,MAX(BN34,BV34,CD34)*(1+VLOOKUP(MAX(_xlfn.CHOOSECOLS(_xlfn._xlws.FILTER($I$4:$AT$335,$K$4:$K$335=AW34),35)),الفرضيات!$N$2:$O$11,2,0))-BB34),0)} -> 0
AQ35: =IFERROR( IF(AND(AM35<>0,AL35<>0,AK35<>0), VLOOKUP(AL35,$B$45:$C$48,2,0)*VLOOKUP(AM35,$B$45:$C$48,2,0)*VLOOKUP(AK35,$B$45:$C$48,2,0), VLOOKUP(AO35,$B$45:$C$48,2,0)*VLOOKUP(AP35,$B$45:$C$48,2,0)*VLOOKUP(AN35,$B$45:$C$48,2,0)),"") | AR35: =IF(AQ35="","",(LOOKUP(SUM(N35:O35),الفرضيات!$R$2:$R$9, الفرضيات!$S$2:$S$9))) | AS35: =IF(ISBLANK(L35),"",الفرضيات!$L$2) | BG35: =IF(ISBLANK(L35),"0",T35*(R35-AG35)/الفرضيات!$H$2*(1+AR35)) -> 0 | BH35: =IF(ISBLANK(L35),"0",_xlfn.CEILING.MATH(W35)) -> 0 | BI35: =IF(ISBLANK(AW35),"0",_xlfn.CEILING.MATH(BC35)) -> 0 | BJ35: =IF(ISBLANK(AW35),"0",BM35+BN35) -> 0 | BK35: =IF(ISBLANK(L35),"0",_xlfn.CEILING.MATH(AD35)) -> 0 | BL35: =IF(ISBLANK(L35),"0",_xlfn.CEILING.MATH(Z35)) -> 0 | BM35: {=IF(ISBLANK(AW35),"0",_xlfn.CEILING.MATH(AX35/الفرضيات!$H$3*(1+MAX(_xlfn.CHOOSECOLS(_xlfn._xlws.FILTER($I$4:$AT$335,$K$4:$K$335=AW35),36)))))} -> 0 | BN35: {=IF(ISBLANK(AW35),"0",_xlfn.CEILING.MATH(AY35/الفرضيات!$H$4*(1+MAX(_xlfn.CHOOSECOLS(_xlfn._xlws.FILTER($I$4:$AT$335,$K$4:$K$335=AW35),36)))))} -> 0 | BO35: =IF(ISBLANK(L35),"0",IF(S35<2,"0",(U35*(R35-AG35)/الفرضيات!$H$2*(1+AR35)))) -> 0 | BP35: =IF(ISBLANK(L35),"0",_xlfn.CEILING.MATH(X35)) -> 0 | BQ35: =IF(ISBLANK(AW35),"0",_xlfn.CEILING.MATH(BD35)) -> 0 | BR35: =IF(ISBLANK(AW35),"0",IF($AZ35<2,"0",BU35+BV35)) -> 0 | BS35: =IF(ISBLANK(L35),"0",_xlfn.CEILING.MATH(AE35)) -> 0 | BT35: =IF(ISBLANK(L35),"0",_xlfn.CEILING.MATH(AA35)) -> 0 | BU35: {=IF(ISBLANK(AW35),"0",IF($AZ35<2,"0",_xlfn.CEILING.MATH(AX35/الفرضيات!$H$3*(1+MAX(_xlfn.CHOOSECOLS(_xlfn._xlws.FILTER($I$4:$AT$335,$K$4:$K$335=AW35),36))))))} -> 0 | BV35: {=IF(ISBLANK(AW35),"0",IF($AZ35<2,"0",_xlfn.CEILING.MATH(AY35/الفرضيات!$H$4*(1+MAX(_xlfn.CHOOSECOLS(_xlfn._xlws.FILTER($I$4:$AT$335,$K$4:$K$335=AW35),36))))))} -> 0 | BW35: =IF(ISBLANK(L35),"0",IF(S35<3,"0",(V35*(R35-AG35)/الفرضيات!$H$2*(1+AR35)))) -> 0 | BX35: =IF(ISBLANK(L35),"0",_xlfn.CEILING.MATH(Y35)) -> 0 | BY35: =IF(ISBLANK(AW35),"0",_xlfn.CEILING.MATH(BE35)) -> 0 | BZ35: =IF(ISBLANK(AW35),"0",IF($AZ35<3,"0",CC35+CD35)) -> 0 | CA35: =IF(ISBLANK(L35),"0",_xlfn.CEILING.MATH(AF35)) -> 0 | CB35: =IF(ISBLANK(L35),"0",_xlfn.CEILING.MATH(AB35)) -> 0 | CC35: {=IF(ISBLANK(AW35),"0",IF($AZ35<3,"0",_xlfn.CEILING.MATH(AX35/الفرضيات!$H$3*(1+MAX(_xlfn.CHOOSECOLS(_xlfn._xlws.FILTER($I$4:$AT$335,$K$4:$K$335=AW35),36))))))} -> 0 | CD35: {=IF(ISBLANK(AW35),"0",IF($AZ35<3,"0",_xlfn.CEILING.MATH(AY35/الفرضيات!$H$4*(1+MAX(_xlfn.CHOOSECOLS(_xlfn._xlws.FILTER($I$4:$AT$335,$K$4:$K$335=AW35),36))))))} -> 0 | CE35: =IFERROR(MAX(0,((BG35+BO35+BW35)*(1+AS35+AR35)+(BH35+BI35+BJ35+BL35+BP35+BQ35+BR35+BT35+BX35+BY35+BZ35+CB35)*(1+AS35))*(1+ VLOOKUP(AQ35,الفرضيات!$N$1:$O$11,2,0))-AH35),0) -> 0 | CF35: =IFERROR(BK35+BS35+CA35,0) -> 0 | CG35: {=IFERROR(MAX(0,MAX(BM35,BU35,CC35)*(1+VLOOKUP(MAX(_xlfn.CHOOSECOLS(_xlfn._xlws.FILTER($I$4:$AT$335,$K$4:$K$335=AW35),35)),الفرضيات!$N$2:$O$11,2,0))-BA35),0)} -> 0 | CH35: {=IFERROR(MAX(0,MAX(BN35,BV35,CD35)*(1+VLOOKUP(MAX(_xlfn.CHOOSECOLS(_xlfn._xlws.FILTER($I$4:$AT$335,$K$4:$K$335=AW35),35)),الفرضيات!$N$2:$O$11,2,0))-BB35),0)} -> 0
AQ36: =IFERROR( IF(AND(AM36<>0,AL36<>0,AK36<>0), VLOOKUP(AL36,$B$45:$C$48,2,0)*VLOOKUP(AM36,$B$45:$C$48,2,0)*VLOOKUP(AK36,$B$45:$C$48,2,0), VLOOKUP(AO36,$B$45:$C$48,2,0)*VLOOKUP(AP36,$B$45:$C$48,2,0)*VLOOKUP(AN36,$B$45:$C$48,2,0)),"") | AR36: =IF(AQ36="","",(LOOKUP(SUM(N36:O36),الفرضيات!$R$2:$R$9, الفرضيات!$S$2:$S$9))) | AS36: =IF(ISBLANK(L36),"",الفرضيات!$L$2) | BG36: =IF(ISBLANK(L36),"0",T36*(R36-AG36)/الفرضيات!$H$2*(1+AR36)) -> 0 | BH36: =IF(ISBLANK(L36),"0",_xlfn.CEILING.MATH(W36)) -> 0 | BI36: =IF(ISBLANK(AW36),"0",_xlfn.CEILING.MATH(BC36)) -> 0 | BJ36: =IF(ISBLANK(AW36),"0",BM36+BN36) -> 0 | BK36: =IF(ISBLANK(L36),"0",_xlfn.CEILING.MATH(AD36)) -> 0 | BL36: =IF(ISBLANK(L36),"0",_xlfn.CEILING.MATH(Z36)) -> 0 | BM36: {=IF(ISBLANK(AW36),"0",_xlfn.CEILING.MATH(AX36/الفرضيات!$H$3*(1+MAX(_xlfn.CHOOSECOLS(_xlfn._xlws.FILTER($I$4:$AT$335,$K$4:$K$335=AW36),36)))))} -> 0 | BN36: {=IF(ISBLANK(AW36),"0",_xlfn.CEILING.MATH(AY36/الفرضيات!$H$4*(1+MAX(_xlfn.CHOOSECOLS(_xlfn._xlws.FILTER($I$4:$AT$335,$K$4:$K$335=AW36),36)))))} -> 0 | BO36: =IF(ISBLANK(L36),"0",IF(S36<2,"0",(U36*(R36-AG36)/الفرضيات!$H$2*(1+AR36)))) -> 0 | BP36: =IF(ISBLANK(L36),"0",_xlfn.CEILING.MATH(X36)) -> 0 | BQ36: =IF(ISBLANK(AW36),"0",_xlfn.CEILING.MATH(BD36)) -> 0 | BR36: =IF(ISBLANK(AW36),"0",IF($AZ36<2,"0",BU36+BV36)) -> 0 | BS36: =IF(ISBLANK(L36),"0",_xlfn.CEILING.MATH(AE36)) -> 0 | BT36: =IF(ISBLANK(L36),"0",_xlfn.CEILING.MATH(AA36)) -> 0 | BU36: {=IF(ISBLANK(AW36),"0",IF($AZ36<2,"0",_xlfn.CEILING.MATH(AX36/الفرضيات!$H$3*(1+MAX(_xlfn.CHOOSECOLS(_xlfn._xlws.FILTER($I$4:$AT$335,$K$4:$K$335=AW36),36))))))} -> 0 | BV36: {=IF(ISBLANK(AW36),"0",IF($AZ36<2,"0",_xlfn.CEILING.MATH(AY36/الفرضيات!$H$4*(1+MAX(_xlfn.CHOOSECOLS(_xlfn._xlws.FILTER($I$4:$AT$335,$K$4:$K$335=AW36),36))))))} -> 0 | BW36: =IF(ISBLANK(L36),"0",IF(S36<3,"0",(V36*(R36-AG36)/الفرضيات!$H$2*(1+AR36)))) -> 0 | BX36: =IF(ISBLANK(L36),"0",_xlfn.CEILING.MATH(Y36)) -> 0 | BY36: =IF(ISBLANK(AW36),"0",_xlfn.CEILING.MATH(BE36)) -> 0 | BZ36: =IF(ISBLANK(AW36),"0",IF($AZ36<3,"0",CC36+CD36)) -> 0 | CA36: =IF(ISBLANK(L36),"0",_xlfn.CEILING.MATH(AF36)) -> 0 | CB36: =IF(ISBLANK(L36),"0",_xlfn.CEILING.MATH(AB36)) -> 0 | CC36: {=IF(ISBLANK(AW36),"0",IF($AZ36<3,"0",_xlfn.CEILING.MATH(AX36/الفرضيات!$H$3*(1+MAX(_xlfn.CHOOSECOLS(_xlfn._xlws.FILTER($I$4:$AT$335,$K$4:$K$335=AW36),36))))))} -> 0 | CD36: {=IF(ISBLANK(AW36),"0",IF($AZ36<3,"0",_xlfn.CEILING.MATH(AY36/الفرضيات!$H$4*(1+MAX(_xlfn.CHOOSECOLS(_xlfn._xlws.FILTER($I$4:$AT$335,$K$4:$K$335=AW36),36))))))} -> 0 | CE36: =IFERROR(MAX(0,((BG36+BO36+BW36)*(1+AS36+AR36)+(BH36+BI36+BJ36+BL36+BP36+BQ36+BR36+BT36+BX36+BY36+BZ36+CB36)*(1+AS36))*(1+ VLOOKUP(AQ36,الفرضيات!$N$1:$O$11,2,0))-AH36),0) -> 0 | CF36: =IFERROR(BK36+BS36+CA36,0) -> 0 | CG36: {=IFERROR(MAX(0,MAX(BM36,BU36,CC36)*(1+VLOOKUP(MAX(_xlfn.CHOOSECOLS(_xlfn._xlws.FILTER($I$4:$AT$335,$K$4:$K$335=AW36),35)),الفرضيات!$N$2:$O$11,2,0))-BA36),0)} -> 0 | CH36: {=IFERROR(MAX(0,MAX(BN36,BV36,CD36)*(1+VLOOKUP(MAX(_xlfn.CHOOSECOLS(_xlfn._xlws.FILTER($I$4:$AT$335,$K$4:$K$335=AW36),35)),الفرضيات!$N$2:$O$11,2,0))-BB36),0)} -> 0
AQ37: =IFERROR( IF(AND(AM37<>0,AL37<>0,AK37<>0), VLOOKUP(AL37,$B$45:$C$48,2,0)*VLOOKUP(AM37,$B$45:$C$48,2,0)*VLOOKUP(AK37,$B$45:$C$48,2,0), VLOOKUP(AO37,$B$45:$C$48,2,0)*VLOOKUP(AP37,$B$45:$C$48,2,0)*VLOOKUP(AN37,$B$45:$C$48,2,0)),"") | AR37: =IF(AQ37="","",(LOOKUP(SUM(N37:O37),الفرضيات!$R$2:$R$9, الفرضيات!$S$2:$S$9))) | AS37: =IF(ISBLANK(L37),"",الفرضيات!$L$2) | BG37: =IF(ISBLANK(L37),"0",T37*(R37-AG37)/الفرضيات!$H$2*(1+AR37)) -> 0 | BH37: =IF(ISBLANK(L37),"0",_xlfn.CEILING.MATH(W37)) -> 0 | BI37: =IF(ISBLANK(AW37),"0",_xlfn.CEILING.MATH(BC37)) -> 0 | BJ37: =IF(ISBLANK(AW37),"0",BM37+BN37) -> 0 | BK37: =IF(ISBLANK(L37),"0",_xlfn.CEILING.MATH(AD37)) -> 0 | BL37: =IF(ISBLANK(L37),"0",_xlfn.CEILING.MATH(Z37)) -> 0 | BM37: {=IF(ISBLANK(AW37),"0",_xlfn.CEILING.MATH(AX37/الفرضيات!$H$3*(1+MAX(_xlfn.CHOOSECOLS(_xlfn._xlws.FILTER($I$4:$AT$335,$K$4:$K$335=AW37),36)))))} -> 0 | BN37: {=IF(ISBLANK(AW37),"0",_xlfn.CEILING.MATH(AY37/الفرضيات!$H$4*(1+MAX(_xlfn.CHOOSECOLS(_xlfn._xlws.FILTER($I$4:$AT$335,$K$4:$K$335=AW37),36)))))} -> 0 | BO37: =IF(ISBLANK(L37),"0",IF(S37<2,"0",(U37*(R37-AG37)/الفرضيات!$H$2*(1+AR37)))) -> 0 | BP37: =IF(ISBLANK(L37),"0",_xlfn.CEILING.MATH(X37)) -> 0 | BQ37: =IF(ISBLANK(AW37),"0",_xlfn.CEILING.MATH(BD37)) -> 0 | BR37: =IF(ISBLANK(AW37),"0",IF($AZ37<2,"0",BU37+BV37)) -> 0 | BS37: =IF(ISBLANK(L37),"0",_xlfn.CEILING.MATH(AE37)) -> 0 | BT37: =IF(ISBLANK(L37),"0",_xlfn.CEILING.MATH(AA37)) -> 0 | BU37: {=IF(ISBLANK(AW37),"0",IF($AZ37<2,"0",_xlfn.CEILING.MATH(AX37/الفرضيات!$H$3*(1+MAX(_xlfn.CHOOSECOLS(_xlfn._xlws.FILTER($I$4:$AT$335,$K$4:$K$335=AW37),36))))))} -> 0 | BV37: {=IF(ISBLANK(AW37),"0",IF($AZ37<2,"0",_xlfn.CEILING.MATH(AY37/الفرضيات!$H$4*(1+MAX(_xlfn.CHOOSECOLS(_xlfn._xlws.FILTER($I$4:$AT$335,$K$4:$K$335=AW37),36))))))} -> 0 | BW37: =IF(ISBLANK(L37),"0",IF(S37<3,"0",(V37*(R37-AG37)/الفرضيات!$H$2*(1+AR37)))) -> 0 | BX37: =IF(ISBLANK(L37),"0",_xlfn.CEILING.MATH(Y37)) -> 0 | BY37: =IF(ISBLANK(AW37),"0",_xlfn.CEILING.MATH(BE37)) -> 0 | BZ37: =IF(ISBLANK(AW37),"0",IF($AZ37<3,"0",CC37+CD37)) -> 0 | CA37: =IF(ISBLANK(L37),"0",_xlfn.CEILING.MATH(AF37)) -> 0 | CB37: =IF(ISBLANK(L37),"0",_xlfn.CEILING.MATH(AB37)) -> 0 | CC37: {=IF(ISBLANK(AW37),"0",IF($AZ37<3,"0",_xlfn.CEILING.MATH(AX37/الفرضيات!$H$3*(1+MAX(_xlfn.CHOOSECOLS(_xlfn._xlws.FILTER($I$4:$AT$335,$K$4:$K$335=AW37),36))))))} -> 0 | CD37: {=IF(ISBLANK(AW37),"0",IF($AZ37<3,"0",_xlfn.CEILING.MATH(AY37/الفرضيات!$H$4*(1+MAX(_xlfn.CHOOSECOLS(_xlfn._xlws.FILTER($I$4:$AT$335,$K$4:$K$335=AW37),36))))))} -> 0 | CE37: =IFERROR(MAX(0,((BG37+BO37+BW37)*(1+AS37+AR37)+(BH37+BI37+BJ37+BL37+BP37+BQ37+BR37+BT37+BX37+BY37+BZ37+CB37)*(1+AS37))*(1+ VLOOKUP(AQ37,الفرضيات!$N$1:$O$11,2,0))-AH37),0) -> 0 | CF37: =IFERROR(BK37+BS37+CA37,0) -> 0 | CG37: {=IFERROR(MAX(0,MAX(BM37,BU37,CC37)*(1+VLOOKUP(MAX(_xlfn.CHOOSECOLS(_xlfn._xlws.FILTER($I$4:$AT$335,$K$4:$K$335=AW37),35)),الفرضيات!$N$2:$O$11,2,0))-BA37),0)} -> 0 | CH37: {=IFERROR(MAX(0,MAX(BN37,BV37,CD37)*(1+VLOOKUP(MAX(_xlfn.CHOOSECOLS(_xlfn._xlws.FILTER($I$4:$AT$335,$K$4:$K$335=AW37),35)),الفرضيات!$N$2:$O$11,2,0))-BB37),0)} -> 0
AQ38: =IFERROR( IF(AND(AM38<>0,AL38<>0,AK38<>0), VLOOKUP(AL38,$B$45:$C$48,2,0)*VLOOKUP(AM38,$B$45:$C$48,2,0)*VLOOKUP(AK38,$B$45:$C$48,2,0), VLOOKUP(AO38,$B$45:$C$48,2,0)*VLOOKUP(AP38,$B$45:$C$48,2,0)*VLOOKUP(AN38,$B$45:$C$48,2,0)),"") | AR38: =IF(AQ38="","",(LOOKUP(SUM(N38:O38),الفرضيات!$R$2:$R$9, الفرضيات!$S$2:$S$9))) | AS38: =IF(ISBLANK(L38),"",الفرضيات!$L$2) | BG38: =IF(ISBLANK(L38),"0",T38*(R38-AG38)/الفرضيات!$H$2*(1+AR38)) -> 0 | BH38: =IF(ISBLANK(L38),"0",_xlfn.CEILING.MATH(W38)) -> 0 | BI38: =IF(ISBLANK(AW38),"0",_xlfn.CEILING.MATH(BC38)) -> 0 | BJ38: =IF(ISBLANK(AW38),"0",BM38+BN38) -> 0 | BK38: =IF(ISBLANK(L38),"0",_xlfn.CEILING.MATH(AD38)) -> 0 | BL38: =IF(ISBLANK(L38),"0",_xlfn.CEILING.MATH(Z38)) -> 0 | BM38: {=IF(ISBLANK(AW38),"0",_xlfn.CEILING.MATH(AX38/الفرضيات!$H$3*(1+MAX(_xlfn.CHOOSECOLS(_xlfn._xlws.FILTER($I$4:$AT$335,$K$4:$K$335=AW38),36)))))} -> 0 | BN38: {=IF(ISBLANK(AW38),"0",_xlfn.CEILING.MATH(AY38/الفرضيات!$H$4*(1+MAX(_xlfn.CHOOSECOLS(_xlfn._xlws.FILTER($I$4:$AT$335,$K$4:$K$335=AW38),36)))))} -> 0 | BO38: =IF(ISBLANK(L38),"0",IF(S38<2,"0",(U38*(R38-AG38)/الفرضيات!$H$2*(1+AR38)))) -> 0 | BP38: =IF(ISBLANK(L38),"0",_xlfn.CEILING.MATH(X38)) -> 0 | BQ38: =IF(ISBLANK(AW38),"0",_xlfn.CEILING.MATH(BD38)) -> 0 | BR38: =IF(ISBLANK(AW38),"0",IF($AZ38<2,"0",BU38+BV38)) -> 0 | BS38: =IF(ISBLANK(L38),"0",_xlfn.CEILING.MATH(AE38)) -> 0 | BT38: =IF(ISBLANK(L38),"0",_xlfn.CEILING.MATH(AA38)) -> 0 | BU38: {=IF(ISBLANK(AW38),"0",IF($AZ38<2,"0",_xlfn.CEILING.MATH(AX38/الفرضيات!$H$3*(1+MAX(_xlfn.CHOOSECOLS(_xlfn._xlws.FILTER($I$4:$AT$335,$K$4:$K$335=AW38),36))))))} -> 0 | BV38: {=IF(ISBLANK(AW38),"0",IF($AZ38<2,"0",_xlfn.CEILING.MATH(AY38/الفرضيات!$H$4*(1+MAX(_xlfn.CHOOSECOLS(_xlfn._xlws.FILTER($I$4:$AT$335,$K$4:$K$335=AW38),36))))))} -> 0 | BW38: =IF(ISBLANK(L38),"0",IF(S38<3,"0",(V38*(R38-AG38)/الفرضيات!$H$2*(1+AR38)))) -> 0 | BX38: =IF(ISBLANK(L38),"0",_xlfn.CEILING.MATH(Y38)) -> 0 | BY38: =IF(ISBLANK(AW38),"0",_xlfn.CEILING.MATH(BE38)) -> 0 | BZ38: =IF(ISBLANK(AW38),"0",IF($AZ38<3,"0",CC38+CD38)) -> 0 | CA38: =IF(ISBLANK(L38),"0",_xlfn.CEILING.MATH(AF38)) -> 0 | CB38: =IF(ISBLANK(L38),"0",_xlfn.CEILING.MATH(AB38)) -> 0 | CC38: {=IF(ISBLANK(AW38),"0",IF($AZ38<3,"0",_xlfn.CEILING.MATH(AX38/الفرضيات!$H$3*(1+MAX(_xlfn.CHOOSECOLS(_xlfn._xlws.FILTER($I$4:$AT$335,$K$4:$K$335=AW38),36))))))} -> 0 | CD38: {=IF(ISBLANK(AW38),"0",IF($AZ38<3,"0",_xlfn.CEILING.MATH(AY38/الفرضيات!$H$4*(1+MAX(_xlfn.CHOOSECOLS(_xlfn._xlws.FILTER($I$4:$AT$335,$K$4:$K$335=AW38),36))))))} -> 0 | CE38: =IFERROR(MAX(0,((BG38+BO38+BW38)*(1+AS38+AR38)+(BH38+BI38+BJ38+BL38+BP38+BQ38+BR38+BT38+BX38+BY38+BZ38+CB38)*(1+AS38))*(1+ VLOOKUP(AQ38,الفرضيات!$N$1:$O$11,2,0))-AH38),0) -> 0 | CF38: =IFERROR(BK38+BS38+CA38,0) -> 0 | CG38: {=IFERROR(MAX(0,MAX(BM38,BU38,CC38)*(1+VLOOKUP(MAX(_xlfn.CHOOSECOLS(_xlfn._xlws.FILTER($I$4:$AT$335,$K$4:$K$335=AW38),35)),الفرضيات!$N$2:$O$11,2,0))-BA38),0)} -> 0 | CH38: {=IFERROR(MAX(0,MAX(BN38,BV38,CD38)*(1+VLOOKUP(MAX(_xlfn.CHOOSECOLS(_xlfn._xlws.FILTER($I$4:$AT$335,$K$4:$K$335=AW38),35)),الفرضيات!$N$2:$O$11,2,0))-BB38),0)} -> 0
AQ39: =IFERROR( IF(AND(AM39<>0,AL39<>0,AK39<>0), VLOOKUP(AL39,$B$45:$C$48,2,0)*VLOOKUP(AM39,$B$45:$C$48,2,0)*VLOOKUP(AK39,$B$45:$C$48,2,0), VLOOKUP(AO39,$B$45:$C$48,2,0)*VLOOKUP(AP39,$B$45:$C$48,2,0)*VLOOKUP(AN39,$B$45:$C$48,2,0)),"") | AR39: =IF(AQ39="","",(LOOKUP(SUM(N39:O39),الفرضيات!$R$2:$R$9, الفرضيات!$S$2:$S$9))) | AS39: =IF(ISBLANK(L39),"",الفرضيات!$L$2) | BG39: =IF(ISBLANK(L39),"0",T39*(R39-AG39)/الفرضيات!$H$2*(1+AR39)) -> 0 | BH39: =IF(ISBLANK(L39),"0",_xlfn.CEILING.MATH(W39)) -> 0 | BI39: =IF(ISBLANK(AW39),"0",_xlfn.CEILING.MATH(BC39)) -> 0 | BJ39: =IF(ISBLANK(AW39),"0",BM39+BN39) -> 0 | BK39: =IF(ISBLANK(L39),"0",_xlfn.CEILING.MATH(AD39)) -> 0 | BL39: =IF(ISBLANK(L39),"0",_xlfn.CEILING.MATH(Z39)) -> 0 | BM39: {=IF(ISBLANK(AW39),"0",_xlfn.CEILING.MATH(AX39/الفرضيات!$H$3*(1+MAX(_xlfn.CHOOSECOLS(_xlfn._xlws.FILTER($I$4:$AT$335,$K$4:$K$335=AW39),36)))))} -> 0 | BN39: {=IF(ISBLANK(AW39),"0",_xlfn.CEILING.MATH(AY39/الفرضيات!$H$4*(1+MAX(_xlfn.CHOOSECOLS(_xlfn._xlws.FILTER($I$4:$AT$335,$K$4:$K$335=AW39),36)))))} -> 0 | BO39: =IF(ISBLANK(L39),"0",IF(S39<2,"0",(U39*(R39-AG39)/الفرضيات!$H$2*(1+AR39)))) -> 0 | BP39: =IF(ISBLANK(L39),"0",_xlfn.CEILING.MATH(X39)) -> 0 | BQ39: =IF(ISBLANK(AW39),"0",_xlfn.CEILING.MATH(BD39)) -> 0 | BR39: =IF(ISBLANK(AW39),"0",IF($AZ39<2,"0",BU39+BV39)) -> 0 | BS39: =IF(ISBLANK(L39),"0",_xlfn.CEILING.MATH(AE39)) -> 0 | BT39: =IF(ISBLANK(L39),"0",_xlfn.CEILING.MATH(AA39)) -> 0 | BU39: {=IF(ISBLANK(AW39),"0",IF($AZ39<2,"0",_xlfn.CEILING.MATH(AX39/الفرضيات!$H$3*(1+MAX(_xlfn.CHOOSECOLS(_xlfn._xlws.FILTER($I$4:$AT$335,$K$4:$K$335=AW39),36))))))} -> 0 | BV39: {=IF(ISBLANK(AW39),"0",IF($AZ39<2,"0",_xlfn.CEILING.MATH(AY39/الفرضيات!$H$4*(1+MAX(_xlfn.CHOOSECOLS(_xlfn._xlws.FILTER($I$4:$AT$335,$K$4:$K$335=AW39),36))))))} -> 0 | BW39: =IF(ISBLANK(L39),"0",IF(S39<3,"0",(V39*(R39-AG39)/الفرضيات!$H$2*(1+AR39)))) -> 0 | BX39: =IF(ISBLANK(L39),"0",_xlfn.CEILING.MATH(Y39)) -> 0 | BY39: =IF(ISBLANK(AW39),"0",_xlfn.CEILING.MATH(BE39)) -> 0 | BZ39: =IF(ISBLANK(AW39),"0",IF($AZ39<3,"0",CC39+CD39)) -> 0 | CA39: =IF(ISBLANK(L39),"0",_xlfn.CEILING.MATH(AF39)) -> 0 | CB39: =IF(ISBLANK(L39),"0",_xlfn.CEILING.MATH(AB39)) -> 0 | CC39: {=IF(ISBLANK(AW39),"0",IF($AZ39<3,"0",_xlfn.CEILING.MATH(AX39/الفرضيات!$H$3*(1+MAX(_xlfn.CHOOSECOLS(_xlfn._xlws.FILTER($I$4:$AT$335,$K$4:$K$335=AW39),36))))))} -> 0 | CD39: {=IF(ISBLANK(AW39),"0",IF($AZ39<3,"0",_xlfn.CEILING.MATH(AY39/الفرضيات!$H$4*(1+MAX(_xlfn.CHOOSECOLS(_xlfn._xlws.FILTER($I$4:$AT$335,$K$4:$K$335=AW39),36))))))} -> 0 | CE39: =IFERROR(MAX(0,((BG39+BO39+BW39)*(1+AS39+AR39)+(BH39+BI39+BJ39+BL39+BP39+BQ39+BR39+BT39+BX39+BY39+BZ39+CB39)*(1+AS39))*(1+ VLOOKUP(AQ39,الفرضيات!$N$1:$O$11,2,0))-AH39),0) -> 0 | CF39: =IFERROR(BK39+BS39+CA39,0) -> 0 | CG39: {=IFERROR(MAX(0,MAX(BM39,BU39,CC39)*(1+VLOOKUP(MAX(_xlfn.CHOOSECOLS(_xlfn._xlws.FILTER($I$4:$AT$335,$K$4:$K$335=AW39),35)),الفرضيات!$N$2:$O$11,2,0))-BA39),0)} -> 0 | CH39: {=IFERROR(MAX(0,MAX(BN39,BV39,CD39)*(1+VLOOKUP(MAX(_xlfn.CHOOSECOLS(_xlfn._xlws.FILTER($I$4:$AT$335,$K$4:$K$335=AW39),35)),الفرضيات!$N$2:$O$11,2,0))-BB39),0)} -> 0
AQ40: =IFERROR( IF(AND(AM40<>0,AL40<>0,AK40<>0), VLOOKUP(AL40,$B$45:$C$48,2,0)*VLOOKUP(AM40,$B$45:$C$48,2,0)*VLOOKUP(AK40,$B$45:$C$48,2,0), VLOOKUP(AO40,$B$45:$C$48,2,0)*VLOOKUP(AP40,$B$45:$C$48,2,0)*VLOOKUP(AN40,$B$45:$C$48,2,0)),"") | AR40: =IF(AQ40="","",(LOOKUP(SUM(N40:O40),الفرضيات!$R$2:$R$9, الفرضيات!$S$2:$S$9))) | AS40: =IF(ISBLANK(L40),"",الفرضيات!$L$2) | BG40: =IF(ISBLANK(L40),"0",T40*(R40-AG40)/الفرضيات!$H$2*(1+AR40)) -> 0 | BH40: =IF(ISBLANK(L40),"0",_xlfn.CEILING.MATH(W40)) -> 0 | BI40: =IF(ISBLANK(AW40),"0",_xlfn.CEILING.MATH(BC40)) -> 0 | BJ40: =IF(ISBLANK(AW40),"0",BM40+BN40) -> 0 | BK40: =IF(ISBLANK(L40),"0",_xlfn.CEILING.MATH(AD40)) -> 0 | BL40: =IF(ISBLANK(L40),"0",_xlfn.CEILING.MATH(Z40)) -> 0 | BM40: {=IF(ISBLANK(AW40),"0",_xlfn.CEILING.MATH(AX40/الفرضيات!$H$3*(1+MAX(_xlfn.CHOOSECOLS(_xlfn._xlws.FILTER($I$4:$AT$335,$K$4:$K$335=AW40),36)))))} -> 0 | BN40: {=IF(ISBLANK(AW40),"0",_xlfn.CEILING.MATH(AY40/الفرضيات!$H$4*(1+MAX(_xlfn.CHOOSECOLS(_xlfn._xlws.FILTER($I$4:$AT$335,$K$4:$K$335=AW40),36)))))} -> 0 | BO40: =IF(ISBLANK(L40),"0",IF(S40<2,"0",(U40*(R40-AG40)/الفرضيات!$H$2*(1+AR40)))) -> 0 | BP40: =IF(ISBLANK(L40),"0",_xlfn.CEILING.MATH(X40)) -> 0 | BQ40: =IF(ISBLANK(AW40),"0",_xlfn.CEILING.MATH(BD40)) -> 0 | BR40: =IF(ISBLANK(AW40),"0",IF($AZ40<2,"0",BU40+BV40)) -> 0 | BS40: =IF(ISBLANK(L40),"0",_xlfn.CEILING.MATH(AE40)) -> 0 | BT40: =IF(ISBLANK(L40),"0",_xlfn.CEILING.MATH(AA40)) -> 0 | BU40: {=IF(ISBLANK(AW40),"0",IF($AZ40<2,"0",_xlfn.CEILING.MATH(AX40/الفرضيات!$H$3*(1+MAX(_xlfn.CHOOSECOLS(_xlfn._xlws.FILTER($I$4:$AT$335,$K$4:$K$335=AW40),36))))))} -> 0 | BV40: {=IF(ISBLANK(AW40),"0",IF($AZ40<2,"0",_xlfn.CEILING.MATH(AY40/الفرضيات!$H$4*(1+MAX(_xlfn.CHOOSECOLS(_xlfn._xlws.FILTER($I$4:$AT$335,$K$4:$K$335=AW40),36))))))} -> 0 | BW40: =IF(ISBLANK(L40),"0",IF(S40<3,"0",(V40*(R40-AG40)/الفرضيات!$H$2*(1+AR40)))) -> 0 | BX40: =IF(ISBLANK(L40),"0",_xlfn.CEILING.MATH(Y40)) -> 0 | BY40: =IF(ISBLANK(AW40),"0",_xlfn.CEILING.MATH(BE40)) -> 0 | BZ40: =IF(ISBLANK(AW40),"0",IF($AZ40<3,"0",CC40+CD40)) -> 0 | CA40: =IF(ISBLANK(L40),"0",_xlfn.CEILING.MATH(AF40)) -> 0 | CB40: =IF(ISBLANK(L40),"0",_xlfn.CEILING.MATH(AB40)) -> 0 | CC40: {=IF(ISBLANK(AW40),"0",IF($AZ40<3,"0",_xlfn.CEILING.MATH(AX40/الفرضيات!$H$3*(1+MAX(_xlfn.CHOOSECOLS(_xlfn._xlws.FILTER($I$4:$AT$335,$K$4:$K$335=AW40),36))))))} -> 0 | CD40: {=IF(ISBLANK(AW40),"0",IF($AZ40<3,"0",_xlfn.CEILING.MATH(AY40/الفرضيات!$H$4*(1+MAX(_xlfn.CHOOSECOLS(_xlfn._xlws.FILTER($I$4:$AT$335,$K$4:$K$335=AW40),36))))))} -> 0 | CE40: =IFERROR(MAX(0,((BG40+BO40+BW40)*(1+AS40+AR40)+(BH40+BI40+BJ40+BL40+BP40+BQ40+BR40+BT40+BX40+BY40+BZ40+CB40)*(1+AS40))*(1+ VLOOKUP(AQ40,الفرضيات!$N$1:$O$11,2,0))-AH40),0) -> 0 | CF40: =IFERROR(BK40+BS40+CA40,0) -> 0 | CG40: {=IFERROR(MAX(0,MAX(BM40,BU40,CC40)*(1+VLOOKUP(MAX(_xlfn.CHOOSECOLS(_xlfn._xlws.FILTER($I$4:$AT$335,$K$4:$K$335=AW40),35)),الفرضيات!$N$2:$O$11,2,0))-BA40),0)} -> 0 | CH40: {=IFERROR(MAX(0,MAX(BN40,BV40,CD40)*(1+VLOOKUP(MAX(_xlfn.CHOOSECOLS(_xlfn._xlws.FILTER($I$4:$AT$335,$K$4:$K$335=AW40),35)),الفرضيات!$N$2:$O$11,2,0))-BB40),0)} -> 0
AQ41: =IFERROR( IF(AND(AM41<>0,AL41<>0,AK41<>0), VLOOKUP(AL41,$B$45:$C$48,2,0)*VLOOKUP(AM41,$B$45:$C$48,2,0)*VLOOKUP(AK41,$B$45:$C$48,2,0), VLOOKUP(AO41,$B$45:$C$48,2,0)*VLOOKUP(AP41,$B$45:$C$48,2,0)*VLOOKUP(AN41,$B$45:$C$48,2,0)),"") | AR41: =IF(AQ41="","",(LOOKUP(SUM(N41:O41),الفرضيات!$R$2:$R$9, الفرضيات!$S$2:$S$9))) | AS41: =IF(ISBLANK(L41),"",الفرضيات!$L$2) | BG41: =IF(ISBLANK(L41),"0",T41*(R41-AG41)/الفرضيات!$H$2*(1+AR41)) -> 0 | BH41: =IF(ISBLANK(L41),"0",_xlfn.CEILING.MATH(W41)) -> 0 | BI41: =IF(ISBLANK(AW41),"0",_xlfn.CEILING.MATH(BC41)) -> 0 | BJ41: =IF(ISBLANK(AW41),"0",BM41+BN41) -> 0 | BK41: =IF(ISBLANK(L41),"0",_xlfn.CEILING.MATH(AD41)) -> 0 | BL41: =IF(ISBLANK(L41),"0",_xlfn.CEILING.MATH(Z41)) -> 0 | BM41: {=IF(ISBLANK(AW41),"0",_xlfn.CEILING.MATH(AX41/الفرضيات!$H$3*(1+MAX(_xlfn.CHOOSECOLS(_xlfn._xlws.FILTER($I$4:$AT$335,$K$4:$K$335=AW41),36)))))} -> 0 | BN41: {=IF(ISBLANK(AW41),"0",_xlfn.CEILING.MATH(AY41/الفرضيات!$H$4*(1+MAX(_xlfn.CHOOSECOLS(_xlfn._xlws.FILTER($I$4:$AT$335,$K$4:$K$335=AW41),36)))))} -> 0 | BO41: =IF(ISBLANK(L41),"0",IF(S41<2,"0",(U41*(R41-AG41)/الفرضيات!$H$2*(1+AR41)))) -> 0 | BP41: =IF(ISBLANK(L41),"0",_xlfn.CEILING.MATH(X41)) -> 0 | BQ41: =IF(ISBLANK(AW41),"0",_xlfn.CEILING.MATH(BD41)) -> 0 | BR41: =IF(ISBLANK(AW41),"0",IF($AZ41<2,"0",BU41+BV41)) -> 0 | BS41: =IF(ISBLANK(L41),"0",_xlfn.CEILING.MATH(AE41)) -> 0 | BT41: =IF(ISBLANK(L41),"0",_xlfn.CEILING.MATH(AA41)) -> 0 | BU41: {=IF(ISBLANK(AW41),"0",IF($AZ41<2,"0",_xlfn.CEILING.MATH(AX41/الفرضيات!$H$3*(1+MAX(_xlfn.CHOOSECOLS(_xlfn._xlws.FILTER($I$4:$AT$335,$K$4:$K$335=AW41),36))))))} -> 0 | BV41: {=IF(ISBLANK(AW41),"0",IF($AZ41<2,"0",_xlfn.CEILING.MATH(AY41/الفرضيات!$H$4*(1+MAX(_xlfn.CHOOSECOLS(_xlfn._xlws.FILTER($I$4:$AT$335,$K$4:$K$335=AW41),36))))))} -> 0 | BW41: =IF(ISBLANK(L41),"0",IF(S41<3,"0",(V41*(R41-AG41)/الفرضيات!$H$2*(1+AR41)))) -> 0 | BX41: =IF(ISBLANK(L41),"0",_xlfn.CEILING.MATH(Y41)) -> 0 | BY41: =IF(ISBLANK(AW41),"0",_xlfn.CEILING.MATH(BE41)) -> 0 | BZ41: =IF(ISBLANK(AW41),"0",IF($AZ41<3,"0",CC41+CD41)) -> 0 | CA41: =IF(ISBLANK(L41),"0",_xlfn.CEILING.MATH(AF41)) -> 0 | CB41: =IF(ISBLANK(L41),"0",_xlfn.CEILING.MATH(AB41)) -> 0 | CC41: {=IF(ISBLANK(AW41),"0",IF($AZ41<3,"0",_xlfn.CEILING.MATH(AX41/الفرضيات!$H$3*(1+MAX(_xlfn.CHOOSECOLS(_xlfn._xlws.FILTER($I$4:$AT$335,$K$4:$K$335=AW41),36))))))} -> 0 | CD41: {=IF(ISBLANK(AW41),"0",IF($AZ41<3,"0",_xlfn.CEILING.MATH(AY41/الفرضيات!$H$4*(1+MAX(_xlfn.CHOOSECOLS(_xlfn._xlws.FILTER($I$4:$AT$335,$K$4:$K$335=AW41),36))))))} -> 0 | CE41: =IFERROR(MAX(0,((BG41+BO41+BW41)*(1+AS41+AR41)+(BH41+BI41+BJ41+BL41+BP41+BQ41+BR41+BT41+BX41+BY41+BZ41+CB41)*(1+AS41))*(1+ VLOOKUP(AQ41,الفرضيات!$N$1:$O$11,2,0))-AH41),0) -> 0 | CF41: =IFERROR(BK41+BS41+CA41,0) -> 0 | CG41: {=IFERROR(MAX(0,MAX(BM41,BU41,CC41)*(1+VLOOKUP(MAX(_xlfn.CHOOSECOLS(_xlfn._xlws.FILTER($I$4:$AT$335,$K$4:$K$335=AW41),35)),الفرضيات!$N$2:$O$11,2,0))-BA41),0)} -> 0 | CH41: {=IFERROR(MAX(0,MAX(BN41,BV41,CD41)*(1+VLOOKUP(MAX(_xlfn.CHOOSECOLS(_xlfn._xlws.FILTER($I$4:$AT$335,$K$4:$K$335=AW41),35)),الفرضيات!$N$2:$O$11,2,0))-BB41),0)} -> 0
AQ42: =IFERROR( IF(AND(AM42<>0,AL42<>0,AK42<>0), VLOOKUP(AL42,$B$45:$C$48,2,0)*VLOOKUP(AM42,$B$45:$C$48,2,0)*VLOOKUP(AK42,$B$45:$C$48,2,0), VLOOKUP(AO42,$B$45:$C$48,2,0)*VLOOKUP(AP42,$B$45:$C$48,2,0)*VLOOKUP(AN42,$B$45:$C$48,2,0)),"") | AR42: =IF(AQ42="","",(LOOKUP(SUM(N42:O42),الفرضيات!$R$2:$R$9, الفرضيات!$S$2:$S$9))) | AS42: =IF(ISBLANK(L42),"",الفرضيات!$L$2) | BG42: =IF(ISBLANK(L42),"0",T42*(R42-AG42)/الفرضيات!$H$2*(1+AR42)) -> 0 | BH42: =IF(ISBLANK(L42),"0",_xlfn.CEILING.MATH(W42)) -> 0 | BI42: =IF(ISBLANK(AW42),"0",_xlfn.CEILING.MATH(BC42)) -> 0 | BJ42: =IF(ISBLANK(AW42),"0",BM42+BN42) -> 0 | BK42: =IF(ISBLANK(L42),"0",_xlfn.CEILING.MATH(AD42)) -> 0 | BL42: =IF(ISBLANK(L42),"0",_xlfn.CEILING.MATH(Z42)) -> 0 | BM42: {=IF(ISBLANK(AW42),"0",_xlfn.CEILING.MATH(AX42/الفرضيات!$H$3*(1+MAX(_xlfn.CHOOSECOLS(_xlfn._xlws.FILTER($I$4:$AT$335,$K$4:$K$335=AW42),36)))))} -> 0 | BN42: {=IF(ISBLANK(AW42),"0",_xlfn.CEILING.MATH(AY42/الفرضيات!$H$4*(1+MAX(_xlfn.CHOOSECOLS(_xlfn._xlws.FILTER($I$4:$AT$335,$K$4:$K$335=AW42),36)))))} -> 0 | BO42: =IF(ISBLANK(L42),"0",IF(S42<2,"0",(U42*(R42-AG42)/الفرضيات!$H$2*(1+AR42)))) -> 0 | BP42: =IF(ISBLANK(L42),"0",_xlfn.CEILING.MATH(X42)) -> 0 | BQ42: =IF(ISBLANK(AW42),"0",_xlfn.CEILING.MATH(BD42)) -> 0 | BR42: =IF(ISBLANK(AW42),"0",IF($AZ42<2,"0",BU42+BV42)) -> 0 | BS42: =IF(ISBLANK(L42),"0",_xlfn.CEILING.MATH(AE42)) -> 0 | BT42: =IF(ISBLANK(L42),"0",_xlfn.CEILING.MATH(AA42)) -> 0 | BU42: {=IF(ISBLANK(AW42),"0",IF($AZ42<2,"0",_xlfn.CEILING.MATH(AX42/الفرضيات!$H$3*(1+MAX(_xlfn.CHOOSECOLS(_xlfn._xlws.FILTER($I$4:$AT$335,$K$4:$K$335=AW42),36))))))} -> 0 | BV42: {=IF(ISBLANK(AW42),"0",IF($AZ42<2,"0",_xlfn.CEILING.MATH(AY42/الفرضيات!$H$4*(1+MAX(_xlfn.CHOOSECOLS(_xlfn._xlws.FILTER($I$4:$AT$335,$K$4:$K$335=AW42),36))))))} -> 0 | BW42: =IF(ISBLANK(L42),"0",IF(S42<3,"0",(V42*(R42-AG42)/الفرضيات!$H$2*(1+AR42)))) -> 0 | BX42: =IF(ISBLANK(L42),"0",_xlfn.CEILING.MATH(Y42)) -> 0 | BY42: =IF(ISBLANK(AW42),"0",_xlfn.CEILING.MATH(BE42)) -> 0 | BZ42: =IF(ISBLANK(AW42),"0",IF($AZ42<3,"0",CC42+CD42)) -> 0 | CA42: =IF(ISBLANK(L42),"0",_xlfn.CEILING.MATH(AF42)) -> 0 | CB42: =IF(ISBLANK(L42),"0",_xlfn.CEILING.MATH(AB42)) -> 0 | CC42: {=IF(ISBLANK(AW42),"0",IF($AZ42<3,"0",_xlfn.CEILING.MATH(AX42/الفرضيات!$H$3*(1+MAX(_xlfn.CHOOSECOLS(_xlfn._xlws.FILTER($I$4:$AT$335,$K$4:$K$335=AW42),36))))))} -> 0 | CD42: {=IF(ISBLANK(AW42),"0",IF($AZ42<3,"0",_xlfn.CEILING.MATH(AY42/الفرضيات!$H$4*(1+MAX(_xlfn.CHOOSECOLS(_xlfn._xlws.FILTER($I$4:$AT$335,$K$4:$K$335=AW42),36))))))} -> 0 | CE42: =IFERROR(MAX(0,((BG42+BO42+BW42)*(1+AS42+AR42)+(BH42+BI42+BJ42+BL42+BP42+BQ42+BR42+BT42+BX42+BY42+BZ42+CB42)*(1+AS42))*(1+ VLOOKUP(AQ42,الفرضيات!$N$1:$O$11,2,0))-AH42),0) -> 0 | CF42: =IFERROR(BK42+BS42+CA42,0) -> 0 | CG42: {=IFERROR(MAX(0,MAX(BM42,BU42,CC42)*(1+VLOOKUP(MAX(_xlfn.CHOOSECOLS(_xlfn._xlws.FILTER($I$4:$AT$335,$K$4:$K$335=AW42),35)),الفرضيات!$N$2:$O$11,2,0))-BA42),0)} -> 0 | CH42: {=IFERROR(MAX(0,MAX(BN42,BV42,CD42)*(1+VLOOKUP(MAX(_xlfn.CHOOSECOLS(_xlfn._xlws.FILTER($I$4:$AT$335,$K$4:$K$335=AW42),35)),الفرضيات!$N$2:$O$11,2,0))-BB42),0)} -> 0
AQ43: =IFERROR( IF(AND(AM43<>0,AL43<>0,AK43<>0), VLOOKUP(AL43,$B$45:$C$48,2,0)*VLOOKUP(AM43,$B$45:$C$48,2,0)*VLOOKUP(AK43,$B$45:$C$48,2,0), VLOOKUP(AO43,$B$45:$C$48,2,0)*VLOOKUP(AP43,$B$45:$C$48,2,0)*VLOOKUP(AN43,$B$45:$C$48,2,0)),"") | AR43: =IF(AQ43="","",(LOOKUP(SUM(N43:O43),الفرضيات!$R$2:$R$9, الفرضيات!$S$2:$S$9))) | AS43: =IF(ISBLANK(L43),"",الفرضيات!$L$2) | BG43: =IF(ISBLANK(L43),"0",T43*(R43-AG43)/الفرضيات!$H$2*(1+AR43)) -> 0 | BH43: =IF(ISBLANK(L43),"0",_xlfn.CEILING.MATH(W43)) -> 0 | BI43: =IF(ISBLANK(AW43),"0",_xlfn.CEILING.MATH(BC43)) -> 0 | BJ43: =IF(ISBLANK(AW43),"0",BM43+BN43) -> 0 | BK43: =IF(ISBLANK(L43),"0",_xlfn.CEILING.MATH(AD43)) -> 0 | BL43: =IF(ISBLANK(L43),"0",_xlfn.CEILING.MATH(Z43)) -> 0 | BM43: {=IF(ISBLANK(AW43),"0",_xlfn.CEILING.MATH(AX43/الفرضيات!$H$3*(1+MAX(_xlfn.CHOOSECOLS(_xlfn._xlws.FILTER($I$4:$AT$335,$K$4:$K$335=AW43),36)))))} -> 0 | BN43: {=IF(ISBLANK(AW43),"0",_xlfn.CEILING.MATH(AY43/الفرضيات!$H$4*(1+MAX(_xlfn.CHOOSECOLS(_xlfn._xlws.FILTER($I$4:$AT$335,$K$4:$K$335=AW43),36)))))} -> 0 | BO43: =IF(ISBLANK(L43),"0",IF(S43<2,"0",(U43*(R43-AG43)/الفرضيات!$H$2*(1+AR43)))) -> 0 | BP43: =IF(ISBLANK(L43),"0",_xlfn.CEILING.MATH(X43)) -> 0 | BQ43: =IF(ISBLANK(AW43),"0",_xlfn.CEILING.MATH(BD43)) -> 0 | BR43: =IF(ISBLANK(AW43),"0",IF($AZ43<2,"0",BU43+BV43)) -> 0 | BS43: =IF(ISBLANK(L43),"0",_xlfn.CEILING.MATH(AE43)) -> 0 | BT43: =IF(ISBLANK(L43),"0",_xlfn.CEILING.MATH(AA43)) -> 0 | BU43: {=IF(ISBLANK(AW43),"0",IF($AZ43<2,"0",_xlfn.CEILING.MATH(AX43/الفرضيات!$H$3*(1+MAX(_xlfn.CHOOSECOLS(_xlfn._xlws.FILTER($I$4:$AT$335,$K$4:$K$335=AW43),36))))))} -> 0 | BV43: {=IF(ISBLANK(AW43),"0",IF($AZ43<2,"0",_xlfn.CEILING.MATH(AY43/الفرضيات!$H$4*(1+MAX(_xlfn.CHOOSECOLS(_xlfn._xlws.FILTER($I$4:$AT$335,$K$4:$K$335=AW43),36))))))} -> 0 | BW43: =IF(ISBLANK(L43),"0",IF(S43<3,"0",(V43*(R43-AG43)/الفرضيات!$H$2*(1+AR43)))) -> 0 | BX43: =IF(ISBLANK(L43),"0",_xlfn.CEILING.MATH(Y43)) -> 0 | BY43: =IF(ISBLANK(AW43),"0",_xlfn.CEILING.MATH(BE43)) -> 0 | BZ43: =IF(ISBLANK(AW43),"0",IF($AZ43<3,"0",CC43+CD43)) -> 0 | CA43: =IF(ISBLANK(L43),"0",_xlfn.CEILING.MATH(AF43)) -> 0 | CB43: =IF(ISBLANK(L43),"0",_xlfn.CEILING.MATH(AB43)) -> 0 | CC43: {=IF(ISBLANK(AW43),"0",IF($AZ43<3,"0",_xlfn.CEILING.MATH(AX43/الفرضيات!$H$3*(1+MAX(_xlfn.CHOOSECOLS(_xlfn._xlws.FILTER($I$4:$AT$335,$K$4:$K$335=AW43),36))))))} -> 0 | CD43: {=IF(ISBLANK(AW43),"0",IF($AZ43<3,"0",_xlfn.CEILING.MATH(AY43/الفرضيات!$H$4*(1+MAX(_xlfn.CHOOSECOLS(_xlfn._xlws.FILTER($I$4:$AT$335,$K$4:$K$335=AW43),36))))))} -> 0 | CE43: =IFERROR(MAX(0,((BG43+BO43+BW43)*(1+AS43+AR43)+(BH43+BI43+BJ43+BL43+BP43+BQ43+BR43+BT43+BX43+BY43+BZ43+CB43)*(1+AS43))*(1+ VLOOKUP(AQ43,الفرضيات!$N$1:$O$11,2,0))-AH43),0) -> 0 | CF43: =IFERROR(BK43+BS43+CA43,0) -> 0 | CG43: {=IFERROR(MAX(0,MAX(BM43,BU43,CC43)*(1+VLOOKUP(MAX(_xlfn.CHOOSECOLS(_xlfn._xlws.FILTER($I$4:$AT$335,$K$4:$K$335=AW43),35)),الفرضيات!$N$2:$O$11,2,0))-BA43),0)} -> 0 | CH43: {=IFERROR(MAX(0,MAX(BN43,BV43,CD43)*(1+VLOOKUP(MAX(_xlfn.CHOOSECOLS(_xlfn._xlws.FILTER($I$4:$AT$335,$K$4:$K$335=AW43),35)),الفرضيات!$N$2:$O$11,2,0))-BB43),0)} -> 0
AQ44: =IFERROR( IF(AND(AM44<>0,AL44<>0,AK44<>0), VLOOKUP(AL44,$B$45:$C$48,2,0)*VLOOKUP(AM44,$B$45:$C$48,2,0)*VLOOKUP(AK44,$B$45:$C$48,2,0), VLOOKUP(AO44,$B$45:$C$48,2,0)*VLOOKUP(AP44,$B$45:$C$48,2,0)*VLOOKUP(AN44,$B$45:$C$48,2,0)),"") | AR44: =IF(AQ44="","",(LOOKUP(SUM(N44:O44),الفرضيات!$R$2:$R$9, الفرضيات!$S$2:$S$9))) | AS44: =IF(ISBLANK(L44),"",الفرضيات!$L$2) | BG44: =IF(ISBLANK(L44),"0",T44*(R44-AG44)/الفرضيات!$H$2*(1+AR44)) -> 0 | BH44: =IF(ISBLANK(L44),"0",_xlfn.CEILING.MATH(W44)) -> 0 | BI44: =IF(ISBLANK(AW44),"0",_xlfn.CEILING.MATH(BC44)) -> 0 | BJ44: =IF(ISBLANK(AW44),"0",BM44+BN44) -> 0 | BK44: =IF(ISBLANK(L44),"0",_xlfn.CEILING.MATH(AD44)) -> 0 | BL44: =IF(ISBLANK(L44),"0",_xlfn.CEILING.MATH(Z44)) -> 0 | BM44: {=IF(ISBLANK(AW44),"0",_xlfn.CEILING.MATH(AX44/الفرضيات!$H$3*(1+MAX(_xlfn.CHOOSECOLS(_xlfn._xlws.FILTER($I$4:$AT$335,$K$4:$K$335=AW44),36)))))} -> 0 | BN44: {=IF(ISBLANK(AW44),"0",_xlfn.CEILING.MATH(AY44/الفرضيات!$H$4*(1+MAX(_xlfn.CHOOSECOLS(_xlfn._xlws.FILTER($I$4:$AT$335,$K$4:$K$335=AW44),36)))))} -> 0 | BO44: =IF(ISBLANK(L44),"0",IF(S44<2,"0",(U44*(R44-AG44)/الفرضيات!$H$2*(1+AR44)))) -> 0 | BP44: =IF(ISBLANK(L44),"0",_xlfn.CEILING.MATH(X44)) -> 0 | BQ44: =IF(ISBLANK(AW44),"0",_xlfn.CEILING.MATH(BD44)) -> 0 | BR44: =IF(ISBLANK(AW44),"0",IF($AZ44<2,"0",BU44+BV44)) -> 0 | BS44: =IF(ISBLANK(L44),"0",_xlfn.CEILING.MATH(AE44)) -> 0 | BT44: =IF(ISBLANK(L44),"0",_xlfn.CEILING.MATH(AA44)) -> 0 | BU44: {=IF(ISBLANK(AW44),"0",IF($AZ44<2,"0",_xlfn.CEILING.MATH(AX44/الفرضيات!$H$3*(1+MAX(_xlfn.CHOOSECOLS(_xlfn._xlws.FILTER($I$4:$AT$335,$K$4:$K$335=AW44),36))))))} -> 0 | BV44: {=IF(ISBLANK(AW44),"0",IF($AZ44<2,"0",_xlfn.CEILING.MATH(AY44/الفرضيات!$H$4*(1+MAX(_xlfn.CHOOSECOLS(_xlfn._xlws.FILTER($I$4:$AT$335,$K$4:$K$335=AW44),36))))))} -> 0 | BW44: =IF(ISBLANK(L44),"0",IF(S44<3,"0",(V44*(R44-AG44)/الفرضيات!$H$2*(1+AR44)))) -> 0 | BX44: =IF(ISBLANK(L44),"0",_xlfn.CEILING.MATH(Y44)) -> 0 | BY44: =IF(ISBLANK(AW44),"0",_xlfn.CEILING.MATH(BE44)) -> 0 | BZ44: =IF(ISBLANK(AW44),"0",IF($AZ44<3,"0",CC44+CD44)) -> 0 | CA44: =IF(ISBLANK(L44),"0",_xlfn.CEILING.MATH(AF44)) -> 0 | CB44: =IF(ISBLANK(L44),"0",_xlfn.CEILING.MATH(AB44)) -> 0 | CC44: {=IF(ISBLANK(AW44),"0",IF($AZ44<3,"0",_xlfn.CEILING.MATH(AX44/الفرضيات!$H$3*(1+MAX(_xlfn.CHOOSECOLS(_xlfn._xlws.FILTER($I$4:$AT$335,$K$4:$K$335=AW44),36))))))} -> 0 | CD44: {=IF(ISBLANK(AW44),"0",IF($AZ44<3,"0",_xlfn.CEILING.MATH(AY44/الفرضيات!$H$4*(1+MAX(_xlfn.CHOOSECOLS(_xlfn._xlws.FILTER($I$4:$AT$335,$K$4:$K$335=AW44),36))))))} -> 0 | CE44: =IFERROR(MAX(0,((BG44+BO44+BW44)*(1+AS44+AR44)+(BH44+BI44+BJ44+BL44+BP44+BQ44+BR44+BT44+BX44+BY44+BZ44+CB44)*(1+AS44))*(1+ VLOOKUP(AQ44,الفرضيات!$N$1:$O$11,2,0))-AH44),0) -> 0 | CF44: =IFERROR(BK44+BS44+CA44,0) -> 0 | CG44: {=IFERROR(MAX(0,MAX(BM44,BU44,CC44)*(1+VLOOKUP(MAX(_xlfn.CHOOSECOLS(_xlfn._xlws.FILTER($I$4:$AT$335,$K$4:$K$335=AW44),35)),الفرضيات!$N$2:$O$11,2,0))-BA44),0)} -> 0 | CH44: {=IFERROR(MAX(0,MAX(BN44,BV44,CD44)*(1+VLOOKUP(MAX(_xlfn.CHOOSECOLS(_xlfn._xlws.FILTER($I$4:$AT$335,$K$4:$K$335=AW44),35)),الفرضيات!$N$2:$O$11,2,0))-BB44),0)} -> 0
B45: تقييم المخاطر | AQ45: =IFERROR( IF(AND(AM45<>0,AL45<>0,AK45<>0), VLOOKUP(AL45,$B$45:$C$48,2,0)*VLOOKUP(AM45,$B$45:$C$48,2,0)*VLOOKUP(AK45,$B$45:$C$48,2,0), VLOOKUP(AO45,$B$45:$C$48,2,0)*VLOOKUP(AP45,$B$45:$C$48,2,0)*VLOOKUP(AN45,$B$45:$C$48,2,0)),"") | AR45: =IF(AQ45="","",(LOOKUP(SUM(N45:O45),الفرضيات!$R$2:$R$9, الفرضيات!$S$2:$S$9))) | AS45: =IF(ISBLANK(L45),"",الفرضيات!$L$2) | BG45: =IF(ISBLANK(L45),"0",T45*(R45-AG45)/الفرضيات!$H$2*(1+AR45)) -> 0 | BH45: =IF(ISBLANK(L45),"0",_xlfn.CEILING.MATH(W45)) -> 0 | BI45: =IF(ISBLANK(AW45),"0",_xlfn.CEILING.MATH(BC45)) -> 0 | BJ45: =IF(ISBLANK(AW45),"0",BM45+BN45) -> 0 | BK45: =IF(ISBLANK(L45),"0",_xlfn.CEILING.MATH(AD45)) -> 0 | BL45: =IF(ISBLANK(L45),"0",_xlfn.CEILING.MATH(Z45)) -> 0 | BM45: {=IF(ISBLANK(AW45),"0",_xlfn.CEILING.MATH(AX45/الفرضيات!$H$3*(1+MAX(_xlfn.CHOOSECOLS(_xlfn._xlws.FILTER($I$4:$AT$335,$K$4:$K$335=AW45),36)))))} -> 0 | BN45: {=IF(ISBLANK(AW45),"0",_xlfn.CEILING.MATH(AY45/الفرضيات!$H$4*(1+MAX(_xlfn.CHOOSECOLS(_xlfn._xlws.FILTER($I$4:$AT$335,$K$4:$K$335=AW45),36)))))} -> 0 | BO45: =IF(ISBLANK(L45),"0",IF(S45<2,"0",(U45*(R45-AG45)/الفرضيات!$H$2*(1+AR45)))) -> 0 | BP45: =IF(ISBLANK(L45),"0",_xlfn.CEILING.MATH(X45)) -> 0 | BQ45: =IF(ISBLANK(AW45),"0",_xlfn.CEILING.MATH(BD45)) -> 0 | BR45: =IF(ISBLANK(AW45),"0",IF($AZ45<2,"0",BU45+BV45)) -> 0 | BS45: =IF(ISBLANK(L45),"0",_xlfn.CEILING.MATH(AE45)) -> 0 | BT45: =IF(ISBLANK(L45),"0",_xlfn.CEILING.MATH(AA45)) -> 0 | BU45: {=IF(ISBLANK(AW45),"0",IF($AZ45<2,"0",_xlfn.CEILING.MATH(AX45/الفرضيات!$H$3*(1+MAX(_xlfn.CHOOSECOLS(_xlfn._xlws.FILTER($I$4:$AT$335,$K$4:$K$335=AW45),36))))))} -> 0 | BV45: {=IF(ISBLANK(AW45),"0",IF($AZ45<2,"0",_xlfn.CEILING.MATH(AY45/الفرضيات!$H$4*(1+MAX(_xlfn.CHOOSECOLS(_xlfn._xlws.FILTER($I$4:$AT$335,$K$4:$K$335=AW45),36))))))} -> 0 | BW45: =IF(ISBLANK(L45),"0",IF(S45<3,"0",(V45*(R45-AG45)/الفرضيات!$H$2*(1+AR45)))) -> 0 | BX45: =IF(ISBLANK(L45),"0",_xlfn.CEILING.MATH(Y45)) -> 0 | BY45: =IF(ISBLANK(AW45),"0",_xlfn.CEILING.MATH(BE45)) -> 0 | BZ45: =IF(ISBLANK(AW45),"0",IF($AZ45<3,"0",CC45+CD45)) -> 0 | CA45: =IF(ISBLANK(L45),"0",_xlfn.CEILING.MATH(AF45)) -> 0 | CB45: =IF(ISBLANK(L45),"0",_xlfn.CEILING.MATH(AB45)) -> 0 | CC45: {=IF(ISBLANK(AW45),"0",IF($AZ45<3,"0",_xlfn.CEILING.MATH(AX45/الفرضيات!$H$3*(1+MAX(_xlfn.CHOOSECOLS(_xlfn._xlws.FILTER($I$4:$AT$335,$K$4:$K$335=AW45),36))))))} -> 0 | CD45: {=IF(ISBLANK(AW45),"0",IF($AZ45<3,"0",_xlfn.CEILING.MATH(AY45/الفرضيات!$H$4*(1+MAX(_xlfn.CHOOSECOLS(_xlfn._xlws.FILTER($I$4:$AT$335,$K$4:$K$335=AW45),36))))))} -> 0 | CE45: =IFERROR(MAX(0,((BG45+BO45+BW45)*(1+AS45+AR45)+(BH45+BI45+BJ45+BL45+BP45+BQ45+BR45+BT45+BX45+BY45+BZ45+CB45)*(1+AS45))*(1+ VLOOKUP(AQ45,الفرضيات!$N$1:$O$11,2,0))-AH45),0) -> 0 | CF45: =IFERROR(BK45+BS45+CA45,0) -> 0 | CG45: {=IFERROR(MAX(0,MAX(BM45,BU45,CC45)*(1+VLOOKUP(MAX(_xlfn.CHOOSECOLS(_xlfn._xlws.FILTER($I$4:$AT$335,$K$4:$K$335=AW45),35)),الفرضيات!$N$2:$O$11,2,0))-BA45),0)} -> 0 | CH45: {=IFERROR(MAX(0,MAX(BN45,BV45,CD45)*(1+VLOOKUP(MAX(_xlfn.CHOOSECOLS(_xlfn._xlws.FILTER($I$4:$AT$335,$K$4:$K$335=AW45),35)),الفرضيات!$N$2:$O$11,2,0))-BB45),0)} -> 0
B46: منخفض | C46: 1 | AQ46: =IFERROR( IF(AND(AM46<>0,AL46<>0,AK46<>0), VLOOKUP(AL46,$B$45:$C$48,2,0)*VLOOKUP(AM46,$B$45:$C$48,2,0)*VLOOKUP(AK46,$B$45:$C$48,2,0), VLOOKUP(AO46,$B$45:$C$48,2,0)*VLOOKUP(AP46,$B$45:$C$48,2,0)*VLOOKUP(AN46,$B$45:$C$48,2,0)),"") | AR46: =IF(AQ46="","",(LOOKUP(SUM(N46:O46),الفرضيات!$R$2:$R$9, الفرضيات!$S$2:$S$9))) | AS46: =IF(ISBLANK(L46),"",الفرضيات!$L$2) | BG46: =IF(ISBLANK(L46),"0",T46*(R46-AG46)/الفرضيات!$H$2*(1+AR46)) -> 0 | BH46: =IF(ISBLANK(L46),"0",_xlfn.CEILING.MATH(W46)) -> 0 | BI46: =IF(ISBLANK(AW46),"0",_xlfn.CEILING.MATH(BC46)) -> 0 | BJ46: =IF(ISBLANK(AW46),"0",BM46+BN46) -> 0 | BK46: =IF(ISBLANK(L46),"0",_xlfn.CEILING.MATH(AD46)) -> 0 | BL46: =IF(ISBLANK(L46),"0",_xlfn.CEILING.MATH(Z46)) -> 0 | BM46: {=IF(ISBLANK(AW46),"0",_xlfn.CEILING.MATH(AX46/الفرضيات!$H$3*(1+MAX(_xlfn.CHOOSECOLS(_xlfn._xlws.FILTER($I$4:$AT$335,$K$4:$K$335=AW46),36)))))} -> 0 | BN46: {=IF(ISBLANK(AW46),"0",_xlfn.CEILING.MATH(AY46/الفرضيات!$H$4*(1+MAX(_xlfn.CHOOSECOLS(_xlfn._xlws.FILTER($I$4:$AT$335,$K$4:$K$335=AW46),36)))))} -> 0 | BO46: =IF(ISBLANK(L46),"0",IF(S46<2,"0",(U46*(R46-AG46)/الفرضيات!$H$2*(1+AR46)))) -> 0 | BP46: =IF(ISBLANK(L46),"0",_xlfn.CEILING.MATH(X46)) -> 0 | BQ46: =IF(ISBLANK(AW46),"0",_xlfn.CEILING.MATH(BD46)) -> 0 | BR46: =IF(ISBLANK(AW46),"0",IF($AZ46<2,"0",BU46+BV46)) -> 0 | BS46: =IF(ISBLANK(L46),"0",_xlfn.CEILING.MATH(AE46)) -> 0 | BT46: =IF(ISBLANK(L46),"0",_xlfn.CEILING.MATH(AA46)) -> 0 | BU46: {=IF(ISBLANK(AW46),"0",IF($AZ46<2,"0",_xlfn.CEILING.MATH(AX46/الفرضيات!$H$3*(1+MAX(_xlfn.CHOOSECOLS(_xlfn._xlws.FILTER($I$4:$AT$335,$K$4:$K$335=AW46),36))))))} -> 0 | BV46: {=IF(ISBLANK(AW46),"0",IF($AZ46<2,"0",_xlfn.CEILING.MATH(AY46/الفرضيات!$H$4*(1+MAX(_xlfn.CHOOSECOLS(_xlfn._xlws.FILTER($I$4:$AT$335,$K$4:$K$335=AW46),36))))))} -> 0 | BW46: =IF(ISBLANK(L46),"0",IF(S46<3,"0",(V46*(R46-AG46)/الفرضيات!$H$2*(1+AR46)))) -> 0 | BX46: =IF(ISBLANK(L46),"0",_xlfn.CEILING.MATH(Y46)) -> 0 | BY46: =IF(ISBLANK(AW46),"0",_xlfn.CEILING.MATH(BE46)) -> 0 | BZ46: =IF(ISBLANK(AW46),"0",IF($AZ46<3,"0",CC46+CD46)) -> 0 | CA46: =IF(ISBLANK(L46),"0",_xlfn.CEILING.MATH(AF46)) -> 0 | CB46: =IF(ISBLANK(L46),"0",_xlfn.CEILING.MATH(AB46)) -> 0 | CC46: {=IF(ISBLANK(AW46),"0",IF($AZ46<3,"0",_xlfn.CEILING.MATH(AX46/الفرضيات!$H$3*(1+MAX(_xlfn.CHOOSECOLS(_xlfn._xlws.FILTER($I$4:$AT$335,$K$4:$K$335=AW46),36))))))} -> 0 | CD46: {=IF(ISBLANK(AW46),"0",IF($AZ46<3,"0",_xlfn.CEILING.MATH(AY46/الفرضيات!$H$4*(1+MAX(_xlfn.CHOOSECOLS(_xlfn._xlws.FILTER($I$4:$AT$335,$K$4:$K$335=AW46),36))))))} -> 0 | CE46: =IFERROR(MAX(0,((BG46+BO46+BW46)*(1+AS46+AR46)+(BH46+BI46+BJ46+BL46+BP46+BQ46+BR46+BT46+BX46+BY46+BZ46+CB46)*(1+AS46))*(1+ VLOOKUP(AQ46,الفرضيات!$N$1:$O$11,2,0))-AH46),0) -> 0 | CF46: =IFERROR(BK46+BS46+CA46,0) -> 0 | CG46: {=IFERROR(MAX(0,MAX(BM46,BU46,CC46)*(1+VLOOKUP(MAX(_xlfn.CHOOSECOLS(_xlfn._xlws.FILTER($I$4:$AT$335,$K$4:$K$335=AW46),35)),الفرضيات!$N$2:$O$11,2,0))-BA46),0)} -> 0 | CH46: {=IFERROR(MAX(0,MAX(BN46,BV46,CD46)*(1+VLOOKUP(MAX(_xlfn.CHOOSECOLS(_xlfn._xlws.FILTER($I$4:$AT$335,$K$4:$K$335=AW46),35)),الفرضيات!$N$2:$O$11,2,0))-BB46),0)} -> 0
B47: متوسط | C47: 2 | AQ47: =IFERROR( IF(AND(AM47<>0,AL47<>0,AK47<>0), VLOOKUP(AL47,$B$45:$C$48,2,0)*VLOOKUP(AM47,$B$45:$C$48,2,0)*VLOOKUP(AK47,$B$45:$C$48,2,0), VLOOKUP(AO47,$B$45:$C$48,2,0)*VLOOKUP(AP47,$B$45:$C$48,2,0)*VLOOKUP(AN47,$B$45:$C$48,2,0)),"") | AR47: =IF(AQ47="","",(LOOKUP(SUM(N47:O47),الفرضيات!$R$2:$R$9, الفرضيات!$S$2:$S$9))) | AS47: =IF(ISBLANK(L47),"",الفرضيات!$L$2) | BG47: =IF(ISBLANK(L47),"0",T47*(R47-AG47)/الفرضيات!$H$2*(1+AR47)) -> 0 | BH47: =IF(ISBLANK(L47),"0",_xlfn.CEILING.MATH(W47)) -> 0 | BI47: =IF(ISBLANK(AW47),"0",_xlfn.CEILING.MATH(BC47)) -> 0 | BJ47: =IF(ISBLANK(AW47),"0",BM47+BN47) -> 0 | BK47: =IF(ISBLANK(L47),"0",_xlfn.CEILING.MATH(AD47)) -> 0 | BL47: =IF(ISBLANK(L47),"0",_xlfn.CEILING.MATH(Z47)) -> 0 | BM47: {=IF(ISBLANK(AW47),"0",_xlfn.CEILING.MATH(AX47/الفرضيات!$H$3*(1+MAX(_xlfn.CHOOSECOLS(_xlfn._xlws.FILTER($I$4:$AT$335,$K$4:$K$335=AW47),36)))))} -> 0 | BN47: {=IF(ISBLANK(AW47),"0",_xlfn.CEILING.MATH(AY47/الفرضيات!$H$4*(1+MAX(_xlfn.CHOOSECOLS(_xlfn._xlws.FILTER($I$4:$AT$335,$K$4:$K$335=AW47),36)))))} -> 0 | BO47: =IF(ISBLANK(L47),"0",IF(S47<2,"0",(U47*(R47-AG47)/الفرضيات!$H$2*(1+AR47)))) -> 0 | BP47: =IF(ISBLANK(L47),"0",_xlfn.CEILING.MATH(X47)) -> 0 | BQ47: =IF(ISBLANK(AW47),"0",_xlfn.CEILING.MATH(BD47)) -> 0 | BR47: =IF(ISBLANK(AW47),"0",IF($AZ47<2,"0",BU47+BV47)) -> 0 | BS47: =IF(ISBLANK(L47),"0",_xlfn.CEILING.MATH(AE47)) -> 0 | BT47: =IF(ISBLANK(L47),"0",_xlfn.CEILING.MATH(AA47)) -> 0 | BU47: {=IF(ISBLANK(AW47),"0",IF($AZ47<2,"0",_xlfn.CEILING.MATH(AX47/الفرضيات!$H$3*(1+MAX(_xlfn.CHOOSECOLS(_xlfn._xlws.FILTER($I$4:$AT$335,$K$4:$K$335=AW47),36))))))} -> 0 | BV47: {=IF(ISBLANK(AW47),"0",IF($AZ47<2,"0",_xlfn.CEILING.MATH(AY47/الفرضيات!$H$4*(1+MAX(_xlfn.CHOOSECOLS(_xlfn._xlws.FILTER($I$4:$AT$335,$K$4:$K$335=AW47),36))))))} -> 0 | BW47: =IF(ISBLANK(L47),"0",IF(S47<3,"0",(V47*(R47-AG47)/الفرضيات!$H$2*(1+AR47)))) -> 0 | BX47: =IF(ISBLANK(L47),"0",_xlfn.CEILING.MATH(Y47)) -> 0 | BY47: =IF(ISBLANK(AW47),"0",_xlfn.CEILING.MATH(BE47)) -> 0 | BZ47: =IF(ISBLANK(AW47),"0",IF($AZ47<3,"0",CC47+CD47)) -> 0 | CA47: =IF(ISBLANK(L47),"0",_xlfn.CEILING.MATH(AF47)) -> 0 | CB47: =IF(ISBLANK(L47),"0",_xlfn.CEILING.MATH(AB47)) -> 0 | CC47: {=IF(ISBLANK(AW47),"0",IF($AZ47<3,"0",_xlfn.CEILING.MATH(AX47/الفرضيات!$H$3*(1+MAX(_xlfn.CHOOSECOLS(_xlfn._xlws.FILTER($I$4:$AT$335,$K$4:$K$335=AW47),36))))))} -> 0 | CD47: {=IF(ISBLANK(AW47),"0",IF($AZ47<3,"0",_xlfn.CEILING.MATH(AY47/الفرضيات!$H$4*(1+MAX(_xlfn.CHOOSECOLS(_xlfn._xlws.FILTER($I$4:$AT$335,$K$4:$K$335=AW47),36))))))} -> 0 | CE47: =IFERROR(MAX(0,((BG47+BO47+BW47)*(1+AS47+AR47)+(BH47+BI47+BJ47+BL47+BP47+BQ47+BR47+BT47+BX47+BY47+BZ47+CB47)*(1+AS47))*(1+ VLOOKUP(AQ47,الفرضيات!$N$1:$O$11,2,0))-AH47),0) -> 0 | CF47: =IFERROR(BK47+BS47+CA47,0) -> 0 | CG47: {=IFERROR(MAX(0,MAX(BM47,BU47,CC47)*(1+VLOOKUP(MAX(_xlfn.CHOOSECOLS(_xlfn._xlws.FILTER($I$4:$AT$335,$K$4:$K$335=AW47),35)),الفرضيات!$N$2:$O$11,2,0))-BA47),0)} -> 0 | CH47: {=IFERROR(MAX(0,MAX(BN47,BV47,CD47)*(1+VLOOKUP(MAX(_xlfn.CHOOSECOLS(_xlfn._xlws.FILTER($I$4:$AT$335,$K$4:$K$335=AW47),35)),الفرضيات!$N$2:$O$11,2,0))-BB47),0)} -> 0
B48: مرتفع | C48: 3 | AQ48: =IFERROR( IF(AND(AM48<>0,AL48<>0,AK48<>0), VLOOKUP(AL48,$B$45:$C$48,2,0)*VLOOKUP(AM48,$B$45:$C$48,2,0)*VLOOKUP(AK48,$B$45:$C$48,2,0), VLOOKUP(AO48,$B$45:$C$48,2,0)*VLOOKUP(AP48,$B$45:$C$48,2,0)*VLOOKUP(AN48,$B$45:$C$48,2,0)),"") | AR48: =IF(AQ48="","",(LOOKUP(SUM(N48:O48),الفرضيات!$R$2:$R$9, الفرضيات!$S$2:$S$9))) | AS48: =IF(ISBLANK(L48),"",الفرضيات!$L$2) | BG48: =IF(ISBLANK(L48),"0",T48*(R48-AG48)/الفرضيات!$H$2*(1+AR48)) -> 0 | BH48: =IF(ISBLANK(L48),"0",_xlfn.CEILING.MATH(W48)) -> 0 | BI48: =IF(ISBLANK(AW48),"0",_xlfn.CEILING.MATH(BC48)) -> 0 | BJ48: =IF(ISBLANK(AW48),"0",BM48+BN48) -> 0 | BK48: =IF(ISBLANK(L48),"0",_xlfn.CEILING.MATH(AD48)) -> 0 | BL48: =IF(ISBLANK(L48),"0",_xlfn.CEILING.MATH(Z48)) -> 0 | BM48: {=IF(ISBLANK(AW48),"0",_xlfn.CEILING.MATH(AX48/الفرضيات!$H$3*(1+MAX(_xlfn.CHOOSECOLS(_xlfn._xlws.FILTER($I$4:$AT$335,$K$4:$K$335=AW48),36)))))} -> 0 | BN48: {=IF(ISBLANK(AW48),"0",_xlfn.CEILING.MATH(AY48/الفرضيات!$H$4*(1+MAX(_xlfn.CHOOSECOLS(_xlfn._xlws.FILTER($I$4:$AT$335,$K$4:$K$335=AW48),36)))))} -> 0 | BO48: =IF(ISBLANK(L48),"0",IF(S48<2,"0",(U48*(R48-AG48)/الفرضيات!$H$2*(1+AR48)))) -> 0 | BP48: =IF(ISBLANK(L48),"0",_xlfn.CEILING.MATH(X48)) -> 0 | BQ48: =IF(ISBLANK(AW48),"0",_xlfn.CEILING.MATH(BD48)) -> 0 | BR48: =IF(ISBLANK(AW48),"0",IF($AZ48<2,"0",BU48+BV48)) -> 0 | BS48: =IF(ISBLANK(L48),"0",_xlfn.CEILING.MATH(AE48)) -> 0 | BT48: =IF(ISBLANK(L48),"0",_xlfn.CEILING.MATH(AA48)) -> 0 | BU48: {=IF(ISBLANK(AW48),"0",IF($AZ48<2,"0",_xlfn.CEILING.MATH(AX48/الفرضيات!$H$3*(1+MAX(_xlfn.CHOOSECOLS(_xlfn._xlws.FILTER($I$4:$AT$335,$K$4:$K$335=AW48),36))))))} -> 0 | BV48: {=IF(ISBLANK(AW48),"0",IF($AZ48<2,"0",_xlfn.CEILING.MATH(AY48/الفرضيات!$H$4*(1+MAX(_xlfn.CHOOSECOLS(_xlfn._xlws.FILTER($I$4:$AT$335,$K$4:$K$335=AW48),36))))))} -> 0 | BW48: =IF(ISBLANK(L48),"0",IF(S48<3,"0",(V48*(R48-AG48)/الفرضيات!$H$2*(1+AR48)))) -> 0 | BX48: =IF(ISBLANK(L48),"0",_xlfn.CEILING.MATH(Y48)) -> 0 | BY48: =IF(ISBLANK(AW48),"0",_xlfn.CEILING.MATH(BE48)) -> 0 | BZ48: =IF(ISBLANK(AW48),"0",IF($AZ48<3,"0",CC48+CD48)) -> 0 | CA48: =IF(ISBLANK(L48),"0",_xlfn.CEILING.MATH(AF48)) -> 0 | CB48: =IF(ISBLANK(L48),"0",_xlfn.CEILING.MATH(AB48)) -> 0 | CC48: {=IF(ISBLANK(AW48),"0",IF($AZ48<3,"0",_xlfn.CEILING.MATH(AX48/الفرضيات!$H$3*(1+MAX(_xlfn.CHOOSECOLS(_xlfn._xlws.FILTER($I$4:$AT$335,$K$4:$K$335=AW48),36))))))} -> 0 | CD48: {=IF(ISBLANK(AW48),"0",IF($AZ48<3,"0",_xlfn.CEILING.MATH(AY48/الفرضيات!$H$4*(1+MAX(_xlfn.CHOOSECOLS(_xlfn._xlws.FILTER($I$4:$AT$335,$K$4:$K$335=AW48),36))))))} -> 0 | CE48: =IFERROR(MAX(0,((BG48+BO48+BW48)*(1+AS48+AR48)+(BH48+BI48+BJ48+BL48+BP48+BQ48+BR48+BT48+BX48+BY48+BZ48+CB48)*(1+AS48))*(1+ VLOOKUP(AQ48,الفرضيات!$N$1:$O$11,2,0))-AH48),0) -> 0 | CF48: =IFERROR(BK48+BS48+CA48,0) -> 0 | CG48: {=IFERROR(MAX(0,MAX(BM48,BU48,CC48)*(1+VLOOKUP(MAX(_xlfn.CHOOSECOLS(_xlfn._xlws.FILTER($I$4:$AT$335,$K$4:$K$335=AW48),35)),الفرضيات!$N$2:$O$11,2,0))-BA48),0)} -> 0 | CH48: {=IFERROR(MAX(0,MAX(BN48,BV48,CD48)*(1+VLOOKUP(MAX(_xlfn.CHOOSECOLS(_xlfn._xlws.FILTER($I$4:$AT$335,$K$4:$K$335=AW48),35)),الفرضيات!$N$2:$O$11,2,0))-BB48),0)} -> 0
B49: سيتم تحديد درجة المخاطر لكل مبنى عن طريق ضرب ناتج كل من (مستوى التعقيد في الأصول، مستوى الحساسية التشغيلية، التحديات الجغرافية) لتحديد معامل الخطورة | AQ49: =IFERROR( IF(AND(AM49<>0,AL49<>0,AK49<>0), VLOOKUP(AL49,$B$45:$C$48,2,0)*VLOOKUP(AM49,$B$45:$C$48,2,0)*VLOOKUP(AK49,$B$45:$C$48,2,0), VLOOKUP(AO49,$B$45:$C$48,2,0)*VLOOKUP(AP49,$B$45:$C$48,2,0)*VLOOKUP(AN49,$B$45:$C$48,2,0)),"") | AR49: =IF(AQ49="","",(LOOKUP(SUM(N49:O49),الفرضيات!$R$2:$R$9, الفرضيات!$S$2:$S$9))) | AS49: =IF(ISBLANK(L49),"",الفرضيات!$L$2) | BG49: =IF(ISBLANK(L49),"0",T49*(R49-AG49)/الفرضيات!$H$2*(1+AR49)) -> 0 | BH49: =IF(ISBLANK(L49),"0",_xlfn.CEILING.MATH(W49)) -> 0 | BI49: =IF(ISBLANK(AW49),"0",_xlfn.CEILING.MATH(BC49)) -> 0 | BJ49: =IF(ISBLANK(AW49),"0",BM49+BN49) -> 0 | BK49: =IF(ISBLANK(L49),"0",_xlfn.CEILING.MATH(AD49)) -> 0 | BL49: =IF(ISBLANK(L49),"0",_xlfn.CEILING.MATH(Z49)) -> 0 | BM49: {=IF(ISBLANK(AW49),"0",_xlfn.CEILING.MATH(AX49/الفرضيات!$H$3*(1+MAX(_xlfn.CHOOSECOLS(_xlfn._xlws.FILTER($I$4:$AT$335,$K$4:$K$335=AW49),36)))))} -> 0 | BN49: {=IF(ISBLANK(AW49),"0",_xlfn.CEILING.MATH(AY49/الفرضيات!$H$4*(1+MAX(_xlfn.CHOOSECOLS(_xlfn._xlws.FILTER($I$4:$AT$335,$K$4:$K$335=AW49),36)))))} -> 0 | BO49: =IF(ISBLANK(L49),"0",IF(S49<2,"0",(U49*(R49-AG49)/الفرضيات!$H$2*(1+AR49)))) -> 0 | BP49: =IF(ISBLANK(L49),"0",_xlfn.CEILING.MATH(X49)) -> 0 | BQ49: =IF(ISBLANK(AW49),"0",_xlfn.CEILING.MATH(BD49)) -> 0 | BR49: =IF(ISBLANK(AW49),"0",IF($AZ49<2,"0",BU49+BV49)) -> 0 | BS49: =IF(ISBLANK(L49),"0",_xlfn.CEILING.MATH(AE49)) -> 0 | BT49: =IF(ISBLANK(L49),"0",_xlfn.CEILING.MATH(AA49)) -> 0 | BU49: {=IF(ISBLANK(AW49),"0",IF($AZ49<2,"0",_xlfn.CEILING.MATH(AX49/الفرضيات!$H$3*(1+MAX(_xlfn.CHOOSECOLS(_xlfn._xlws.FILTER($I$4:$AT$335,$K$4:$K$335=AW49),36))))))} -> 0 | BV49: {=IF(ISBLANK(AW49),"0",IF($AZ49<2,"0",_xlfn.CEILING.MATH(AY49/الفرضيات!$H$4*(1+MAX(_xlfn.CHOOSECOLS(_xlfn._xlws.FILTER($I$4:$AT$335,$K$4:$K$335=AW49),36))))))} -> 0 | BW49: =IF(ISBLANK(L49),"0",IF(S49<3,"0",(V49*(R49-AG49)/الفرضيات!$H$2*(1+AR49)))) -> 0 | BX49: =IF(ISBLANK(L49),"0",_xlfn.CEILING.MATH(Y49)) -> 0 | BY49: =IF(ISBLANK(AW49),"0",_xlfn.CEILING.MATH(BE49)) -> 0 | BZ49: =IF(ISBLANK(AW49),"0",IF($AZ49<3,"0",CC49+CD49)) -> 0 | CA49: =IF(ISBLANK(L49),"0",_xlfn.CEILING.MATH(AF49)) -> 0 | CB49: =IF(ISBLANK(L49),"0",_xlfn.CEILING.MATH(AB49)) -> 0 | CC49: {=IF(ISBLANK(AW49),"0",IF($AZ49<3,"0",_xlfn.CEILING.MATH(AX49/الفرضيات!$H$3*(1+MAX(_xlfn.CHOOSECOLS(_xlfn._xlws.FILTER($I$4:$AT$335,$K$4:$K$335=AW49),36))))))} -> 0 | CD49: {=IF(ISBLANK(AW49),"0",IF($AZ49<3,"0",_xlfn.CEILING.MATH(AY49/الفرضيات!$H$4*(1+MAX(_xlfn.CHOOSECOLS(_xlfn._xlws.FILTER($I$4:$AT$335,$K$4:$K$335=AW49),36))))))} -> 0 | CE49: =IFERROR(MAX(0,((BG49+BO49+BW49)*(1+AS49+AR49)+(BH49+BI49+BJ49+BL49+BP49+BQ49+BR49+BT49+BX49+BY49+BZ49+CB49)*(1+AS49))*(1+ VLOOKUP(AQ49,الفرضيات!$N$1:$O$11,2,0))-AH49),0) -> 0 | CF49: =IFERROR(BK49+BS49+CA49,0) -> 0 | CG49: {=IFERROR(MAX(0,MAX(BM49,BU49,CC49)*(1+VLOOKUP(MAX(_xlfn.CHOOSECOLS(_xlfn._xlws.FILTER($I$4:$AT$335,$K$4:$K$335=AW49),35)),الفرضيات!$N$2:$O$11,2,0))-BA49),0)} -> 0 | CH49: {=IFERROR(MAX(0,MAX(BN49,BV49,CD49)*(1+VLOOKUP(MAX(_xlfn.CHOOSECOLS(_xlfn._xlws.FILTER($I$4:$AT$335,$K$4:$K$335=AW49),35)),الفرضيات!$N$2:$O$11,2,0))-BB49),0)} -> 0
AQ50: =IFERROR( IF(AND(AM50<>0,AL50<>0,AK50<>0), VLOOKUP(AL50,$B$45:$C$48,2,0)*VLOOKUP(AM50,$B$45:$C$48,2,0)*VLOOKUP(AK50,$B$45:$C$48,2,0), VLOOKUP(AO50,$B$45:$C$48,2,0)*VLOOKUP(AP50,$B$45:$C$48,2,0)*VLOOKUP(AN50,$B$45:$C$48,2,0)),"") | AR50: =IF(AQ50="","",(LOOKUP(SUM(N50:O50),الفرضيات!$R$2:$R$9, الفرضيات!$S$2:$S$9))) | AS50: =IF(ISBLANK(L50),"",الفرضيات!$L$2) | BG50: =IF(ISBLANK(L50),"0",T50*(R50-AG50)/الفرضيات!$H$2*(1+AR50)) -> 0 | BH50: =IF(ISBLANK(L50),"0",_xlfn.CEILING.MATH(W50)) -> 0 | BI50: =IF(ISBLANK(AW50),"0",_xlfn.CEILING.MATH(BC50)) -> 0 | BJ50: =IF(ISBLANK(AW50),"0",BM50+BN50) -> 0 | BK50: =IF(ISBLANK(L50),"0",_xlfn.CEILING.MATH(AD50)) -> 0 | BL50: =IF(ISBLANK(L50),"0",_xlfn.CEILING.MATH(Z50)) -> 0 | BM50: {=IF(ISBLANK(AW50),"0",_xlfn.CEILING.MATH(AX50/الفرضيات!$H$3*(1+MAX(_xlfn.CHOOSECOLS(_xlfn._xlws.FILTER($I$4:$AT$335,$K$4:$K$335=AW50),36)))))} -> 0 | BN50: {=IF(ISBLANK(AW50),"0",_xlfn.CEILING.MATH(AY50/الفرضيات!$H$4*(1+MAX(_xlfn.CHOOSECOLS(_xlfn._xlws.FILTER($I$4:$AT$335,$K$4:$K$335=AW50),36)))))} -> 0 | BO50: =IF(ISBLANK(L50),"0",IF(S50<2,"0",(U50*(R50-AG50)/الفرضيات!$H$2*(1+AR50)))) -> 0 | BP50: =IF(ISBLANK(L50),"0",_xlfn.CEILING.MATH(X50)) -> 0 | BQ50: =IF(ISBLANK(AW50),"0",_xlfn.CEILING.MATH(BD50)) -> 0 | BR50: =IF(ISBLANK(AW50),"0",IF($AZ50<2,"0",BU50+BV50)) -> 0 | BS50: =IF(ISBLANK(L50),"0",_xlfn.CEILING.MATH(AE50)) -> 0 | BT50: =IF(ISBLANK(L50),"0",_xlfn.CEILING.MATH(AA50)) -> 0 | BU50: {=IF(ISBLANK(AW50),"0",IF($AZ50<2,"0",_xlfn.CEILING.MATH(AX50/الفرضيات!$H$3*(1+MAX(_xlfn.CHOOSECOLS(_xlfn._xlws.FILTER($I$4:$AT$335,$K$4:$K$335=AW50),36))))))} -> 0 | BV50: {=IF(ISBLANK(AW50),"0",IF($AZ50<2,"0",_xlfn.CEILING.MATH(AY50/الفرضيات!$H$4*(1+MAX(_xlfn.CHOOSECOLS(_xlfn._xlws.FILTER($I$4:$AT$335,$K$4:$K$335=AW50),36))))))} -> 0 | BW50: =IF(ISBLANK(L50),"0",IF(S50<3,"0",(V50*(R50-AG50)/الفرضيات!$H$2*(1+AR50)))) -> 0 | BX50: =IF(ISBLANK(L50),"0",_xlfn.CEILING.MATH(Y50)) -> 0 | BY50: =IF(ISBLANK(AW50),"0",_xlfn.CEILING.MATH(BE50)) -> 0 | BZ50: =IF(ISBLANK(AW50),"0",IF($AZ50<3,"0",CC50+CD50)) -> 0 | CA50: =IF(ISBLANK(L50),"0",_xlfn.CEILING.MATH(AF50)) -> 0 | CB50: =IF(ISBLANK(L50),"0",_xlfn.CEILING.MATH(AB50)) -> 0 | CC50: {=IF(ISBLANK(AW50),"0",IF($AZ50<3,"0",_xlfn.CEILING.MATH(AX50/الفرضيات!$H$3*(1+MAX(_xlfn.CHOOSECOLS(_xlfn._xlws.FILTER($I$4:$AT$335,$K$4:$K$335=AW50),36))))))} -> 0 | CD50: {=IF(ISBLANK(AW50),"0",IF($AZ50<3,"0",_xlfn.CEILING.MATH(AY50/الفرضيات!$H$4*(1+MAX(_xlfn.CHOOSECOLS(_xlfn._xlws.FILTER($I$4:$AT$335,$K$4:$K$335=AW50),36))))))} -> 0 | CE50: =IFERROR(MAX(0,((BG50+BO50+BW50)*(1+AS50+AR50)+(BH50+BI50+BJ50+BL50+BP50+BQ50+BR50+BT50+BX50+BY50+BZ50+CB50)*(1+AS50))*(1+ VLOOKUP(AQ50,الفرضيات!$N$1:$O$11,2,0))-AH50),0) -> 0 | CF50: =IFERROR(BK50+BS50+CA50,0) -> 0 | CG50: {=IFERROR(MAX(0,MAX(BM50,BU50,CC50)*(1+VLOOKUP(MAX(_xlfn.CHOOSECOLS(_xlfn._xlws.FILTER($I$4:$AT$335,$K$4:$K$335=AW50),35)),الفرضيات!$N$2:$O$11,2,0))-BA50),0)} -> 0 | CH50: {=IFERROR(MAX(0,MAX(BN50,BV50,CD50)*(1+VLOOKUP(MAX(_xlfn.CHOOSECOLS(_xlfn._xlws.FILTER($I$4:$AT$335,$K$4:$K$335=AW50),35)),الفرضيات!$N$2:$O$11,2,0))-BB50),0)} -> 0
AQ51: =IFERROR( IF(AND(AM51<>0,AL51<>0,AK51<>0), VLOOKUP(AL51,$B$45:$C$48,2,0)*VLOOKUP(AM51,$B$45:$C$48,2,0)*VLOOKUP(AK51,$B$45:$C$48,2,0), VLOOKUP(AO51,$B$45:$C$48,2,0)*VLOOKUP(AP51,$B$45:$C$48,2,0)*VLOOKUP(AN51,$B$45:$C$48,2,0)),"") | AR51: =IF(AQ51="","",(LOOKUP(SUM(N51:O51),الفرضيات!$R$2:$R$9, الفرضيات!$S$2:$S$9))) | AS51: =IF(ISBLANK(L51),"",الفرضيات!$L$2) | BG51: =IF(ISBLANK(L51),"0",T51*(R51-AG51)/الفرضيات!$H$2*(1+AR51)) -> 0 | BH51: =IF(ISBLANK(L51),"0",_xlfn.CEILING.MATH(W51)) -> 0 | BI51: =IF(ISBLANK(AW51),"0",_xlfn.CEILING.MATH(BC51)) -> 0 | BJ51: =IF(ISBLANK(AW51),"0",BM51+BN51) -> 0 | BK51: =IF(ISBLANK(L51),"0",_xlfn.CEILING.MATH(AD51)) -> 0 | BL51: =IF(ISBLANK(L51),"0",_xlfn.CEILING.MATH(Z51)) -> 0 | BM51: {=IF(ISBLANK(AW51),"0",_xlfn.CEILING.MATH(AX51/الفرضيات!$H$3*(1+MAX(_xlfn.CHOOSECOLS(_xlfn._xlws.FILTER($I$4:$AT$335,$K$4:$K$335=AW51),36)))))} -> 0 | BN51: {=IF(ISBLANK(AW51),"0",_xlfn.CEILING.MATH(AY51/الفرضيات!$H$4*(1+MAX(_xlfn.CHOOSECOLS(_xlfn._xlws.FILTER($I$4:$AT$335,$K$4:$K$335=AW51),36)))))} -> 0 | BO51: =IF(ISBLANK(L51),"0",IF(S51<2,"0",(U51*(R51-AG51)/الفرضيات!$H$2*(1+AR51)))) -> 0 | BP51: =IF(ISBLANK(L51),"0",_xlfn.CEILING.MATH(X51)) -> 0 | BQ51: =IF(ISBLANK(AW51),"0",_xlfn.CEILING.MATH(BD51)) -> 0 | BR51: =IF(ISBLANK(AW51),"0",IF($AZ51<2,"0",BU51+BV51)) -> 0 | BS51: =IF(ISBLANK(L51),"0",_xlfn.CEILING.MATH(AE51)) -> 0 | BT51: =IF(ISBLANK(L51),"0",_xlfn.CEILING.MATH(AA51)) -> 0 | BU51: {=IF(ISBLANK(AW51),"0",IF($AZ51<2,"0",_xlfn.CEILING.MATH(AX51/الفرضيات!$H$3*(1+MAX(_xlfn.CHOOSECOLS(_xlfn._xlws.FILTER($I$4:$AT$335,$K$4:$K$335=AW51),36))))))} -> 0 | BV51: {=IF(ISBLANK(AW51),"0",IF($AZ51<2,"0",_xlfn.CEILING.MATH(AY51/الفرضيات!$H$4*(1+MAX(_xlfn.CHOOSECOLS(_xlfn._xlws.FILTER($I$4:$AT$335,$K$4:$K$335=AW51),36))))))} -> 0 | BW51: =IF(ISBLANK(L51),"0",IF(S51<3,"0",(V51*(R51-AG51)/الفرضيات!$H$2*(1+AR51)))) -> 0 | BX51: =IF(ISBLANK(L51),"0",_xlfn.CEILING.MATH(Y51)) -> 0 | BY51: =IF(ISBLANK(AW51),"0",_xlfn.CEILING.MATH(BE51)) -> 0 | BZ51: =IF(ISBLANK(AW51),"0",IF($AZ51<3,"0",CC51+CD51)) -> 0 | CA51: =IF(ISBLANK(L51),"0",_xlfn.CEILING.MATH(AF51)) -> 0 | CB51: =IF(ISBLANK(L51),"0",_xlfn.CEILING.MATH(AB51)) -> 0 | CC51: {=IF(ISBLANK(AW51),"0",IF($AZ51<3,"0",_xlfn.CEILING.MATH(AX51/الفرضيات!$H$3*(1+MAX(_xlfn.CHOOSECOLS(_xlfn._xlws.FILTER($I$4:$AT$335,$K$4:$K$335=AW51),36))))))} -> 0 | CD51: {=IF(ISBLANK(AW51),"0",IF($AZ51<3,"0",_xlfn.CEILING.MATH(AY51/الفرضيات!$H$4*(1+MAX(_xlfn.CHOOSECOLS(_xlfn._xlws.FILTER($I$4:$AT$335,$K$4:$K$335=AW51),36))))))} -> 0 | CE51: =IFERROR(MAX(0,((BG51+BO51+BW51)*(1+AS51+AR51)+(BH51+BI51+BJ51+BL51+BP51+BQ51+BR51+BT51+BX51+BY51+BZ51+CB51)*(1+AS51))*(1+ VLOOKUP(AQ51,الفرضيات!$N$1:$O$11,2,0))-AH51),0) -> 0 | CF51: =IFERROR(BK51+BS51+CA51,0) -> 0 | CG51: {=IFERROR(MAX(0,MAX(BM51,BU51,CC51)*(1+VLOOKUP(MAX(_xlfn.CHOOSECOLS(_xlfn._xlws.FILTER($I$4:$AT$335,$K$4:$K$335=AW51),35)),الفرضيات!$N$2:$O$11,2,0))-BA51),0)} -> 0 | CH51: {=IFERROR(MAX(0,MAX(BN51,BV51,CD51)*(1+VLOOKUP(MAX(_xlfn.CHOOSECOLS(_xlfn._xlws.FILTER($I$4:$AT$335,$K$4:$K$335=AW51),35)),الفرضيات!$N$2:$O$11,2,0))-BB51),0)} -> 0
AQ52: =IFERROR( IF(AND(AM52<>0,AL52<>0,AK52<>0), VLOOKUP(AL52,$B$45:$C$48,2,0)*VLOOKUP(AM52,$B$45:$C$48,2,0)*VLOOKUP(AK52,$B$45:$C$48,2,0), VLOOKUP(AO52,$B$45:$C$48,2,0)*VLOOKUP(AP52,$B$45:$C$48,2,0)*VLOOKUP(AN52,$B$45:$C$48,2,0)),"") | AR52: =IF(AQ52="","",(LOOKUP(SUM(N52:O52),الفرضيات!$R$2:$R$9, الفرضيات!$S$2:$S$9))) | AS52: =IF(ISBLANK(L52),"",الفرضيات!$L$2) | BG52: =IF(ISBLANK(L52),"0",T52*(R52-AG52)/الفرضيات!$H$2*(1+AR52)) -> 0 | BH52: =IF(ISBLANK(L52),"0",_xlfn.CEILING.MATH(W52)) -> 0 | BI52: =IF(ISBLANK(AW52),"0",_xlfn.CEILING.MATH(BC52)) -> 0 | BJ52: =IF(ISBLANK(AW52),"0",BM52+BN52) -> 0 | BK52: =IF(ISBLANK(L52),"0",_xlfn.CEILING.MATH(AD52)) -> 0 | BL52: =IF(ISBLANK(L52),"0",_xlfn.CEILING.MATH(Z52)) -> 0 | BM52: {=IF(ISBLANK(AW52),"0",_xlfn.CEILING.MATH(AX52/الفرضيات!$H$3*(1+MAX(_xlfn.CHOOSECOLS(_xlfn._xlws.FILTER($I$4:$AT$335,$K$4:$K$335=AW52),36)))))} -> 0 | BN52: {=IF(ISBLANK(AW52),"0",_xlfn.CEILING.MATH(AY52/الفرضيات!$H$4*(1+MAX(_xlfn.CHOOSECOLS(_xlfn._xlws.FILTER($I$4:$AT$335,$K$4:$K$335=AW52),36)))))} -> 0 | BO52: =IF(ISBLANK(L52),"0",IF(S52<2,"0",(U52*(R52-AG52)/الفرضيات!$H$2*(1+AR52)))) -> 0 | BP52: =IF(ISBLANK(L52),"0",_xlfn.CEILING.MATH(X52)) -> 0 | BQ52: =IF(ISBLANK(AW52),"0",_xlfn.CEILING.MATH(BD52)) -> 0 | BR52: =IF(ISBLANK(AW52),"0",IF($AZ52<2,"0",BU52+BV52)) -> 0 | BS52: =IF(ISBLANK(L52),"0",_xlfn.CEILING.MATH(AE52)) -> 0 | BT52: =IF(ISBLANK(L52),"0",_xlfn.CEILING.MATH(AA52)) -> 0 | BU52: {=IF(ISBLANK(AW52),"0",IF($AZ52<2,"0",_xlfn.CEILING.MATH(AX52/الفرضيات!$H$3*(1+MAX(_xlfn.CHOOSECOLS(_xlfn._xlws.FILTER($I$4:$AT$335,$K$4:$K$335=AW52),36))))))} -> 0 | BV52: {=IF(ISBLANK(AW52),"0",IF($AZ52<2,"0",_xlfn.CEILING.MATH(AY52/الفرضيات!$H$4*(1+MAX(_xlfn.CHOOSECOLS(_xlfn._xlws.FILTER($I$4:$AT$335,$K$4:$K$335=AW52),36))))))} -> 0 | BW52: =IF(ISBLANK(L52),"0",IF(S52<3,"0",(V52*(R52-AG52)/الفرضيات!$H$2*(1+AR52)))) -> 0 | BX52: =IF(ISBLANK(L52),"0",_xlfn.CEILING.MATH(Y52)) -> 0 | BY52: =IF(ISBLANK(AW52),"0",_xlfn.CEILING.MATH(BE52)) -> 0 | BZ52: =IF(ISBLANK(AW52),"0",IF($AZ52<3,"0",CC52+CD52)) -> 0 | CA52: =IF(ISBLANK(L52),"0",_xlfn.CEILING.MATH(AF52)) -> 0 | CB52: =IF(ISBLANK(L52),"0",_xlfn.CEILING.MATH(AB52)) -> 0 | CC52: {=IF(ISBLANK(AW52),"0",IF($AZ52<3,"0",_xlfn.CEILING.MATH(AX52/الفرضيات!$H$3*(1+MAX(_xlfn.CHOOSECOLS(_xlfn._xlws.FILTER($I$4:$AT$335,$K$4:$K$335=AW52),36))))))} -> 0 | CD52: {=IF(ISBLANK(AW52),"0",IF($AZ52<3,"0",_xlfn.CEILING.MATH(AY52/الفرضيات!$H$4*(1+MAX(_xlfn.CHOOSECOLS(_xlfn._xlws.FILTER($I$4:$AT$335,$K$4:$K$335=AW52),36))))))} -> 0 | CE52: =IFERROR(MAX(0,((BG52+BO52+BW52)*(1+AS52+AR52)+(BH52+BI52+BJ52+BL52+BP52+BQ52+BR52+BT52+BX52+BY52+BZ52+CB52)*(1+AS52))*(1+ VLOOKUP(AQ52,الفرضيات!$N$1:$O$11,2,0))-AH52),0) -> 0 | CF52: =IFERROR(BK52+BS52+CA52,0) -> 0 | CG52: {=IFERROR(MAX(0,MAX(BM52,BU52,CC52)*(1+VLOOKUP(MAX(_xlfn.CHOOSECOLS(_xlfn._xlws.FILTER($I$4:$AT$335,$K$4:$K$335=AW52),35)),الفرضيات!$N$2:$O$11,2,0))-BA52),0)} -> 0 | CH52: {=IFERROR(MAX(0,MAX(BN52,BV52,CD52)*(1+VLOOKUP(MAX(_xlfn.CHOOSECOLS(_xlfn._xlws.FILTER($I$4:$AT$335,$K$4:$K$335=AW52),35)),الفرضيات!$N$2:$O$11,2,0))-BB52),0)} -> 0
AQ53: =IFERROR( IF(AND(AM53<>0,AL53<>0,AK53<>0), VLOOKUP(AL53,$B$45:$C$48,2,0)*VLOOKUP(AM53,$B$45:$C$48,2,0)*VLOOKUP(AK53,$B$45:$C$48,2,0), VLOOKUP(AO53,$B$45:$C$48,2,0)*VLOOKUP(AP53,$B$45:$C$48,2,0)*VLOOKUP(AN53,$B$45:$C$48,2,0)),"") | AR53: =IF(AQ53="","",(LOOKUP(SUM(N53:O53),الفرضيات!$R$2:$R$9, الفرضيات!$S$2:$S$9))) | AS53: =IF(ISBLANK(L53),"",الفرضيات!$L$2) | BG53: =IF(ISBLANK(L53),"0",T53*(R53-AG53)/الفرضيات!$H$2*(1+AR53)) -> 0 | BH53: =IF(ISBLANK(L53),"0",_xlfn.CEILING.MATH(W53)) -> 0 | BI53: =IF(ISBLANK(AW53),"0",_xlfn.CEILING.MATH(BC53)) -> 0 | BJ53: =IF(ISBLANK(AW53),"0",BM53+BN53) -> 0 | BK53: =IF(ISBLANK(L53),"0",_xlfn.CEILING.MATH(AD53)) -> 0 | BL53: =IF(ISBLANK(L53),"0",_xlfn.CEILING.MATH(Z53)) -> 0 | BM53: {=IF(ISBLANK(AW53),"0",_xlfn.CEILING.MATH(AX53/الفرضيات!$H$3*(1+MAX(_xlfn.CHOOSECOLS(_xlfn._xlws.FILTER($I$4:$AT$335,$K$4:$K$335=AW53),36)))))} -> 0 | BN53: {=IF(ISBLANK(AW53),"0",_xlfn.CEILING.MATH(AY53/الفرضيات!$H$4*(1+MAX(_xlfn.CHOOSECOLS(_xlfn._xlws.FILTER($I$4:$AT$335,$K$4:$K$335=AW53),36)))))} -> 0 | BO53: =IF(ISBLANK(L53),"0",IF(S53<2,"0",(U53*(R53-AG53)/الفرضيات!$H$2*(1+AR53)))) -> 0 | BP53: =IF(ISBLANK(L53),"0",_xlfn.CEILING.MATH(X53)) -> 0 | BQ53: =IF(ISBLANK(AW53),"0",_xlfn.CEILING.MATH(BD53)) -> 0 | BR53: =IF(ISBLANK(AW53),"0",IF($AZ53<2,"0",BU53+BV53)) -> 0 | BS53: =IF(ISBLANK(L53),"0",_xlfn.CEILING.MATH(AE53)) -> 0 | BT53: =IF(ISBLANK(L53),"0",_xlfn.CEILING.MATH(AA53)) -> 0 | BU53: {=IF(ISBLANK(AW53),"0",IF($AZ53<2,"0",_xlfn.CEILING.MATH(AX53/الفرضيات!$H$3*(1+MAX(_xlfn.CHOOSECOLS(_xlfn._xlws.FILTER($I$4:$AT$335,$K$4:$K$335=AW53),36))))))} -> 0 | BV53: {=IF(ISBLANK(AW53),"0",IF($AZ53<2,"0",_xlfn.CEILING.MATH(AY53/الفرضيات!$H$4*(1+MAX(_xlfn.CHOOSECOLS(_xlfn._xlws.FILTER($I$4:$AT$335,$K$4:$K$335=AW53),36))))))} -> 0 | BW53: =IF(ISBLANK(L53),"0",IF(S53<3,"0",(V53*(R53-AG53)/الفرضيات!$H$2*(1+AR53)))) -> 0 | BX53: =IF(ISBLANK(L53),"0",_xlfn.CEILING.MATH(Y53)) -> 0 | BY53: =IF(ISBLANK(AW53),"0",_xlfn.CEILING.MATH(BE53)) -> 0 | BZ53: =IF(ISBLANK(AW53),"0",IF($AZ53<3,"0",CC53+CD53)) -> 0 | CA53: =IF(ISBLANK(L53),"0",_xlfn.CEILING.MATH(AF53)) -> 0 | CB53: =IF(ISBLANK(L53),"0",_xlfn.CEILING.MATH(AB53)) -> 0 | CC53: {=IF(ISBLANK(AW53),"0",IF($AZ53<3,"0",_xlfn.CEILING.MATH(AX53/الفرضيات!$H$3*(1+MAX(_xlfn.CHOOSECOLS(_xlfn._xlws.FILTER($I$4:$AT$335,$K$4:$K$335=AW53),36))))))} -> 0 | CD53: {=IF(ISBLANK(AW53),"0",IF($AZ53<3,"0",_xlfn.CEILING.MATH(AY53/الفرضيات!$H$4*(1+MAX(_xlfn.CHOOSECOLS(_xlfn._xlws.FILTER($I$4:$AT$335,$K$4:$K$335=AW53),36))))))} -> 0 | CE53: =IFERROR(MAX(0,((BG53+BO53+BW53)*(1+AS53+AR53)+(BH53+BI53+BJ53+BL53+BP53+BQ53+BR53+BT53+BX53+BY53+BZ53+CB53)*(1+AS53))*(1+ VLOOKUP(AQ53,الفرضيات!$N$1:$O$11,2,0))-AH53),0) -> 0 | CF53: =IFERROR(BK53+BS53+CA53,0) -> 0 | CG53: {=IFERROR(MAX(0,MAX(BM53,BU53,CC53)*(1+VLOOKUP(MAX(_xlfn.CHOOSECOLS(_xlfn._xlws.FILTER($I$4:$AT$335,$K$4:$K$335=AW53),35)),الفرضيات!$N$2:$O$11,2,0))-BA53),0)} -> 0 | CH53: {=IFERROR(MAX(0,MAX(BN53,BV53,CD53)*(1+VLOOKUP(MAX(_xlfn.CHOOSECOLS(_xlfn._xlws.FILTER($I$4:$AT$335,$K$4:$K$335=AW53),35)),الفرضيات!$N$2:$O$11,2,0))-BB53),0)} -> 0
AQ54: =IFERROR( IF(AND(AM54<>0,AL54<>0,AK54<>0), VLOOKUP(AL54,$B$45:$C$48,2,0)*VLOOKUP(AM54,$B$45:$C$48,2,0)*VLOOKUP(AK54,$B$45:$C$48,2,0), VLOOKUP(AO54,$B$45:$C$48,2,0)*VLOOKUP(AP54,$B$45:$C$48,2,0)*VLOOKUP(AN54,$B$45:$C$48,2,0)),"") | AR54: =IF(AQ54="","",(LOOKUP(SUM(N54:O54),الفرضيات!$R$2:$R$9, الفرضيات!$S$2:$S$9))) | AS54: =IF(ISBLANK(L54),"",الفرضيات!$L$2) | BG54: =IF(ISBLANK(L54),"0",T54*(R54-AG54)/الفرضيات!$H$2*(1+AR54)) -> 0 | BH54: =IF(ISBLANK(L54),"0",_xlfn.CEILING.MATH(W54)) -> 0 | BI54: =IF(ISBLANK(AW54),"0",_xlfn.CEILING.MATH(BC54)) -> 0 | BJ54: =IF(ISBLANK(AW54),"0",BM54+BN54) -> 0 | BK54: =IF(ISBLANK(L54),"0",_xlfn.CEILING.MATH(AD54)) -> 0 | BL54: =IF(ISBLANK(L54),"0",_xlfn.CEILING.MATH(Z54)) -> 0 | BM54: {=IF(ISBLANK(AW54),"0",_xlfn.CEILING.MATH(AX54/الفرضيات!$H$3*(1+MAX(_xlfn.CHOOSECOLS(_xlfn._xlws.FILTER($I$4:$AT$335,$K$4:$K$335=AW54),36)))))} -> 0 | BN54: {=IF(ISBLANK(AW54),"0",_xlfn.CEILING.MATH(AY54/الفرضيات!$H$4*(1+MAX(_xlfn.CHOOSECOLS(_xlfn._xlws.FILTER($I$4:$AT$335,$K$4:$K$335=AW54),36)))))} -> 0 | BO54: =IF(ISBLANK(L54),"0",IF(S54<2,"0",(U54*(R54-AG54)/الفرضيات!$H$2*(1+AR54)))) -> 0 | BP54: =IF(ISBLANK(L54),"0",_xlfn.CEILING.MATH(X54)) -> 0 | BQ54: =IF(ISBLANK(AW54),"0",_xlfn.CEILING.MATH(BD54)) -> 0 | BR54: =IF(ISBLANK(AW54),"0",IF($AZ54<2,"0",BU54+BV54)) -> 0 | BS54: =IF(ISBLANK(L54),"0",_xlfn.CEILING.MATH(AE54)) -> 0 | BT54: =IF(ISBLANK(L54),"0",_xlfn.CEILING.MATH(AA54)) -> 0 | BU54: {=IF(ISBLANK(AW54),"0",IF($AZ54<2,"0",_xlfn.CEILING.MATH(AX54/الفرضيات!$H$3*(1+MAX(_xlfn.CHOOSECOLS(_xlfn._xlws.FILTER($I$4:$AT$335,$K$4:$K$335=AW54),36))))))} -> 0 | BV54: {=IF(ISBLANK(AW54),"0",IF($AZ54<2,"0",_xlfn.CEILING.MATH(AY54/الفرضيات!$H$4*(1+MAX(_xlfn.CHOOSECOLS(_xlfn._xlws.FILTER($I$4:$AT$335,$K$4:$K$335=AW54),36))))))} -> 0 | BW54: =IF(ISBLANK(L54),"0",IF(S54<3,"0",(V54*(R54-AG54)/الفرضيات!$H$2*(1+AR54)))) -> 0 | BX54: =IF(ISBLANK(L54),"0",_xlfn.CEILING.MATH(Y54)) -> 0 | BY54: =IF(ISBLANK(AW54),"0",_xlfn.CEILING.MATH(BE54)) -> 0 | BZ54: =IF(ISBLANK(AW54),"0",IF($AZ54<3,"0",CC54+CD54)) -> 0 | CA54: =IF(ISBLANK(L54),"0",_xlfn.CEILING.MATH(AF54)) -> 0 | CB54: =IF(ISBLANK(L54),"0",_xlfn.CEILING.MATH(AB54)) -> 0 | CC54: {=IF(ISBLANK(AW54),"0",IF($AZ54<3,"0",_xlfn.CEILING.MATH(AX54/الفرضيات!$H$3*(1+MAX(_xlfn.CHOOSECOLS(_xlfn._xlws.FILTER($I$4:$AT$335,$K$4:$K$335=AW54),36))))))} -> 0 | CD54: {=IF(ISBLANK(AW54),"0",IF($AZ54<3,"0",_xlfn.CEILING.MATH(AY54/الفرضيات!$H$4*(1+MAX(_xlfn.CHOOSECOLS(_xlfn._xlws.FILTER($I$4:$AT$335,$K$4:$K$335=AW54),36))))))} -> 0 | CE54: =IFERROR(MAX(0,((BG54+BO54+BW54)*(1+AS54+AR54)+(BH54+BI54+BJ54+BL54+BP54+BQ54+BR54+BT54+BX54+BY54+BZ54+CB54)*(1+AS54))*(1+ VLOOKUP(AQ54,الفرضيات!$N$1:$O$11,2,0))-AH54),0) -> 0 | CF54: =IFERROR(BK54+BS54+CA54,0) -> 0 | CG54: {=IFERROR(MAX(0,MAX(BM54,BU54,CC54)*(1+VLOOKUP(MAX(_xlfn.CHOOSECOLS(_xlfn._xlws.FILTER($I$4:$AT$335,$K$4:$K$335=AW54),35)),الفرضيات!$N$2:$O$11,2,0))-BA54),0)} -> 0 | CH54: {=IFERROR(MAX(0,MAX(BN54,BV54,CD54)*(1+VLOOKUP(MAX(_xlfn.CHOOSECOLS(_xlfn._xlws.FILTER($I$4:$AT$335,$K$4:$K$335=AW54),35)),الفرضيات!$N$2:$O$11,2,0))-BB54),0)} -> 0
AQ55: =IFERROR( IF(AND(AM55<>0,AL55<>0,AK55<>0), VLOOKUP(AL55,$B$45:$C$48,2,0)*VLOOKUP(AM55,$B$45:$C$48,2,0)*VLOOKUP(AK55,$B$45:$C$48,2,0), VLOOKUP(AO55,$B$45:$C$48,2,0)*VLOOKUP(AP55,$B$45:$C$48,2,0)*VLOOKUP(AN55,$B$45:$C$48,2,0)),"") | AR55: =IF(AQ55="","",(LOOKUP(SUM(N55:O55),الفرضيات!$R$2:$R$9, الفرضيات!$S$2:$S$9))) | AS55: =IF(ISBLANK(L55),"",الفرضيات!$L$2) | BG55: =IF(ISBLANK(L55),"0",T55*(R55-AG55)/الفرضيات!$H$2*(1+AR55)) -> 0 | BH55: =IF(ISBLANK(L55),"0",_xlfn.CEILING.MATH(W55)) -> 0 | BI55: =IF(ISBLANK(AW55),"0",_xlfn.CEILING.MATH(BC55)) -> 0 | BJ55: =IF(ISBLANK(AW55),"0",BM55+BN55) -> 0 | BK55: =IF(ISBLANK(L55),"0",_xlfn.CEILING.MATH(AD55)) -> 0 | BL55: =IF(ISBLANK(L55),"0",_xlfn.CEILING.MATH(Z55)) -> 0 | BM55: {=IF(ISBLANK(AW55),"0",_xlfn.CEILING.MATH(AX55/الفرضيات!$H$3*(1+MAX(_xlfn.CHOOSECOLS(_xlfn._xlws.FILTER($I$4:$AT$335,$K$4:$K$335=AW55),36)))))} -> 0 | BN55: {=IF(ISBLANK(AW55),"0",_xlfn.CEILING.MATH(AY55/الفرضيات!$H$4*(1+MAX(_xlfn.CHOOSECOLS(_xlfn._xlws.FILTER($I$4:$AT$335,$K$4:$K$335=AW55),36)))))} -> 0 | BO55: =IF(ISBLANK(L55),"0",IF(S55<2,"0",(U55*(R55-AG55)/الفرضيات!$H$2*(1+AR55)))) -> 0 | BP55: =IF(ISBLANK(L55),"0",_xlfn.CEILING.MATH(X55)) -> 0 | BQ55: =IF(ISBLANK(AW55),"0",_xlfn.CEILING.MATH(BD55)) -> 0 | BR55: =IF(ISBLANK(AW55),"0",IF($AZ55<2,"0",BU55+BV55)) -> 0 | BS55: =IF(ISBLANK(L55),"0",_xlfn.CEILING.MATH(AE55)) -> 0 | BT55: =IF(ISBLANK(L55),"0",_xlfn.CEILING.MATH(AA55)) -> 0 | BU55: {=IF(ISBLANK(AW55),"0",IF($AZ55<2,"0",_xlfn.CEILING.MATH(AX55/الفرضيات!$H$3*(1+MAX(_xlfn.CHOOSECOLS(_xlfn._xlws.FILTER($I$4:$AT$335,$K$4:$K$335=AW55),36))))))} -> 0 | BV55: {=IF(ISBLANK(AW55),"0",IF($AZ55<2,"0",_xlfn.CEILING.MATH(AY55/الفرضيات!$H$4*(1+MAX(_xlfn.CHOOSECOLS(_xlfn._xlws.FILTER($I$4:$AT$335,$K$4:$K$335=AW55),36))))))} -> 0 | BW55: =IF(ISBLANK(L55),"0",IF(S55<3,"0",(V55*(R55-AG55)/الفرضيات!$H$2*(1+AR55)))) -> 0 | BX55: =IF(ISBLANK(L55),"0",_xlfn.CEILING.MATH(Y55)) -> 0 | BY55: =IF(ISBLANK(AW55),"0",_xlfn.CEILING.MATH(BE55)) -> 0 | BZ55: =IF(ISBLANK(AW55),"0",IF($AZ55<3,"0",CC55+CD55)) -> 0 | CA55: =IF(ISBLANK(L55),"0",_xlfn.CEILING.MATH(AF55)) -> 0 | CB55: =IF(ISBLANK(L55),"0",_xlfn.CEILING.MATH(AB55)) -> 0 | CC55: {=IF(ISBLANK(AW55),"0",IF($AZ55<3,"0",_xlfn.CEILING.MATH(AX55/الفرضيات!$H$3*(1+MAX(_xlfn.CHOOSECOLS(_xlfn._xlws.FILTER($I$4:$AT$335,$K$4:$K$335=AW55),36))))))} -> 0 | CD55: {=IF(ISBLANK(AW55),"0",IF($AZ55<3,"0",_xlfn.CEILING.MATH(AY55/الفرضيات!$H$4*(1+MAX(_xlfn.CHOOSECOLS(_xlfn._xlws.FILTER($I$4:$AT$335,$K$4:$K$335=AW55),36))))))} -> 0 | CE55: =IFERROR(MAX(0,((BG55+BO55+BW55)*(1+AS55+AR55)+(BH55+BI55+BJ55+BL55+BP55+BQ55+BR55+BT55+BX55+BY55+BZ55+CB55)*(1+AS55))*(1+ VLOOKUP(AQ55,الفرضيات!$N$1:$O$11,2,0))-AH55),0) -> 0 | CF55: =IFERROR(BK55+BS55+CA55,0) -> 0 | CG55: {=IFERROR(MAX(0,MAX(BM55,BU55,CC55)*(1+VLOOKUP(MAX(_xlfn.CHOOSECOLS(_xlfn._xlws.FILTER($I$4:$AT$335,$K$4:$K$335=AW55),35)),الفرضيات!$N$2:$O$11,2,0))-BA55),0)} -> 0 | CH55: {=IFERROR(MAX(0,MAX(BN55,BV55,CD55)*(1+VLOOKUP(MAX(_xlfn.CHOOSECOLS(_xlfn._xlws.FILTER($I$4:$AT$335,$K$4:$K$335=AW55),35)),الفرضيات!$N$2:$O$11,2,0))-BB55),0)} -> 0
AQ56: =IFERROR( IF(AND(AM56<>0,AL56<>0,AK56<>0), VLOOKUP(AL56,$B$45:$C$48,2,0)*VLOOKUP(AM56,$B$45:$C$48,2,0)*VLOOKUP(AK56,$B$45:$C$48,2,0), VLOOKUP(AO56,$B$45:$C$48,2,0)*VLOOKUP(AP56,$B$45:$C$48,2,0)*VLOOKUP(AN56,$B$45:$C$48,2,0)),"") | AR56: =IF(AQ56="","",(LOOKUP(SUM(N56:O56),الفرضيات!$R$2:$R$9, الفرضيات!$S$2:$S$9))) | AS56: =IF(ISBLANK(L56),"",الفرضيات!$L$2) | BG56: =IF(ISBLANK(L56),"0",T56*(R56-AG56)/الفرضيات!$H$2*(1+AR56)) -> 0 | BH56: =IF(ISBLANK(L56),"0",_xlfn.CEILING.MATH(W56)) -> 0 | BI56: =IF(ISBLANK(AW56),"0",_xlfn.CEILING.MATH(BC56)) -> 0 | BJ56: =IF(ISBLANK(AW56),"0",BM56+BN56) -> 0 | BK56: =IF(ISBLANK(L56),"0",_xlfn.CEILING.MATH(AD56)) -> 0 | BL56: =IF(ISBLANK(L56),"0",_xlfn.CEILING.MATH(Z56)) -> 0 | BM56: {=IF(ISBLANK(AW56),"0",_xlfn.CEILING.MATH(AX56/الفرضيات!$H$3*(1+MAX(_xlfn.CHOOSECOLS(_xlfn._xlws.FILTER($I$4:$AT$335,$K$4:$K$335=AW56),36)))))} -> 0 | BN56: {=IF(ISBLANK(AW56),"0",_xlfn.CEILING.MATH(AY56/الفرضيات!$H$4*(1+MAX(_xlfn.CHOOSECOLS(_xlfn._xlws.FILTER($I$4:$AT$335,$K$4:$K$335=AW56),36)))))} -> 0 | BO56: =IF(ISBLANK(L56),"0",IF(S56<2,"0",(U56*(R56-AG56)/الفرضيات!$H$2*(1+AR56)))) -> 0 | BP56: =IF(ISBLANK(L56),"0",_xlfn.CEILING.MATH(X56)) -> 0 | BQ56: =IF(ISBLANK(AW56),"0",_xlfn.CEILING.MATH(BD56)) -> 0 | BR56: =IF(ISBLANK(AW56),"0",IF($AZ56<2,"0",BU56+BV56)) -> 0 | BS56: =IF(ISBLANK(L56),"0",_xlfn.CEILING.MATH(AE56)) -> 0 | BT56: =IF(ISBLANK(L56),"0",_xlfn.CEILING.MATH(AA56)) -> 0 | BU56: {=IF(ISBLANK(AW56),"0",IF($AZ56<2,"0",_xlfn.CEILING.MATH(AX56/الفرضيات!$H$3*(1+MAX(_xlfn.CHOOSECOLS(_xlfn._xlws.FILTER($I$4:$AT$335,$K$4:$K$335=AW56),36))))))} -> 0 | BV56: {=IF(ISBLANK(AW56),"0",IF($AZ56<2,"0",_xlfn.CEILING.MATH(AY56/الفرضيات!$H$4*(1+MAX(_xlfn.CHOOSECOLS(_xlfn._xlws.FILTER($I$4:$AT$335,$K$4:$K$335=AW56),36))))))} -> 0 | BW56: =IF(ISBLANK(L56),"0",IF(S56<3,"0",(V56*(R56-AG56)/الفرضيات!$H$2*(1+AR56)))) -> 0 | BX56: =IF(ISBLANK(L56),"0",_xlfn.CEILING.MATH(Y56)) -> 0 | BY56: =IF(ISBLANK(AW56),"0",_xlfn.CEILING.MATH(BE56)) -> 0 | BZ56: =IF(ISBLANK(AW56),"0",IF($AZ56<3,"0",CC56+CD56)) -> 0 | CA56: =IF(ISBLANK(L56),"0",_xlfn.CEILING.MATH(AF56)) -> 0 | CB56: =IF(ISBLANK(L56),"0",_xlfn.CEILING.MATH(AB56)) -> 0 | CC56: {=IF(ISBLANK(AW56),"0",IF($AZ56<3,"0",_xlfn.CEILING.MATH(AX56/الفرضيات!$H$3*(1+MAX(_xlfn.CHOOSECOLS(_xlfn._xlws.FILTER($I$4:$AT$335,$K$4:$K$335=AW56),36))))))} -> 0 | CD56: {=IF(ISBLANK(AW56),"0",IF($AZ56<3,"0",_xlfn.CEILING.MATH(AY56/الفرضيات!$H$4*(1+MAX(_xlfn.CHOOSECOLS(_xlfn._xlws.FILTER($I$4:$AT$335,$K$4:$K$335=AW56),36))))))} -> 0 | CE56: =IFERROR(MAX(0,((BG56+BO56+BW56)*(1+AS56+AR56)+(BH56+BI56+BJ56+BL56+BP56+BQ56+BR56+BT56+BX56+BY56+BZ56+CB56)*(1+AS56))*(1+ VLOOKUP(AQ56,الفرضيات!$N$1:$O$11,2,0))-AH56),0) -> 0 | CF56: =IFERROR(BK56+BS56+CA56,0) -> 0 | CG56: {=IFERROR(MAX(0,MAX(BM56,BU56,CC56)*(1+VLOOKUP(MAX(_xlfn.CHOOSECOLS(_xlfn._xlws.FILTER($I$4:$AT$335,$K$4:$K$335=AW56),35)),الفرضيات!$N$2:$O$11,2,0))-BA56),0)} -> 0 | CH56: {=IFERROR(MAX(0,MAX(BN56,BV56,CD56)*(1+VLOOKUP(MAX(_xlfn.CHOOSECOLS(_xlfn._xlws.FILTER($I$4:$AT$335,$K$4:$K$335=AW56),35)),الفرضيات!$N$2:$O$11,2,0))-BB56),0)} -> 0
AQ57: =IFERROR( IF(AND(AM57<>0,AL57<>0,AK57<>0), VLOOKUP(AL57,$B$45:$C$48,2,0)*VLOOKUP(AM57,$B$45:$C$48,2,0)*VLOOKUP(AK57,$B$45:$C$48,2,0), VLOOKUP(AO57,$B$45:$C$48,2,0)*VLOOKUP(AP57,$B$45:$C$48,2,0)*VLOOKUP(AN57,$B$45:$C$48,2,0)),"") | AR57: =IF(AQ57="","",(LOOKUP(SUM(N57:O57),الفرضيات!$R$2:$R$9, الفرضيات!$S$2:$S$9))) | AS57: =IF(ISBLANK(L57),"",الفرضيات!$L$2) | BG57: =IF(ISBLANK(L57),"0",T57*(R57-AG57)/الفرضيات!$H$2*(1+AR57)) -> 0 | BH57: =IF(ISBLANK(L57),"0",_xlfn.CEILING.MATH(W57)) -> 0 | BI57: =IF(ISBLANK(AW57),"0",_xlfn.CEILING.MATH(BC57)) -> 0 | BJ57: =IF(ISBLANK(AW57),"0",BM57+BN57) -> 0 | BK57: =IF(ISBLANK(L57),"0",_xlfn.CEILING.MATH(AD57)) -> 0 | BL57: =IF(ISBLANK(L57),"0",_xlfn.CEILING.MATH(Z57)) -> 0 | BM57: {=IF(ISBLANK(AW57),"0",_xlfn.CEILING.MATH(AX57/الفرضيات!$H$3*(1+MAX(_xlfn.CHOOSECOLS(_xlfn._xlws.FILTER($I$4:$AT$335,$K$4:$K$335=AW57),36)))))} -> 0 | BN57: {=IF(ISBLANK(AW57),"0",_xlfn.CEILING.MATH(AY57/الفرضيات!$H$4*(1+MAX(_xlfn.CHOOSECOLS(_xlfn._xlws.FILTER($I$4:$AT$335,$K$4:$K$335=AW57),36)))))} -> 0 | BO57: =IF(ISBLANK(L57),"0",IF(S57<2,"0",(U57*(R57-AG57)/الفرضيات!$H$2*(1+AR57)))) -> 0 | BP57: =IF(ISBLANK(L57),"0",_xlfn.CEILING.MATH(X57)) -> 0 | BQ57: =IF(ISBLANK(AW57),"0",_xlfn.CEILING.MATH(BD57)) -> 0 | BR57: =IF(ISBLANK(AW57),"0",IF($AZ57<2,"0",BU57+BV57)) -> 0 | BS57: =IF(ISBLANK(L57),"0",_xlfn.CEILING.MATH(AE57)) -> 0 | BT57: =IF(ISBLANK(L57),"0",_xlfn.CEILING.MATH(AA57)) -> 0 | BU57: {=IF(ISBLANK(AW57),"0",IF($AZ57<2,"0",_xlfn.CEILING.MATH(AX57/الفرضيات!$H$3*(1+MAX(_xlfn.CHOOSECOLS(_xlfn._xlws.FILTER($I$4:$AT$335,$K$4:$K$335=AW57),36))))))} -> 0 | BV57: {=IF(ISBLANK(AW57),"0",IF($AZ57<2,"0",_xlfn.CEILING.MATH(AY57/الفرضيات!$H$4*(1+MAX(_xlfn.CHOOSECOLS(_xlfn._xlws.FILTER($I$4:$AT$335,$K$4:$K$335=AW57),36))))))} -> 0 | BW57: =IF(ISBLANK(L57),"0",IF(S57<3,"0",(V57*(R57-AG57)/الفرضيات!$H$2*(1+AR57)))) -> 0 | BX57: =IF(ISBLANK(L57),"0",_xlfn.CEILING.MATH(Y57)) -> 0 | BY57: =IF(ISBLANK(AW57),"0",_xlfn.CEILING.MATH(BE57)) -> 0 | BZ57: =IF(ISBLANK(AW57),"0",IF($AZ57<3,"0",CC57+CD57)) -> 0 | CA57: =IF(ISBLANK(L57),"0",_xlfn.CEILING.MATH(AF57)) -> 0 | CB57: =IF(ISBLANK(L57),"0",_xlfn.CEILING.MATH(AB57)) -> 0 | CC57: {=IF(ISBLANK(AW57),"0",IF($AZ57<3,"0",_xlfn.CEILING.MATH(AX57/الفرضيات!$H$3*(1+MAX(_xlfn.CHOOSECOLS(_xlfn._xlws.FILTER($I$4:$AT$335,$K$4:$K$335=AW57),36))))))} -> 0 | CD57: {=IF(ISBLANK(AW57),"0",IF($AZ57<3,"0",_xlfn.CEILING.MATH(AY57/الفرضيات!$H$4*(1+MAX(_xlfn.CHOOSECOLS(_xlfn._xlws.FILTER($I$4:$AT$335,$K$4:$K$335=AW57),36))))))} -> 0 | CE57: =IFERROR(MAX(0,((BG57+BO57+BW57)*(1+AS57+AR57)+(BH57+BI57+BJ57+BL57+BP57+BQ57+BR57+BT57+BX57+BY57+BZ57+CB57)*(1+AS57))*(1+ VLOOKUP(AQ57,الفرضيات!$N$1:$O$11,2,0))-AH57),0) -> 0 | CF57: =IFERROR(BK57+BS57+CA57,0) -> 0 | CG57: {=IFERROR(MAX(0,MAX(BM57,BU57,CC57)*(1+VLOOKUP(MAX(_xlfn.CHOOSECOLS(_xlfn._xlws.FILTER($I$4:$AT$335,$K$4:$K$335=AW57),35)),الفرضيات!$N$2:$O$11,2,0))-BA57),0)} -> 0 | CH57: {=IFERROR(MAX(0,MAX(BN57,BV57,CD57)*(1+VLOOKUP(MAX(_xlfn.CHOOSECOLS(_xlfn._xlws.FILTER($I$4:$AT$335,$K$4:$K$335=AW57),35)),الفرضيات!$N$2:$O$11,2,0))-BB57),0)} -> 0
AQ58: =IFERROR( IF(AND(AM58<>0,AL58<>0,AK58<>0), VLOOKUP(AL58,$B$45:$C$48,2,0)*VLOOKUP(AM58,$B$45:$C$48,2,0)*VLOOKUP(AK58,$B$45:$C$48,2,0), VLOOKUP(AO58,$B$45:$C$48,2,0)*VLOOKUP(AP58,$B$45:$C$48,2,0)*VLOOKUP(AN58,$B$45:$C$48,2,0)),"") | AR58: =IF(AQ58="","",(LOOKUP(SUM(N58:O58),الفرضيات!$R$2:$R$9, الفرضيات!$S$2:$S$9))) | AS58: =IF(ISBLANK(L58),"",الفرضيات!$L$2) | BG58: =IF(ISBLANK(L58),"0",T58*(R58-AG58)/الفرضيات!$H$2*(1+AR58)) -> 0 | BH58: =IF(ISBLANK(L58),"0",_xlfn.CEILING.MATH(W58)) -> 0 | BI58: =IF(ISBLANK(AW58),"0",_xlfn.CEILING.MATH(BC58)) -> 0 | BJ58: =IF(ISBLANK(AW58),"0",BM58+BN58) -> 0 | BK58: =IF(ISBLANK(L58),"0",_xlfn.CEILING.MATH(AD58)) -> 0 | BL58: =IF(ISBLANK(L58),"0",_xlfn.CEILING.MATH(Z58)) -> 0 | BM58: {=IF(ISBLANK(AW58),"0",_xlfn.CEILING.MATH(AX58/الفرضيات!$H$3*(1+MAX(_xlfn.CHOOSECOLS(_xlfn._xlws.FILTER($I$4:$AT$335,$K$4:$K$335=AW58),36)))))} -> 0 | BN58: {=IF(ISBLANK(AW58),"0",_xlfn.CEILING.MATH(AY58/الفرضيات!$H$4*(1+MAX(_xlfn.CHOOSECOLS(_xlfn._xlws.FILTER($I$4:$AT$335,$K$4:$K$335=AW58),36)))))} -> 0 | BO58: =IF(ISBLANK(L58),"0",IF(S58<2,"0",(U58*(R58-AG58)/الفرضيات!$H$2*(1+AR58)))) -> 0 | BP58: =IF(ISBLANK(L58),"0",_xlfn.CEILING.MATH(X58)) -> 0 | BQ58: =IF(ISBLANK(AW58),"0",_xlfn.CEILING.MATH(BD58)) -> 0 | BR58: =IF(ISBLANK(AW58),"0",IF($AZ58<2,"0",BU58+BV58)) -> 0 | BS58: =IF(ISBLANK(L58),"0",_xlfn.CEILING.MATH(AE58)) -> 0 | BT58: =IF(ISBLANK(L58),"0",_xlfn.CEILING.MATH(AA58)) -> 0 | BU58: {=IF(ISBLANK(AW58),"0",IF($AZ58<2,"0",_xlfn.CEILING.MATH(AX58/الفرضيات!$H$3*(1+MAX(_xlfn.CHOOSECOLS(_xlfn._xlws.FILTER($I$4:$AT$335,$K$4:$K$335=AW58),36))))))} -> 0 | BV58: {=IF(ISBLANK(AW58),"0",IF($AZ58<2,"0",_xlfn.CEILING.MATH(AY58/الفرضيات!$H$4*(1+MAX(_xlfn.CHOOSECOLS(_xlfn._xlws.FILTER($I$4:$AT$335,$K$4:$K$335=AW58),36))))))} -> 0 | BW58: =IF(ISBLANK(L58),"0",IF(S58<3,"0",(V58*(R58-AG58)/الفرضيات!$H$2*(1+AR58)))) -> 0 | BX58: =IF(ISBLANK(L58),"0",_xlfn.CEILING.MATH(Y58)) -> 0 | BY58: =IF(ISBLANK(AW58),"0",_xlfn.CEILING.MATH(BE58)) -> 0 | BZ58: =IF(ISBLANK(AW58),"0",IF($AZ58<3,"0",CC58+CD58)) -> 0 | CA58: =IF(ISBLANK(L58),"0",_xlfn.CEILING.MATH(AF58)) -> 0 | CB58: =IF(ISBLANK(L58),"0",_xlfn.CEILING.MATH(AB58)) -> 0 | CC58: {=IF(ISBLANK(AW58),"0",IF($AZ58<3,"0",_xlfn.CEILING.MATH(AX58/الفرضيات!$H$3*(1+MAX(_xlfn.CHOOSECOLS(_xlfn._xlws.FILTER($I$4:$AT$335,$K$4:$K$335=AW58),36))))))} -> 0 | CD58: {=IF(ISBLANK(AW58),"0",IF($AZ58<3,"0",_xlfn.CEILING.MATH(AY58/الفرضيات!$H$4*(1+MAX(_xlfn.CHOOSECOLS(_xlfn._xlws.FILTER($I$4:$AT$335,$K$4:$K$335=AW58),36))))))} -> 0 | CE58: =IFERROR(MAX(0,((BG58+BO58+BW58)*(1+AS58+AR58)+(BH58+BI58+BJ58+BL58+BP58+BQ58+BR58+BT58+BX58+BY58+BZ58+CB58)*(1+AS58))*(1+ VLOOKUP(AQ58,الفرضيات!$N$1:$O$11,2,0))-AH58),0) -> 0 | CF58: =IFERROR(BK58+BS58+CA58,0) -> 0 | CG58: {=IFERROR(MAX(0,MAX(BM58,BU58,CC58)*(1+VLOOKUP(MAX(_xlfn.CHOOSECOLS(_xlfn._xlws.FILTER($I$4:$AT$335,$K$4:$K$335=AW58),35)),الفرضيات!$N$2:$O$11,2,0))-BA58),0)} -> 0 | CH58: {=IFERROR(MAX(0,MAX(BN58,BV58,CD58)*(1+VLOOKUP(MAX(_xlfn.CHOOSECOLS(_xlfn._xlws.FILTER($I$4:$AT$335,$K$4:$K$335=AW58),35)),الفرضيات!$N$2:$O$11,2,0))-BB58),0)} -> 0
AQ59: =IFERROR( IF(AND(AM59<>0,AL59<>0,AK59<>0), VLOOKUP(AL59,$B$45:$C$48,2,0)*VLOOKUP(AM59,$B$45:$C$48,2,0)*VLOOKUP(AK59,$B$45:$C$48,2,0), VLOOKUP(AO59,$B$45:$C$48,2,0)*VLOOKUP(AP59,$B$45:$C$48,2,0)*VLOOKUP(AN59,$B$45:$C$48,2,0)),"") | AR59: =IF(AQ59="","",(LOOKUP(SUM(N59:O59),الفرضيات!$R$2:$R$9, الفرضيات!$S$2:$S$9))) | AS59: =IF(ISBLANK(L59),"",الفرضيات!$L$2) | BG59: =IF(ISBLANK(L59),"0",T59*(R59-AG59)/الفرضيات!$H$2*(1+AR59)) -> 0 | BH59: =IF(ISBLANK(L59),"0",_xlfn.CEILING.MATH(W59)) -> 0 | BI59: =IF(ISBLANK(AW59),"0",_xlfn.CEILING.MATH(BC59)) -> 0 | BJ59: =IF(ISBLANK(AW59),"0",BM59+BN59) -> 0 | BK59: =IF(ISBLANK(L59),"0",_xlfn.CEILING.MATH(AD59)) -> 0 | BL59: =IF(ISBLANK(L59),"0",_xlfn.CEILING.MATH(Z59)) -> 0 | BM59: {=IF(ISBLANK(AW59),"0",_xlfn.CEILING.MATH(AX59/الفرضيات!$H$3*(1+MAX(_xlfn.CHOOSECOLS(_xlfn._xlws.FILTER($I$4:$AT$335,$K$4:$K$335=AW59),36)))))} -> 0 | BN59: {=IF(ISBLANK(AW59),"0",_xlfn.CEILING.MATH(AY59/الفرضيات!$H$4*(1+MAX(_xlfn.CHOOSECOLS(_xlfn._xlws.FILTER($I$4:$AT$335,$K$4:$K$335=AW59),36)))))} -> 0 | BO59: =IF(ISBLANK(L59),"0",IF(S59<2,"0",(U59*(R59-AG59)/الفرضيات!$H$2*(1+AR59)))) -> 0 | BP59: =IF(ISBLANK(L59),"0",_xlfn.CEILING.MATH(X59)) -> 0 | BQ59: =IF(ISBLANK(AW59),"0",_xlfn.CEILING.MATH(BD59)) -> 0 | BR59: =IF(ISBLANK(AW59),"0",IF($AZ59<2,"0",BU59+BV59)) -> 0 | BS59: =IF(ISBLANK(L59),"0",_xlfn.CEILING.MATH(AE59)) -> 0 | BT59: =IF(ISBLANK(L59),"0",_xlfn.CEILING.MATH(AA59)) -> 0 | BU59: {=IF(ISBLANK(AW59),"0",IF($AZ59<2,"0",_xlfn.CEILING.MATH(AX59/الفرضيات!$H$3*(1+MAX(_xlfn.CHOOSECOLS(_xlfn._xlws.FILTER($I$4:$AT$335,$K$4:$K$335=AW59),36))))))} -> 0 | BV59: {=IF(ISBLANK(AW59),"0",IF($AZ59<2,"0",_xlfn.CEILING.MATH(AY59/الفرضيات!$H$4*(1+MAX(_xlfn.CHOOSECOLS(_xlfn._xlws.FILTER($I$4:$AT$335,$K$4:$K$335=AW59),36))))))} -> 0 | BW59: =IF(ISBLANK(L59),"0",IF(S59<3,"0",(V59*(R59-AG59)/الفرضيات!$H$2*(1+AR59)))) -> 0 | BX59: =IF(ISBLANK(L59),"0",_xlfn.CEILING.MATH(Y59)) -> 0 | BY59: =IF(ISBLANK(AW59),"0",_xlfn.CEILING.MATH(BE59)) -> 0 | BZ59: =IF(ISBLANK(AW59),"0",IF($AZ59<3,"0",CC59+CD59)) -> 0 | CA59: =IF(ISBLANK(L59),"0",_xlfn.CEILING.MATH(AF59)) -> 0 | CB59: =IF(ISBLANK(L59),"0",_xlfn.CEILING.MATH(AB59)) -> 0 | CC59: {=IF(ISBLANK(AW59),"0",IF($AZ59<3,"0",_xlfn.CEILING.MATH(AX59/الفرضيات!$H$3*(1+MAX(_xlfn.CHOOSECOLS(_xlfn._xlws.FILTER($I$4:$AT$335,$K$4:$K$335=AW59),36))))))} -> 0 | CD59: {=IF(ISBLANK(AW59),"0",IF($AZ59<3,"0",_xlfn.CEILING.MATH(AY59/الفرضيات!$H$4*(1+MAX(_xlfn.CHOOSECOLS(_xlfn._xlws.FILTER($I$4:$AT$335,$K$4:$K$335=AW59),36))))))} -> 0 | CE59: =IFERROR(MAX(0,((BG59+BO59+BW59)*(1+AS59+AR59)+(BH59+BI59+BJ59+BL59+BP59+BQ59+BR59+BT59+BX59+BY59+BZ59+CB59)*(1+AS59))*(1+ VLOOKUP(AQ59,الفرضيات!$N$1:$O$11,2,0))-AH59),0) -> 0 | CF59: =IFERROR(BK59+BS59+CA59,0) -> 0 | CG59: {=IFERROR(MAX(0,MAX(BM59,BU59,CC59)*(1+VLOOKUP(MAX(_xlfn.CHOOSECOLS(_xlfn._xlws.FILTER($I$4:$AT$335,$K$4:$K$335=AW59),35)),الفرضيات!$N$2:$O$11,2,0))-BA59),0)} -> 0 | CH59: {=IFERROR(MAX(0,MAX(BN59,BV59,CD59)*(1+VLOOKUP(MAX(_xlfn.CHOOSECOLS(_xlfn._xlws.FILTER($I$4:$AT$335,$K$4:$K$335=AW59),35)),الفرضيات!$N$2:$O$11,2,0))-BB59),0)} -> 0
AQ60: =IFERROR( IF(AND(AM60<>0,AL60<>0,AK60<>0), VLOOKUP(AL60,$B$45:$C$48,2,0)*VLOOKUP(AM60,$B$45:$C$48,2,0)*VLOOKUP(AK60,$B$45:$C$48,2,0), VLOOKUP(AO60,$B$45:$C$48,2,0)*VLOOKUP(AP60,$B$45:$C$48,2,0)*VLOOKUP(AN60,$B$45:$C$48,2,0)),"") | AR60: =IF(AQ60="","",(LOOKUP(SUM(N60:O60),الفرضيات!$R$2:$R$9, الفرضيات!$S$2:$S$9))) | AS60: =IF(ISBLANK(L60),"",الفرضيات!$L$2) | BG60: =IF(ISBLANK(L60),"0",T60*(R60-AG60)/الفرضيات!$H$2*(1+AR60)) -> 0 | BH60: =IF(ISBLANK(L60),"0",_xlfn.CEILING.MATH(W60)) -> 0 | BI60: =IF(ISBLANK(AW60),"0",_xlfn.CEILING.MATH(BC60)) -> 0 | BJ60: =IF(ISBLANK(AW60),"0",BM60+BN60) -> 0 | BK60: =IF(ISBLANK(L60),"0",_xlfn.CEILING.MATH(AD60)) -> 0 | BL60: =IF(ISBLANK(L60),"0",_xlfn.CEILING.MATH(Z60)) -> 0 | BM60: {=IF(ISBLANK(AW60),"0",_xlfn.CEILING.MATH(AX60/الفرضيات!$H$3*(1+MAX(_xlfn.CHOOSECOLS(_xlfn._xlws.FILTER($I$4:$AT$335,$K$4:$K$335=AW60),36)))))} -> 0 | BN60: {=IF(ISBLANK(AW60),"0",_xlfn.CEILING.MATH(AY60/الفرضيات!$H$4*(1+MAX(_xlfn.CHOOSECOLS(_xlfn._xlws.FILTER($I$4:$AT$335,$K$4:$K$335=AW60),36)))))} -> 0 | BO60: =IF(ISBLANK(L60),"0",IF(S60<2,"0",(U60*(R60-AG60)/الفرضيات!$H$2*(1+AR60)))) -> 0 | BP60: =IF(ISBLANK(L60),"0",_xlfn.CEILING.MATH(X60)) -> 0 | BQ60: =IF(ISBLANK(AW60),"0",_xlfn.CEILING.MATH(BD60)) -> 0 | BR60: =IF(ISBLANK(AW60),"0",IF($AZ60<2,"0",BU60+BV60)) -> 0 | BS60: =IF(ISBLANK(L60),"0",_xlfn.CEILING.MATH(AE60)) -> 0 | BT60: =IF(ISBLANK(L60),"0",_xlfn.CEILING.MATH(AA60)) -> 0 | BU60: {=IF(ISBLANK(AW60),"0",IF($AZ60<2,"0",_xlfn.CEILING.MATH(AX60/الفرضيات!$H$3*(1+MAX(_xlfn.CHOOSECOLS(_xlfn._xlws.FILTER($I$4:$AT$335,$K$4:$K$335=AW60),36))))))} -> 0 | BV60: {=IF(ISBLANK(AW60),"0",IF($AZ60<2,"0",_xlfn.CEILING.MATH(AY60/الفرضيات!$H$4*(1+MAX(_xlfn.CHOOSECOLS(_xlfn._xlws.FILTER($I$4:$AT$335,$K$4:$K$335=AW60),36))))))} -> 0 | BW60: =IF(ISBLANK(L60),"0",IF(S60<3,"0",(V60*(R60-AG60)/الفرضيات!$H$2*(1+AR60)))) -> 0 | BX60: =IF(ISBLANK(L60),"0",_xlfn.CEILING.MATH(Y60)) -> 0 | BY60: =IF(ISBLANK(AW60),"0",_xlfn.CEILING.MATH(BE60)) -> 0 | BZ60: =IF(ISBLANK(AW60),"0",IF($AZ60<3,"0",CC60+CD60)) -> 0 | CA60: =IF(ISBLANK(L60),"0",_xlfn.CEILING.MATH(AF60)) -> 0 | CB60: =IF(ISBLANK(L60),"0",_xlfn.CEILING.MATH(AB60)) -> 0 | CC60: {=IF(ISBLANK(AW60),"0",IF($AZ60<3,"0",_xlfn.CEILING.MATH(AX60/الفرضيات!$H$3*(1+MAX(_xlfn.CHOOSECOLS(_xlfn._xlws.FILTER($I$4:$AT$335,$K$4:$K$335=AW60),36))))))} -> 0 | CD60: {=IF(ISBLANK(AW60),"0",IF($AZ60<3,"0",_xlfn.CEILING.MATH(AY60/الفرضيات!$H$4*(1+MAX(_xlfn.CHOOSECOLS(_xlfn._xlws.FILTER($I$4:$AT$335,$K$4:$K$335=AW60),36))))))} -> 0 | CE60: =IFERROR(MAX(0,((BG60+BO60+BW60)*(1+AS60+AR60)+(BH60+BI60+BJ60+BL60+BP60+BQ60+BR60+BT60+BX60+BY60+BZ60+CB60)*(1+AS60))*(1+ VLOOKUP(AQ60,الفرضيات!$N$1:$O$11,2,0))-AH60),0) -> 0 | CF60: =IFERROR(BK60+BS60+CA60,0) -> 0 | CG60: {=IFERROR(MAX(0,MAX(BM60,BU60,CC60)*(1+VLOOKUP(MAX(_xlfn.CHOOSECOLS(_xlfn._xlws.FILTER($I$4:$AT$335,$K$4:$K$335=AW60),35)),الفرضيات!$N$2:$O$11,2,0))-BA60),0)} -> 0 | CH60: {=IFERROR(MAX(0,MAX(BN60,BV60,CD60)*(1+VLOOKUP(MAX(_xlfn.CHOOSECOLS(_xlfn._xlws.FILTER($I$4:$AT$335,$K$4:$K$335=AW60),35)),الفرضيات!$N$2:$O$11,2,0))-BB60),0)} -> 0
AQ61: =IFERROR( IF(AND(AM61<>0,AL61<>0,AK61<>0), VLOOKUP(AL61,$B$45:$C$48,2,0)*VLOOKUP(AM61,$B$45:$C$48,2,0)*VLOOKUP(AK61,$B$45:$C$48,2,0), VLOOKUP(AO61,$B$45:$C$48,2,0)*VLOOKUP(AP61,$B$45:$C$48,2,0)*VLOOKUP(AN61,$B$45:$C$48,2,0)),"") | AR61: =IF(AQ61="","",(LOOKUP(SUM(N61:O61),الفرضيات!$R$2:$R$9, الفرضيات!$S$2:$S$9))) | AS61: =IF(ISBLANK(L61),"",الفرضيات!$L$2) | BG61: =IF(ISBLANK(L61),"0",T61*(R61-AG61)/الفرضيات!$H$2*(1+AR61)) -> 0 | BH61: =IF(ISBLANK(L61),"0",_xlfn.CEILING.MATH(W61)) -> 0 | BI61: =IF(ISBLANK(AW61),"0",_xlfn.CEILING.MATH(BC61)) -> 0 | BJ61: =IF(ISBLANK(AW61),"0",BM61+BN61) -> 0 | BK61: =IF(ISBLANK(L61),"0",_xlfn.CEILING.MATH(AD61)) -> 0 | BL61: =IF(ISBLANK(L61),"0",_xlfn.CEILING.MATH(Z61)) -> 0 | BM61: {=IF(ISBLANK(AW61),"0",_xlfn.CEILING.MATH(AX61/الفرضيات!$H$3*(1+MAX(_xlfn.CHOOSECOLS(_xlfn._xlws.FILTER($I$4:$AT$335,$K$4:$K$335=AW61),36)))))} -> 0 | BN61: {=IF(ISBLANK(AW61),"0",_xlfn.CEILING.MATH(AY61/الفرضيات!$H$4*(1+MAX(_xlfn.CHOOSECOLS(_xlfn._xlws.FILTER($I$4:$AT$335,$K$4:$K$335=AW61),36)))))} -> 0 | BO61: =IF(ISBLANK(L61),"0",IF(S61<2,"0",(U61*(R61-AG61)/الفرضيات!$H$2*(1+AR61)))) -> 0 | BP61: =IF(ISBLANK(L61),"0",_xlfn.CEILING.MATH(X61)) -> 0 | BQ61: =IF(ISBLANK(AW61),"0",_xlfn.CEILING.MATH(BD61)) -> 0 | BR61: =IF(ISBLANK(AW61),"0",IF($AZ61<2,"0",BU61+BV61)) -> 0 | BS61: =IF(ISBLANK(L61),"0",_xlfn.CEILING.MATH(AE61)) -> 0 | BT61: =IF(ISBLANK(L61),"0",_xlfn.CEILING.MATH(AA61)) -> 0 | BU61: {=IF(ISBLANK(AW61),"0",IF($AZ61<2,"0",_xlfn.CEILING.MATH(AX61/الفرضيات!$H$3*(1+MAX(_xlfn.CHOOSECOLS(_xlfn._xlws.FILTER($I$4:$AT$335,$K$4:$K$335=AW61),36))))))} -> 0 | BV61: {=IF(ISBLANK(AW61),"0",IF($AZ61<2,"0",_xlfn.CEILING.MATH(AY61/الفرضيات!$H$4*(1+MAX(_xlfn.CHOOSECOLS(_xlfn._xlws.FILTER($I$4:$AT$335,$K$4:$K$335=AW61),36))))))} -> 0 | BW61: =IF(ISBLANK(L61),"0",IF(S61<3,"0",(V61*(R61-AG61)/الفرضيات!$H$2*(1+AR61)))) -> 0 | BX61: =IF(ISBLANK(L61),"0",_xlfn.CEILING.MATH(Y61)) -> 0 | BY61: =IF(ISBLANK(AW61),"0",_xlfn.CEILING.MATH(BE61)) -> 0 | BZ61: =IF(ISBLANK(AW61),"0",IF($AZ61<3,"0",CC61+CD61)) -> 0 | CA61: =IF(ISBLANK(L61),"0",_xlfn.CEILING.MATH(AF61)) -> 0 | CB61: =IF(ISBLANK(L61),"0",_xlfn.CEILING.MATH(AB61)) -> 0 | CC61: {=IF(ISBLANK(AW61),"0",IF($AZ61<3,"0",_xlfn.CEILING.MATH(AX61/الفرضيات!$H$3*(1+MAX(_xlfn.CHOOSECOLS(_xlfn._xlws.FILTER($I$4:$AT$335,$K$4:$K$335=AW61),36))))))} -> 0 | CD61: {=IF(ISBLANK(AW61),"0",IF($AZ61<3,"0",_xlfn.CEILING.MATH(AY61/الفرضيات!$H$4*(1+MAX(_xlfn.CHOOSECOLS(_xlfn._xlws.FILTER($I$4:$AT$335,$K$4:$K$335=AW61),36))))))} -> 0 | CE61: =IFERROR(MAX(0,((BG61+BO61+BW61)*(1+AS61+AR61)+(BH61+BI61+BJ61+BL61+BP61+BQ61+BR61+BT61+BX61+BY61+BZ61+CB61)*(1+AS61))*(1+ VLOOKUP(AQ61,الفرضيات!$N$1:$O$11,2,0))-AH61),0) -> 0 | CF61: =IFERROR(BK61+BS61+CA61,0) -> 0 | CG61: {=IFERROR(MAX(0,MAX(BM61,BU61,CC61)*(1+VLOOKUP(MAX(_xlfn.CHOOSECOLS(_xlfn._xlws.FILTER($I$4:$AT$335,$K$4:$K$335=AW61),35)),الفرضيات!$N$2:$O$11,2,0))-BA61),0)} -> 0 | CH61: {=IFERROR(MAX(0,MAX(BN61,BV61,CD61)*(1+VLOOKUP(MAX(_xlfn.CHOOSECOLS(_xlfn._xlws.FILTER($I$4:$AT$335,$K$4:$K$335=AW61),35)),الفرضيات!$N$2:$O$11,2,0))-BB61),0)} -> 0
... AQ335: =IFERROR( IF(AND(AM335<>0,AL335<>0,AK335<>0), VLOOKUP(AL335,$B$45:$C$48,2,0)*VLOOKUP(AM335,$B$45:$C$48,2,0)*VLOOKUP(AK335,$B$45:$C$48,2,0), VLOOKUP(AO335,$B$45:$C$48,2,0)*VLOOKUP(AP335,$B$45:$C$48,2,0)*VLOOKUP(AN335,$B$45:$C$48,2,0)),"") | AR335: =IF(AQ335="","",(LOOKUP(SUM(N335:O335),الفرضيات!$R$2:$R$9, الفرضيات!$S$2:$S$9))) | AS335: =IF(ISBLANK(L335),"",الفرضيات!$L$2) | BG335: =IF(ISBLANK(L335),"0",T335*(R335-AG335)/الفرضيات!$H$2*(1+AR335)) -> 0 | BH335: =IF(ISBLANK(L335),"0",_xlfn.CEILING.MATH(W335)) -> 0 | BI335: =IF(ISBLANK(AW335),"0",_xlfn.CEILING.MATH(BC335)) -> 0 | BJ335: =IF(ISBLANK(AW335),"0",BM335+BN335) -> 0 | BK335: =IF(ISBLANK(L335),"0",_xlfn.CEILING.MATH(AD335)) -> 0 | BL335: =IF(ISBLANK(L335),"0",_xlfn.CEILING.MATH(Z335)) -> 0 | BM335: {=IF(ISBLANK(AW335),"0",_xlfn.CEILING.MATH(AX335/الفرضيات!$H$3*(1+MAX(_xlfn.CHOOSECOLS(_xlfn._xlws.FILTER($I$4:$AT$335,$K$4:$K$335=AW335),36)))))} -> 0 | BN335: {=IF(ISBLANK(AW335),"0",_xlfn.CEILING.MATH(AY335/الفرضيات!$H$4*(1+MAX(_xlfn.CHOOSECOLS(_xlfn._xlws.FILTER($I$4:$AT$335,$K$4:$K$335=AW335),36)))))} -> 0 | BO335: =IF(ISBLANK(L335),"0",IF(S335<2,"0",(U335*(R335-AG335)/الفرضيات!$H$2*(1+AR335)))) -> 0 | BP335: =IF(ISBLANK(L335),"0",_xlfn.CEILING.MATH(X335)) -> 0 | BQ335: =IF(ISBLANK(AW335),"0",_xlfn.CEILING.MATH(BD335)) -> 0 | BR335: =IF(ISBLANK(AW335),"0",IF($AZ335<2,"0",BU335+BV335)) -> 0 | BS335: =IF(ISBLANK(L335),"0",_xlfn.CEILING.MATH(AE335)) -> 0 | BT335: =IF(ISBLANK(L335),"0",_xlfn.CEILING.MATH(AA335)) -> 0 | BU335: {=IF(ISBLANK(AW335),"0",IF($AZ335<2,"0",_xlfn.CEILING.MATH(AX335/الفرضيات!$H$3*(1+MAX(_xlfn.CHOOSECOLS(_xlfn._xlws.FILTER($I$4:$AT$335,$K$4:$K$335=AW335),36))))))} -> 0 | BV335: {=IF(ISBLANK(AW335),"0",IF($AZ335<2,"0",_xlfn.CEILING.MATH(AY335/الفرضيات!$H$4*(1+MAX(_xlfn.CHOOSECOLS(_xlfn._xlws.FILTER($I$4:$AT$335,$K$4:$K$335=AW335),36))))))} -> 0 | BW335: =IF(ISBLANK(L335),"0",IF(S335<3,"0",(V335*(R335-AG335)/الفرضيات!$H$2*(1+AR335)))) -> 0 | BX335: =IF(ISBLANK(L335),"0",_xlfn.CEILING.MATH(Y335)) -> 0 | BY335: =IF(ISBLANK(AW335),"0",_xlfn.CEILING.MATH(BE335)) -> 0 | BZ335: =IF(ISBLANK(AW335),"0",IF($AZ335<3,"0",CC335+CD335)) -> 0 | CA335: =IF(ISBLANK(L335),"0",_xlfn.CEILING.MATH(AF335)) -> 0 | CB335: =IF(ISBLANK(L335),"0",_xlfn.CEILING.MATH(AB335)) -> 0 | CC335: {=IF(ISBLANK(AW335),"0",IF($AZ335<3,"0",_xlfn.CEILING.MATH(AX335/الفرضيات!$H$3*(1+MAX(_xlfn.CHOOSECOLS(_xlfn._xlws.FILTER($I$4:$AT$335,$K$4:$K$335=AW335),36))))))} -> 0 | CD335: {=IF(ISBLANK(AW335),"0",IF($AZ335<3,"0",_xlfn.CEILING.MATH(AY335/الفرضيات!$H$4*(1+MAX(_xlfn.CHOOSECOLS(_xlfn._xlws.FILTER($I$4:$AT$335,$K$4:$K$335=AW335),36))))))} -> 0 | CE335: =IFERROR(MAX(0,((BG335+BO335+BW335)*(1+AS335+AR335)+(BH335+BI335+BJ335+BL335+BP335+BQ335+BR335+BT335+BX335+BY335+BZ335+CB335)*(1+AS335))*(1+ VLOOKUP(AQ335,الفرضيات!$N$1:$O$11,2,0))-AH335),0) -> 0 | CF335: =IFERROR(BK335+BS335+CA335,0) -> 0 | CG335: {=IFERROR(MAX(0,MAX(BM335,BU335,CC335)*(1+VLOOKUP(MAX(_xlfn.CHOOSECOLS(_xlfn._xlws.FILTER($I$4:$AT$335,$K$4:$K$335=AW335),35)),الفرضيات!$N$2:$O$11,2,0))-BA335),0)} -> 0 | CH335: {=IFERROR(MAX(0,MAX(BN335,BV335,CD335)*(1+VLOOKUP(MAX(_xlfn.CHOOSECOLS(_xlfn._xlws.FILTER($I$4:$AT$335,$K$4:$K$335=AW335),35)),الفرضيات!$N$2:$O$11,2,0))-BB335),0)} -> 0

Sheet الفرضيات
C1: فرضيات العمالة | G1: الكفاءة بحسب المساحة/الأطوال | K1: نسبة إضافية (احتياطية) | N1: معامل المخاطر | Q1: معامل عدد مستخدمين المبنى | W1: خط الأساس للمخاطر
C2: مدير إدارة مشاريع | D2: 1 | E2: الإجمالي | G2: حارس أمن لكل | H2: 16000 | I2: م2 | K2: معامل النسبة الإضافية | L2: 0 | N2: 1 | O2: 0 | Q2: 0 - 1000 مستخدم | R2: 0 | S2: 0 | W2: تصنيف المرفق | X2: احتمالية المخاطر الأمنية | Y2: شدة التأثير على العمليات التشغيلية | Z2: ضعف الأنظمة الأمنية
C3: مشرف أمن | D3: 25 | E3: حارس أمن | G3: سيارة (دفع ثنائي) لكل | H3: 20 | I3: كلم | N3: 2 | O3: 0.00769 | Q3: 1001 - 3000 مستخدم | R3: 1001 | S3: 0.01 | W3: المرافق التعليمية | X3: 1 | Y3: 1 | Z3: 1
G4: سيارة (دفع رباعي) لكل | H4: 10 | I4: كلم | N4: 3 | O4: 0.01538 | Q4: 3001 - 5000 مستخدم | R4: 3001 | S4: 0.02 | W4: المرافق الصحية | X4: 2 | Y4: 2 | Z4: 2
N5: 4 | O5: 0.03 | Q5: 5001 - 7000 مستخدم | R5: 5001 | S5: 0.03 | W5: المرافق الإدارية | X5: 1 | Y5: 1 | Z5: 1
N6: 6 | O6: 0.04 | Q6: 7,001 - 10,000 مستخدم | R6: 7001 | S6: 0.04 | W6: مرافق البنية التحتية | X6: 3 | Y6: 3 | Z6: 3
N7: 8 | O7: 0.05 | Q7: 10,001 - 15,000 مستخدم | R7: 10001 | S7: 0.05 | W7: المرافق البلدية والخدمية | X7: 1 | Y7: 1 | Z7: 1
N8: 9 | O8: 0.06 | Q8: 15,001 - 20,000 مستخدم | R8: 15001 | S8: 0.06 | W8: المرافق السكنية | X8: 1 | Y8: 1 | Z8: 1
N9: 12 | O9: 0.07 | Q9: أكثر من 20,000 | R9: 20001 | S9: 0.07 | W9: المرافق الدينية | X9: 1 | Y9: 1 | Z9: 1
N10: 18 | O10: 0.08 | W10: المرافق الرياضية والثقافية | X10: 2 | Y10: 1 | Z10: 1
N11: 27 | O11: 0.09

Sheet صفحة الغلاف
D3: نموذج البيانات التشغيلية - مشتريات الحراسات الأمنية
D6: رقم الوثيقة: EXP-ZA0-TP-000045 رقم الإصدار: 00C

Sheet إشعار هام
D2: إشعار هام وإخلاء مسؤولية
D3: هذه ("الوثيقة") مملوكة حصرًا لهيئة كفاءة الإنفاق والمشروعات الحكومية، ويجب على كل معني أو من يطلع على هذه الوثيقة قراءة هذا الإشعار بالكامل إلى جانب قراءة أحكام هذه الوثيقة، ويجوز للإدارات المعنية في الهيئة الإفصاح عن هذه الوثيقة أو مقتطفات منها لمستشاريها و / أو المتعاقدين المعنيين ("المتعاملين") ، شريطة أن يكون هناك حاجة وبعد التنسيق وإحاطة الإدارة المالكة للوثيقة، كما تنوه الهيئة إلى أن أي استخدام أو اعتماد على هذه الوثيقة، أو بعضها يلزم أن يسبقه إحاطة مالك الوثيقة، وأي استخدام أو اعتماد على هذه الوثيقة، أو مقتطفات منها، من قبل أي طرف، بما في ذلك الكيانات الحكومية والمستشارين و / أو المتعاقدين المعنيين، هي على مسؤولية ذلك الطرف وحده.

Sheet الصفحة الرئيسية 
D6: نموذج البيانات التشغيلية
D7: مشتريات الحراسات الأمنية
D9: اسم المنافسة
D10: رقم المنافسة
D11: سنوات العقد (ميلادي)
D12: المنطقة
D13: اسم الجهة
D14: التاريخ
D15: اسم المسؤول للتواصل (قسم المشتريات)
D16: البريد الإلكتروني (قسم المشتريات)
D17: رقم الجوال (قسم المشتريات)
D18: اسم المسؤول للتواصل (القسم الفني)
... D22: يرجى رفع النموذج في خانة نماذج البيانات التشغيلية في منصة اعتماد

Sheet الاقسام المطلوبة
G2: الاقسام المطلوب تعبئتها من الجهة الحكومية
H3: # | I3: الاقسام | K3: توضيح
H4: 1 | I4: حصر بيانات المشروع | K4: يتم تعبئة بيانات المرافق المضمنة في العقد ومساحاتها الداخلية والخارجية.
H5: 2 | I5: تفاصيل النقاط الحرجة | K5: يتم تعبئة المواقع ذات الأهمية العالية، والتي تتطلب مستويات متقدمة من الحماية نتيجة لطبيعتها الحساسة أو لأهميتها، سواء كانت داخلية أو خارجية، مما يستوجب مراقبتها بشكل مستمر وتطبيق إجراءات أمنية عالية لضمان سلامتها والتحكم في الحركة. (باستثناء مداخل المرافق الداخلية، المداخل الخارجية للتجمعات، وغرف المراقبة). بالاضافة الى الاجراءات التي قامت الجهة باتخاذها للتخفيف من حرجية هذه النقاط.
H6: 3 | I6: بيانات القوى العاملة | K6: يتم تعبئة أعداد القوى العاملة للعقد البديل بحسب سنوات العقد، والتكاليف الشهرية بدون ضريبة القيمة المضافة بالإضافة الى تقديم الأسباب في حال اختلاف الكميات المطلوبة عن الكميات المقترحة وفق معايير الضوابط
H7: 4 | I7: بيانات المعدات | K7: يتم تعبئة كميات المعدات المطلوبة للعقد البديل بحسب سنوات العقد، والتكاليف الشهرية بدون ضريبة القيمة المضافة بالإضافة الى تقديم الأسباب في حال اختلاف الكميات المطلوبة عن الكميات المقترحة وفق معايير الضوابط
H8: 5 | I8: خدمات أمن الفعاليات | K8: يتم تعبئة تفاصيل وبيانات الفعاليات وقائمة البنود المطلوبة لها
H9: 6 | I9: بيانات العقد السابق | K9: يتم إضافة بيانات العقد السابق والعقد البديل
H10: 7 | I10: الإجمالي | K10: يتم احتسابها بشكل تلقائي بعد تعبئة الأقسام الأخرى
G11: * يجب تعبئة الخانات باللون الأبيض فقط وعدم تغيير أو حذف أي خانات أخرى

Sheet تعريفات 
B3: المعامل/ الأثر | C3: التعريف | D3: منخفض | E3: متوسط | F3: مرتفع
B4: احتمالية المخاطر الأمنية | C4: مدى إمكانية وقوع حادث أمني نتيجة لتهديدات محتملة، مع الأخذ بعين الاعتبار السياق العام للجهة، ومدى حساسية أنشطتها. | D4: احتمال ضئيل لوقوع حوادث أمنية، ولا توجد سوابق تهديدات أو مؤشرات عدائية معروفة تشير بوضوح الى احتمالية وقوع الحوادث. | E4: احتمالية معتدلة لوقوع حوادث أمنية، مع وجود حالات حوادث تاريخية سابقة، وبسبب طبيعة الأعمال التي تتطلب التعامل مع جمهور. | F4: تهديدات محتملة أو مؤكدة بناءً على تاريخ حوادث أمنية سابقة أو ارتفاع حساسية أعمال الجهة.
B5: شدة التأثير على العمليات التشغيلية | C5: الأثر الناتج عن حدوث الحوادث الأمنية، سواء على مستوى العمليات أو الأمن أو السمعة. | D5: تأثير محدود لا تؤدي الى توقف العمليات أو تسرب معلومات. | E5: تأثير متوسط يؤدي الى توقف جزئي للعمليات أو تسرب معلومات. ويمكن ان يؤدي الى بعض الخسائر المادية. | F5: تأثير كبير يشمل توقف العمليات الحيوية أو تسرب معلومات حساسة يضر بسمعة الجهة ويمكن ان يؤثر على جهات أخرى
B6: ضعف الأنظمة الأمنية التقنية | C6: مدى ضعف أو قوة الأنظمة الأمنية التقنية والمادية المطبقة داخل المنشأة، مثل أنظمة المراقبة، وأنظمة التحكم بالدخول. | D6: توفر أنظمة أمنية تقنية متكاملة، تشمل المراقبة والتحكم. | E6: توفر جزئي للأنظمة الأمنية التقنية، تشمل أي من المراقبة والتحكم. | F6: غياب الأنظمة الأمنية التقنية للمراقبة والتحكم.
B10: المصطلح | C10: التعريف
B11: النقاط الحرجة | C11: المواقع ذات الأهمية العالية، والتي تتطلب مستويات متقدمة من الحماية نتيجة لطبيعتها الحساسة أو لأهميتها، سواء كانت داخلية أو خارجية، مما يستوجب مراقبتها بشكل مستمر وتطبيق إجراءات أمنية عالية لضمان سلامتها والتحكم في الحركة (باستثناء مداخل المرافق الداخلية، المداخل الخارجية للتجمعات، وغرف المراقبة)
B15: المرفق | C15: أمثلة على المرافق التابعة
B16: المرافق التعليمية | C16: مدارس، جامعات، معاهد تدريب، مراكز أبحاث
B17: المرافق الصحية | C17: مستشفيات، مراكز صحية، مراكز طوارئ، عيادات حكومية
B18: المرافق الإدارية | C18: مباني وزارات، هيئات حكومية، مراكز خدمات حكومية
B19: مرافق البنية التحتية | C19: محطة كهرباء، محطة معالجة، محطة تحلية مياه
B20: المرافق البلدية والخدمية | C20: الحدائق العامة، الأسواق، مواقف عامة، محطات نقل
B21: المرافق السكنية | C21: وحدات سكنية للموظفين أو الفئات المستهدفة، إسكان الجامعات
B22: المرافق الدينية | C22: المساجد، المرافق التابعة للحرمين الشريفين
B23: المرافق الرياضية والثقافية | C23: أندية رياضية، ملاعب، مراكز ثقافية، مسارح حكومية

Sheet حصر بيانات المشروع
C2: تفاصيل التجمعات والمرافق | L2: تفاصيل ورديات العمل و نسب الاشغال للمرافق | P2: عدد مداخل/بوابات المرفق الداخلية بحسب كل وردية (مداخل تتطلب حراس أمن) | S2: عدد النقاط الحرجة داخل المرفق بحسب كل وردية عمل (ما عدا المداخل/البوابات، وتتطلب حراس أمن) | V2: تفاصيل تغطية أنظمة المراقبة التقنية | AA2: موظفي الجهة الحكومية | AB2: سنة تضمين المرافق في العقد | AD2: تحليل المخاطر الأمنية | AL2: اسم التجمع | AM2: أطوال الطرق داخل التجمع | AO2: عدد ورديات العمل لسيارات الأمن | AP2: ممتلكات الجهة من سيارات الأمن | AR2: عدد مداخل/بوابات المرفق الخارجية بحسب كل وردية
B3: # | C3: المدينة | D3: اسم التجمع (مجموعة مباني ضمن نفس المنطقة المسورة) | E3: إسم المبنى | F3: تصنيف المبنى | G3: عدد الموظفين في الوردية (وقت الذروة) | H3: عدد الزوار في الوردية (وقت الذروة) | I3: عدد الأدوار | J3: مساحة المسطح الأرضي | K3: إجمالي المساحة الداخلية (بالمتر المربع) | L3: عدد ورديات العمل | M3: نسبة الإشغال للوردية الأولى (%) (بحسب وقت الذروة) | N3: نسبة الإشغال للوردية الثانية (%) (وقت الذروة = 100%) | O3: نسبة الإشغال للوردية الثالثة (%) (وقت الذروة = 100%) | P3: عدد مداخل/بوابات المرفق الداخلية (مداخل تتطلب حراس أمن) الوردية الأولى | Q3: عدد مداخل/بوابات المرفق الداخلية (مداخل تتطلب حراس أمن) الوردية الثانية | R3: عدد مداخل/بوابات المرفق الداخلية (مداخل تتطلب حراس أمن) الوردية الثالثة | S3: عدد النقاط الحرجة داخل المرفق (ما عدا المداخل/البوابات، وتتطلب حراس أمن) الوردية الاولى | T3: عدد النقاط الحرجة داخل المرفق (ما عدا المداخل/البوابات، وتتطلب حراس أمن) الوردية الثانية | U3: عدد النقاط الحرجة داخل المرفق (ما عدا المداخل/البوابات، وتتطلب حراس أمن) الوردية الثالثة | V3: هل يوجد غرف مراقبة في المبنى؟ | W3: عدد غرف المراقبة الوردية الأولى | X3: عدد غرف المراقبة الوردية الثانية | Y3: عدد غرف المراقبة الوردية الثالثة | Z3: المساحات المغطاة بأنظمة المراقبة التقنية | AA3: عدد حراس الأمن الرسميين (موظفي الجهة الحكومية) | AB3: حالة المرفق | AC3: سنة التشغيل | AD3: احتمالية المخاطر الأمنية | AE3: شدة التأثير على العمليات التشغيلية | AF3: ضعف الأنظمة الأمنية | AG3: احتمالية المخاطر الأمنية (بحسب مقترح ضوابط الشراء) | AH3: شدة التأثير على العمليات التشغيلية (بحسب مقترح ضوابط الشراء) | AI3: ضعف الأنظمة الأمنية (بحسب مقترح ضوابط الشراء) | AK3: # | AL3: اسم التجمع (مجموعة مباني ضمن نفس المنطقة المسورة) | AM3: اجمالي أطوال طرق المعبدة (كلم) | AN3: اجمالي أطوال طرق الغير معبدة (كلم) | AO3: عدد ورديات العمل لسيارات الأمن | AP3: عدد مركبات الدفع الثنائي المملوكة من الجهة الحكومية | AQ3: عدد مركبات الدفع الرباعي المملوكة من الجهة الحكومية | AR3: عدد مداخل/بوابات المرفق الخارجية (مداخل تتطلب حراس أمن) الوردية الأولى | AS3: عدد مداخل/بوابات المرفق الخارجية (مداخل تتطلب حراس أمن) الوردية الثانية | AT3: عدد مداخل/بوابات المرفق الخارجية (مداخل تتطلب حراس أمن) الوردية الثاثة
B4: 1 | L4: 1 | M4: 0 | N4: 0 | O4: 0 | P4: 0 | Q4: 0 | R4: 0 | S4: 0 | T4: 0 | U4: 0 | V4: لا | W4: 0 | X4: 0 | Y4: 0 | Z4: 0 | AA4: 0 | AB4: قائم | AC4: 1 | AD4: منخفض | AE4: منخفض | AF4: منخفض | AG4: {=IF(E4<>"", IF(Table63[[#This Row],[تصنيف المبنى]]<>"", _xlfn.IFS( VLOOKUP(Table63[[#This Row],[تصنيف المبنى]],الفرضيات!$W$3:$Z$10,2,0)=1,"منخفض", VLOOKUP(Table63[[#This Row],[تصنيف المبنى]],الفرضيات!$W$3:$Z$10,2,0)=2,"متوسط", VLOOKUP(Table63[[#This Row],[تصنيف المبنى]],الفرضيات!$W$3:$Z$10,2,0)=3,"مرتفع"), "يرجى تحديد تصنيف المبنى"), "")} | AH4: {=IF(E4<>"", IF(Table63[[#This Row],[تصنيف المبنى]]<>"", _xlfn.IFS( VLOOKUP(Table63[[#This Row],[تصنيف المبنى]],الفرضيات!$W$3:$Z$10,3,0)=1,"منخفض", VLOOKUP(Table63[[#This Row],[تصنيف المبنى]],الفرضيات!$W$3:$Z$10,3,0)=2,"متوسط", VLOOKUP(Table63[[#This Row],[تصنيف المبنى]],الفرضيات!$W$3:$Z$10,3,0)=3,"مرتفع"), "يرجى تحديد تصنيف المبنى"), "")} | AI4: {=IF(E4<>"", IF(Table63[[#This Row],[تصنيف المبنى]]<>"", _xlfn.IFS( VLOOKUP(Table63[[#This Row],[تصنيف المبنى]],الفرضيات!$W$3:$Z$10,4,0)=1,"منخفض", VLOOKUP(Table63[[#This Row],[تصنيف المبنى]],الفرضيات!$W$3:$Z$10,4,0)=2,"متوسط", VLOOKUP(Table63[[#This Row],[تصنيف المبنى]],الفرضيات!$W$3:$Z$10,4,0)=3,"مرتفع"), "يرجى تحديد تصنيف المبنى"), "")}
