Workbook
Name \0: #REF!
Name \a: #REF!
Name \b: #N/A
Name \c: #REF!
Name \d: #REF!
Name \e: #REF!
Name \f: #REF!
Name \g: #REF!
Name \h: #REF!
Name \i: #REF!
Name \j: #REF!
Name \k: #REF!
Name \l: #REF!
Name \LYN: #REF!
Name \m: #REF!
Name \n: #REF!
Name \o: #REF!
Name \p: #REF!
Name \q: #REF!
Name \r: #REF!
Name \s: #REF!
Name \t: #REF!
Name \u: #REF!
Name \v: #REF!
Name \w: #REF!
Name \x: #REF!
Name \y: #REF!
Name \Z: #REF!
Name _: #REF!
Name ___acc72: #REF!
Name ___acc75: #REF!
Name ___acc76: #REF!
Name ___acc77: #REF!
Name ___acc80: #REF!
Name ___acc81: #REF!
Name ___acc82: #REF!
Name ___acc83: #REF!
Name ___acc87: #REF!
Name ___acc88: #REF!
Name ___acc95: #REF!
Name ___act02: #REF!
Name ___bak1: #REF!
Name ___bak2: #REF!
Name ___bak3: #REF!
Name ___bcr8: #REF!
Name ___bcr9: #REF!
Name ___bud02: #REF!
Name ___bud03: #REF!
Name ___dat00225: #REF!
Name ___dat003: #REF!
Name ___dat01: #REF!
Name ___dat0105: #REF!
Name ___dat0165: #REF!
Name ___dat0202: #REF!
Name ___dat020203: #REF!
Name ___dat0205: #REF!
Name ___dat02789: #REF!
Name ___dat067893: #REF!
Name ___dat090909: #REF!
Name ___DAT1: #REF!

Sheet لا يعدل
I1: 1 | J1: 2 | K1: 3 | L1: 4 | M1: 5 | N1: 6 | O1: 7 | P1: 8 | Q1: 9 | R1: 10 | S1: 11 | T1: 12 | U1: 13 | V1: 14 | W1: 15 | X1: 16 | Y1: 17 | Z1: 18 | AA1: 19 | AB1: 20 | AC1: 21 | AD1: 22 | AE1: 23 | AF1: 24 | AG1: 25 | AH1: 26 | AI1: 27 | AJ1: 28 | AK1: 29 | AL1: 30 | AM1: 31 | AN1: 32 | AO1: 33 | AP1: 34 | AQ1: 35 | AR1: 36 | AS1: 37 | AT1: 38
B2: تفاصيل العمالة | AS2: المعامل الإضافي | AT2: نسبة الاشغال الكلية | AV2: الطرق والمداخل الخارجية | BG2: الوردية الأولى | BO2: الوردية الثانية | BW2: الوردية الثالثة
B3: المسمى الوظيفي | C3: السنة 1 | D3: السنة 2 | E3: السنة 3 | F3: السنة 4 | G3: السنة 5 | I3: {=_xlfn._xlws.FILTER(Table63[#All],Table63[[#All],[اسم التجمع (مجموعة مباني ضمن نفس المنطقة المسورة)]]<>0)} -> # | J3: المدينة | K3: اسم التجمع (مجموعة مباني ضمن نفس المنطقة المسورة) | L3: إسم المبنى | M3: تصنيف المبنى | N3: عدد الموظفين في الوردية (وقت الذروة) | O3: عدد الزوار في الوردية (وقت الذروة) | P3: عدد الأدوار | Q3: مساحة المسطح الأرضي | R3: إجمالي المساحة الداخلية (بالمتر المربع) | S3: عدد ورديات العمل | T3: نسبة الإشغال للوردية الأولى (%) (بحسب وقت الذروة) | U3: نسبة الإشغال للوردية الثانية (%) (وقت الذروة = 100%) | V3: نسبة الإشغال للوردية الثالثة (%) (وقت الذروة = 100%) | W3: عدد مداخل/بوابات المرفق الداخلية (مداخل تتطلب حراس أمن) الوردية الأولى | X3: عدد مداخل/بوابات المرفق الداخلية (مداخل تتطلب حراس أمن) الوردية الثانية | Y3: عدد مداخل/بوابات المرفق الداخلية (مداخل تتطلب حراس أمن) الوردية الثالثة | Z3: عدد النقاط الحرجة داخل المرفق (ما عدا المداخل/البوابات، وتتطلب حراس أمن) الوردية الاولى | AA3: عدد النقاط الحرجة داخل المرفق (ما عدا المداخل/البوابات، وتتطلب حراس أمن) الوردية الثانية | AB3: عدد النقاط الحرجة داخل المرفق (ما عدا المداخل/البوابات، وتتطلب حراس أمن) الوردية الثالثة | AC3: هل يوجد غرف مراقبة في المبنى؟ | AD3: عدد غرف المراقبة الوردية الأولى | AE3: عدد غرف المراقبة الوردية الثانية | AF3: عدد غرف المراقبة الوردية الثالثة | AG3: المساحات المغطاة بأنظمة المراقبة التقنية | AH3: عدد حراس الأمن الرسميين (موظفي الجهة الحكومية) | AI3: حالة المرفق | AJ3: سنة التشغيل | AK3: احتمالية المخاطر الأمنية | AL3: شدة التأثير على العمليات التشغيلية | AM3: ضعف الأنظمة الأمنية | AN3: احتمالية المخاطر الأمنية (بحسب مقترح ضوابط الشراء) | AO3: شدة التأثير على العمليات التشغيلية (بحسب مقترح ضوابط الشراء) | AP3: ضعف الأنظمة الأمنية (بحسب مقترح ضوابط الشراء) | AQ3: مستوى المخاطر | AR3: معامل المستخدمين | AV3: {=_xlfn._xlws.FILTER('حصر بيانات المشروع'!AK3:AT51,'حصر بيانات المشروع'!AL3:AL51<>"","")} -> # | AW3: اسم التجمع (مجموعة مباني ضمن نفس المنطقة المسورة) | AX3: اجمالي أطوال طرق المعبدة (كلم) | AY3: اجمالي أطوال طرق الغير معبدة (كلم) | AZ3: عدد ورديات العمل لسيارات الأمن | BA3: عدد مركبات الدفع الثنائي المملوكة من الجهة الحكومية | BB3: عدد مركبات الدفع الرباعي المملوكة من الجهة الحكومية | BC3: عدد مداخل/بوابات المرفق الخارجية (مداخل تتطلب حراس أمن) الوردية الأولى | BD3: عدد مداخل/بوابات المرفق الخارجية (مداخل تتطلب حراس أمن) الوردية الثانية | BE3: عدد مداخل/بوابات المرفق الخارجية (مداخل تتطلب حراس أمن) الوردية الثاثة | BG3: عدد حراس الأمن (بحسب المساحة) | BH3: عدد حراس الأمن (مداخل المرافق الداخلية) | BI3: عدد حراس الأمن (مداخل المرافق الخارجية) | BJ3: عدد حراس الأمن (بحسب سيارات الأمن) | BK3: عدد حراس الأمن (بحسب غرف المراقبة) | BL3: عدد حراس الأمن (بحسب النقاط الحرجة) | BM3: عدد سيارات الأمن ذات الدفع الثنائي | BN3: عدد سيارات الأمن ذات الدفع الرباعي | BO3: عدد حراس الأمن (بحسب المساحة) | BP3: عدد حراس الأمن (مداخل المرافق الداخلية) | BQ3: عدد حراس الأمن (مداخل المرافق الخارجية) | BR3: عدد حراس الأمن (بحسب سيارات الأمن) | BS3: عدد حراس الأمن (بحسب غرف المراقبة) | BT3: عدد حراس الأمن (بحسب النقاط الحرجة) | BU3: عدد سيارات الأمن ذات الدفع الثنائي | BV3: عدد سيارات الأمن ذات الدفع الرباعي | BW3: عدد حراس الأمن (بحسب المساحة) | BX3: عدد حراس الأمن (مداخل المرافق الداخلية) | BY3: عدد حراس الأمن (مداخل المرافق الخارجية) | BZ3: عدد حراس الأمن (بحسب سيارات الأمن) | CA3: عدد حراس الأمن (بحسب غرف المراقبة) | CB3: عدد حراس الأمن (بحسب النقاط الحرجة) | CC3: عدد سيارات الأمن ذات الدفع الثنائي | CD3: عدد سيارات الأمن ذات الدفع الرباعي | CE3: عدد حراس الامن الكلي للمبنى | CF3: عدد مراقبي الامن الكلي للمبنى | CG3: عدد سيارات الدفع الثنائي الكلي للمجمع | CH3: عدد سيارات الدفع الرباعي الكلي للمجمع
B4: مدير مشروع | C4: =الفرضيات!$D$2 -> 1 | D4: =IF(B21<>2,0,الفرضيات!$D$2) -> 0 | E4: =IF(B22<>3,0,الفرضيات!$D$2) -> 0 | F4: =IF(B23<>4,0,الفرضيات!$D$2) -> 0 | G4: =IF(B24<>5,0,الفرضيات!$D$2) -> 0 | AQ4: =IFERROR( IF(AND(AM4<>0,AL4<>0,AK4<>0), VLOOKUP(AL4,$B$45:$C$48,2,0)*VLOOKUP(AM4,$B$45:$C$48,2,0)*VLOOKUP(AK4,$B$45:$C$48,2,0), VLOOKUP(AO4,$B$45:$C$48,2,0)*VLOOKUP(AP4,$B$45:$C$48,2,0)*VLOOKUP(AN4,$B$45:$C$48,2,0)),"") | AR4: =IF(AQ4="","",(LOOKUP(SUM(N4:O4),الفرضيات!$R$2:$R$9, الفرضيات!$S$2:$S$9))) | AS4: =IF(ISBLANK(L4),"",الفرضيات!$L$2) | BG4: =IF(ISBLANK(L4),"0",T4*(R4-AG4)/الفرضيات!$H$2*(1+AR4)) -> 0 | BH4: =IF(ISBLANK(L4),"0",_xlfn.CEILING.MATH(W4)) -> 0 | BI4: =IF(ISBLANK(AW4),"0",_xlfn.CEILING.MATH(BC4)) -> 0 | BJ4: =IF(ISBLANK(AW4),"0",BM4+BN4) -> 0 | BK4: =IF(ISBLANK(L4),"0",_xlfn.CEILING.MATH(AD4)) -> 0 | BL4: =IF(ISBLANK(L4),"0",_xlfn.CEILING.MATH(Z4)) -> 0 | BM4: {=IF(ISBLANK(AW4),"0",_xlfn.CEILING.MATH(AX4/الفرضيات!$H$3*(1+MAX(_xlfn.CHOOSECOLS(_xlfn._xlws.FILTER($I$4:$AT$335,$K$4:$K$335=AW4),36)))))} -> 0 | BN4: {=IF(ISBLANK(AW4),"0",_xlfn.CEILING.MATH(AY4/الفرضيات!$H$4*(1+MAX(_xlfn.CHOOSECOLS(_xlfn._xlws.FILTER($I$4:$AT$335,$K$4:$K$335=AW4),36)))))} -> 0 | BO4: =IF(ISBLANK(L4),"0",IF(S4<2,"0",(U4*(R4-AG4)/الفرضيات!$H$2*(1+AR4)))) -> 0 | BP4: =IF(ISBLANK(L4),"0",_xlfn.CEILING.MATH(X4)) -> 0 | BQ4: =IF(ISBLANK(AW4),"0",_xlfn.CEILING.MATH(BD4)) -> 0 | BR4: =IF(ISBLANK(AW4),"0",IF($AZ4<2,"0",BU4+BV4)) -> 0 | BS4: =IF(ISBLANK(L4),"0",_xlfn.CEILING.MATH(AE4)) -> 0 | BT4: =IF(ISBLANK(L4),"0",_xlfn.CEILING.MATH(AA4)) -> 0 | BU4: {=IF(ISBLANK(AW4),"0",IF($AZ4<2,"0",_xlfn.CEILING.MATH(AX4/الفرضيات!$H$3*(1+MAX(_xlfn.CHOOSECOLS(_xlfn._xlws.FILTER($I$4:$AT$335,$K$4:$K$335=AW4),36))))))} -> 0 | BV4: {=IF(ISBLANK(AW4),"0",IF($AZ4<2,"0",_xlfn.CEILING.MATH(AY4/الفرضيات!$H$4*(1+MAX(_xlfn.CHOOSECOLS(_xlfn._xlws.FILTER($I$4:$AT$335,$K$4:$K$335=AW4),36))))))} -> 0 | BW4: =IF(ISBLANK(L4),"0",IF(S4<3,"0",(V4*(R4-AG4)/الفرضيات!$H$2*(1+AR4)))) -> 0 | BX4: =IF(ISBLANK(L4),"0",_xlfn.CEILING.MATH(Y4)) -> 0 | BY4: =IF(ISBLANK(AW4),"0",_xlfn.CEILING.MATH(BE4)) -> 0 | BZ4: =IF(ISBLANK(AW4),"0",IF($AZ4<3,"0",CC4+CD4)) -> 0 | CA4: =IF(ISBLANK(L4),"0",_xlfn.CEILING.MATH(AF4)) -> 0 | CB4: =IF(ISBLANK(L4),"0",_xlfn.CEILING.MATH(AB4)) -> 0 | CC4: {=IF(ISBLANK(AW4),"0",IF($AZ4<3,"0",_xlfn.CEILING.MATH(AX4/الفرضيات!$H$3*(1+MAX(_xlfn.CHOOSECOLS(_xlfn._xlws.FILTER($I$4:$AT$335,$K$4:$K$335=AW4),36))))))} -> 0 | CD4: {=IF(ISBLANK(AW4),"0",IF($AZ4<3,"0",_xlfn.CEILING.MATH(AY4/الفرضيات!$H$4*(1+MAX(_xlfn.CHOOSECOLS(_xlfn._xlws.FILTER($I$4:$AT$335,$K$4:$K$335=AW4),36))))))} -> 0 | CE4: =IFERROR(MAX(0,((BG4+BO4+BW4)*(1+AS4+AR4)+(BH4+BI4+BJ4+BL4+BP4+BQ4+BR4+BT4+BX4+BY4+BZ4+CB4)*(1+AS4))*(1+ VLOOKUP(AQ4,الفرضيات!$N$1:$O$11,2,0))-AH4),0) -> 0 | CF4: =IFERROR(BK4+BS4+CA4,0) -> 0 | CG4: {=IFERROR(MAX(0,MAX(BM4,BU4,CC4)*(1+VLOOKUP(MAX(_xlfn.CHOOSECOLS(_xlfn._xlws.FILTER($I$4:$AT$335,$K$4:$K$335=AW4),35)),الفرضيات!$N$2:$O$11,2,0))-BA4),0)} -> 0 | CH4: {=IFERROR(MAX(0,MAX(BN4,BV4,CD4)*(1+VLOOKUP(MAX(_xlfn.CHOOSECOLS(_xlfn._xlws.FILTER($I$4:$AT$335,$K$4:$K$335=AW4),35)),الفرضيات!$N$2:$O$11,2,0))-BB4),0)} -> 0
B5: مشرف أمن | C5: =_xlfn.CEILING.MATH(C6/الفرضيات!$D$3) -> 0 | D5: =_xlfn.CEILING.MATH(D6/الفرضيات!$D$3) -> 0 | E5: =_xlfn.CEILING.MATH(E6/الفرضيات!$D$3) -> 0 | F5: =_xlfn.CEILING.MATH(F6/الفرضيات!$D$3) -> 0 | G5: =_xlfn.CEILING.MATH(G6/الفرضيات!$D$3) -> 0 | AQ5: =IFERROR( IF(AND(AM5<>0,AL5<>0,AK5<>0), VLOOKUP(AL5,$B$45:$C$48,2,0)*VLOOKUP(AM5,$B$45:$C$48,2,0)*VLOOKUP(AK5,$B$45:$C$48,2,0), VLOOKUP(AO5,$B$45:$C$48,2,0)*VLOOKUP(AP5,$B$45:$C$48,2,0)*VLOOKUP(AN5,$B$45:$C$48,2,0)),"") | AR5: =IF(AQ5="","",(LOOKUP(SUM(N5:O5),الفرضيات!$R$2:$R$9, الفرضيات!$S$2:$S$9))) | AS5: =IF(ISBLANK(L5),"",الفرضيات!$L$2) | BG5: =IF(ISBLANK(L5),"0",T5*(R5-AG5)/الفرضيات!$H$2*(1+AR5)) -> 0 | BH5: =IF(ISBLANK(L5),"0",_xlfn.CEILING.MATH(W5)) -> 0 | BI5: =IF(ISBLANK(AW5),"0",_xlfn.CEILING.MATH(BC5)) -> 0 | BJ5: =IF(ISBLANK(AW5),"0",BM5+BN5) -> 0 | BK5: =IF(ISBLANK(L5),"0",_xlfn.CEILING.MATH(AD5)) -> 0 | BL5: =IF(ISBLANK(L5),"0",_xlfn.CEILING.MATH(Z5)) -> 0 | BM5: {=IF(ISBLANK(AW5),"0",_xlfn.CEILING.MATH(AX5/الفرضيات!$H$3*(1+MAX(_xlfn.CHOOSECOLS(_xlfn._xlws.FILTER($I$4:$AT$335,$K$4:$K$335=AW5),36)))))} -> 0 | BN5: {=IF(ISBLANK(AW5),"0",_xlfn.CEILING.MATH(AY5/الفرضيات!$H$4*(1+MAX(_xlfn.CHOOSECOLS(_xlfn._xlws.FILTER($I$4:$AT$335,$K$4:$K$335=AW5),36)))))} -> 0 | BO5: =IF(ISBLANK(L5),"0",IF(S5<2,"0",(U5*(R5-AG5)/الفرضيات!$H$2*(1+AR5)))) -> 0 | BP5: =IF(ISBLANK(L5),"0",_xlfn.CEILING.MATH(X5)) -> 0 | BQ5: =IF(ISBLANK(AW5),"0",_xlfn.CEILING.MATH(BD5)) -> 0 | BR5: =IF(ISBLANK(AW5),"0",IF($AZ5<2,"0",BU5+BV5)) -> 0 | BS5: =IF(ISBLANK(L5),"0",_xlfn.CEILING.MATH(AE5)) -> 0 | BT5: =IF(ISBLANK(L5),"0",_xlfn.CEILING.MATH(AA5)) -> 0 | BU5: {=IF(ISBLANK(AW5),"0",IF($AZ5<2,"0",_xlfn.CEILING.MATH(AX5/الفرضيات!$H$3*(1+MAX(_xlfn.CHOOSECOLS(_xlfn._xlws.FILTER($I$4:$AT$335,$K$4:$K$335=AW5),36))))))} -> 0 | BV5: {=IF(ISBLANK(AW5),"0",IF($AZ5<2,"0",_xlfn.CEILING.MATH(AY5/الفرضيات!$H$4*(1+MAX(_xlfn.CHOOSECOLS(_xlfn._xlws.FILTER($I$4:$AT$335,$K$4:$K$335=AW5),36))))))} -> 0 | BW5: =IF(ISBLANK(L5),"0",IF(S5<3,"0",(V5*(R5-AG5)/الفرضيات!$H$2*(1+AR5)))) -> 0 | BX5: =IF(ISBLANK(L5),"0",_xlfn.CEILING.MATH(Y5)) -> 0 | BY5: =IF(ISBLANK(AW5),"0",_xlfn.CEILING.MATH(BE5)) -> 0 | BZ5: =IF(ISBLANK(AW5),"0",IF($AZ5<3,"0",CC5+CD5)) -> 0 | CA5: =IF(ISBLANK(L5),"0",_xlfn.CEILING.MATH(AF5)) -> 0 | CB5: =IF(ISBLANK(L5),"0",_xlfn.CEILING.MATH(AB5)) -> 0 | CC5: {=IF(ISBLANK(AW5),"0",IF($AZ5<3,"0",_xlfn.CEILING.MATH(AX5/الفرضيات!$H$3*(1+MAX(_xlfn.CHOOSECOLS(_xlfn._xlws.FILTER($I$4:$AT$335,$K$4:$K$335=AW5),36))))))} -> 0 | CD5: {=IF(ISBLANK(AW5),"0",IF($AZ5<3,"0",_xlfn.CEILING.MATH(AY5/الفرضيات!$H$4*(1+MAX(_xlfn.CHOOSECOLS(_xlfn._xlws.FILTER($I$4:$AT$335,$K$4:$K$335=AW5),36))))))} -> 0 | CE5: =IFERROR(MAX(0,((BG5+BO5+BW5)*(1+AS5+AR5)+(BH5+BI5+BJ5+BL5+BP5+BQ5+BR5+BT5+BX5+BY5+BZ5+CB5)*(1+AS5))*(1+ VLOOKUP(AQ5,الفرضيات!$N$1:$O$11,2,0))-AH5),0) -> 0 | CF5: =IFERROR(BK5+BS5+CA5,0) -> 0 | CG5: {=IFERROR(MAX(0,MAX(BM5,BU5,CC5)*(1+VLOOKUP(MAX(_xlfn.CHOOSECOLS(_xlfn._xlws.FILTER($I$4:$AT$335,$K$4:$K$335=AW5),35)),الفرضيات!$N$2:$O$11,2,0))-BA5),0)} -> 0 | CH5: {=IFERROR(MAX(0,MAX(BN5,BV5,CD5)*(1+VLOOKUP(MAX(_xlfn.CHOOSECOLS(_xlfn._xlws.FILTER($I$4:$AT$335,$K$4:$K$335=AW5),35)),الفرضيات!$N$2:$O$11,2,0))-BB5),0)} -> 0
B6: حارس أمن | C6: =_xlfn.CEILING.MATH(MAX(0,SUMIF($AJ$4:$AJ$335,"<2",CE4:CE335))) -> 0 | D6: =IF(B21<>2,0,_xlfn.CEILING.MATH(MAX(0,SUMIF($AJ$4:$AJ$335,"<3",CE4:CE335)))) -> 0 | E6: =IF(B22<>3,0,_xlfn.CEILING.MATH(MAX(0,SUMIF($AJ$4:$AJ$335,"<4",CE4:CE335)))) -> 0 | F6: =IF(B23<>4,0,_xlfn.CEILING.MATH(MAX(0,SUMIF($AJ$4:$AJ$335,"<5",CE4:CE335)))) -> 0 | G6: =IF(B24<>5,0,_xlfn.CEILING.MATH(MAX(0,SUMIF($AJ$4:$AJ$335,"<6",CE4:CE335)))) -> 0 | AQ6: =IFERROR( IF(AND(AM6<>0,AL6<>0,AK6<>0), VLOOKUP(AL6,$B$45:$C$48,2,0)*VLOOKUP(AM6,$B$45:$C$48,2,0)*VLOOKUP(AK6,$B$45:$C$48,2,0), VLOOKUP(AO6,$B$45:$C$48,2,0)*VLOOKUP(AP6,$B$45:$C$48,2,0)*VLOOKUP(AN6,$B$45:$C$48,2,0)),"") | AR6: =IF(AQ6="","",(LOOKUP(SUM(N6:O6),الفرضيات!$R$2:$R$9, الفرضيات!$S$2:$S$9))) | AS6: =IF(ISBLANK(L6),"",الفرضيات!$L$2) | BG6: =IF(ISBLANK(L6),"0",T6*(R6-AG6)/الفرضيات!$H$2*(1+AR6)) -> 0 | BH6: =IF(ISBLANK(L6),"0",_xlfn.CEILING.MATH(W6)) -> 0 | BI6: =IF(ISBLANK(AW6),"0",_xlfn.CEILING.MATH(BC6)) -> 0 | BJ6: =IF(ISBLANK(AW6),"0",BM6+BN6) -> 0 | BK6: =IF(ISBLANK(L6),"0",_xlfn.CEILING.MATH(AD6)) -> 0 | BL6: =IF(ISBLANK(L6),"0",_xlfn.CEILING.MATH(Z6)) -> 0 | BM6: {=IF(ISBLANK(AW6),"0",_xlfn.CEILING.MATH(AX6/الفرضيات!$H$3*(1+MAX(_xlfn.CHOOSECOLS(_xlfn._xlws.FILTER($I$4:$AT$335,$K$4:$K$335=AW6),36)))))} -> 0 | BN6: {=IF(ISBLANK(AW6),"0",_xlfn.CEILING.MATH(AY6/الفرضيات!$H$4*(1+MAX(_xlfn.CHOOSECOLS(_xlfn._xlws.FILTER($I$4:$AT$335,$K$4:$K$335=AW6),36)))))} -> 0 | BO6: =IF(ISBLANK(L6),"0",IF(S6<2,"0",(U6*(R6-AG6)/الفرضيات!$H$2*(1+AR6)))) -> 0 | BP6: =IF(ISBLANK(L6),"0",_xlfn.CEILING.MATH(X6)) -> 0 | BQ6: =IF(ISBLANK(AW6),"0",_xlfn.CEILING.MATH(BD6)) -> 0 | BR6: =IF(ISBLANK(AW6),"0",IF($AZ6<2,"0",BU6+BV6)) -> 0 | BS6: =IF(ISBLANK(L6),"0",_xlfn.CEILING.MATH(AE6)) -> 0 | BT6: =IF(ISBLANK(L6),"0",_xlfn.CEILING.MATH(AA6)) -> 0 | BU6: {=IF(ISBLANK(AW6),"0",IF($AZ6<2,"0",_xlfn.CEILING.MATH(AX6/الفرضيات!$H$3*(1+MAX(_xlfn.CHOOSECOLS(_xlfn._xlws.FILTER($I$4:$AT$335,$K$4:$K$335=AW6),36))))))} -> 0 | BV6: {=IF(ISBLANK(AW6),"0",IF($AZ6<2,"0",_xlfn.CEILING.MATH(AY6/الفرضيات!$H$4*(1+MAX(_xlfn.CHOOSECOLS(_xlfn._xlws.FILTER($I$4:$AT$335,$K$4:$K$335=AW6),36))))))} -> 0 | BW6: =IF(ISBLANK(L6),"0",IF(S6<3,"0",(V6*(R6-AG6)/الفرضيات!$H$2*(1+AR6)))) -> 0 | BX6: =IF(ISBLANK(L6),"0",_xlfn.CEILING.MATH(Y6)) -> 0 | BY6: =IF(ISBLANK(AW6),"0",_xlfn.CEILING.MATH(BE6)) -> 0 | BZ6: =IF(ISBLANK(AW6),"0",IF($AZ6<3,"0",CC6+CD6)) -> 0 | CA6: =IF(ISBLANK(L6),"0",_xlfn.CEILING.MATH(AF6)) -> 0 | CB6: =IF(ISBLANK(L6),"0",_xlfn.CEILING.MATH(AB6)) -> 0 | CC6: {=IF(ISBLANK(AW6),"0",IF($AZ6<3,"0",_xlfn.CEILING.MATH(AX6/الفرضيات!$H$3*(1+MAX(_xlfn.CHOOSECOLS(_xlfn._xlws.FILTER($I$4:$AT$335,$K$4:$K$335=AW6),36))))))} -> 0 | CD6: {=IF(ISBLANK(AW6),"0",IF($AZ6<3,"0",_xlfn.CEILING.MATH(AY6/الفرضيات!$H$4*(1+MAX(_xlfn.CHOOSECOLS(_xlfn._xlws.FILTER($I$4:$AT$335,$K$4:$K$335=AW6),36))))))} -> 0 | CE6: =IFERROR(MAX(0,((BG6+BO6+BW6)*(1+AS6+AR6)+(BH6+BI6+BJ6+BL6+BP6+BQ6+BR6+BT6+BX6+BY6+BZ6+CB6)*(1+AS6))*(1+ VLOOKUP(AQ6,الفرضيات!$N$1:$O$11,2,0))-AH6),0) -> 0 | CF6: =IFERROR(BK6+BS6+CA6,0) -> 0 | CG6: {=IFERROR(MAX(0,MAX(BM6,BU6,CC6)*(1+VLOOKUP(MAX(_xlfn.CHOOSECOLS(_xlfn._xlws.FILTER($I$4:$AT$335,$K$4:$K$335=AW6),35)),الفرضيات!$N$2:$O$11,2,0))-BA6),0)} -> 0 | CH6: {=IFERROR(MAX(0,MAX(BN6,BV6,CD6)*(1+VLOOKUP(MAX(_xlfn.CHOOSECOLS(_xlfn._xlws.FILTER($I$4:$AT$335,$K$4:$K$335=AW6),35)),الفرضيات!$N$2:$O$11,2,0))-BB6),0)} -> 0
B7: مراقب كاميرات أمنية | C7: =_xlfn.CEILING.MATH(MAX(0,(SUMIF($AJ$4:$AJ$335,"<2",CF4:CF335)))) -> 0 | D7: =IF(B21<>2,0,_xlfn.CEILING.MATH(MAX(0,(SUMIF($AJ$4:$AJ$335,"<3",CF4:CF335))))) -> 0 | E7: =IF(B22<>3,0,_xlfn.CEILING.MATH(MAX(0,(SUMIF($AJ$4:$AJ$335,"<4",CF4:CF335))))) -> 0 | F7: =IF(B23<>4,0,_xlfn.CEILING.MATH(MAX(0,(SUMIF($AJ$4:$AJ$335,"<5",CF4:CF335))))) -> 0 | G7: =IF(B24<>5,0,_xlfn.CEILING.MATH(MAX(0,(SUMIF($AJ$4:$AJ$335,"<6",CF4:CF335))))) -> 0 | AQ7: =IFERROR( IF(AND(AM7<>0,AL7<>0,AK7<>0), VLOOKUP(AL7,$B$45:$C$48,2,0)*VLOOKUP(AM7,$B$45:$C$48,2,0)*VLOOKUP(AK7,$B$45:$C$48,2,0), VLOOKUP(AO7,$B$45:$C$48,2,0)*VLOOKUP(AP7,$B$45:$C$48,2,0)*VLOOKUP(AN7,$B$45:$C$48,2,0)),"") | AR7: =IF(AQ7="","",(LOOKUP(SUM(N7:O7),الفرضيات!$R$2:$R$9, الفرضيات!$S$2:$S$9))) | AS7: =IF(ISBLANK(L7),"",الفرضيات!$L$2) | BG7: =IF(ISBLANK(L7),"0",T7*(R7-AG7)/الفرضيات!$H$2*(1+AR7)) -> 0 | BH7: =IF(ISBLANK(L7),"0",_xlfn.CEILING.MATH(W7)) -> 0 | BI7: =IF(ISBLANK(AW7),"0",_xlfn.CEILING.MATH(BC7)) -> 0 | BJ7: =IF(ISBLANK(AW7),"0",BM7+BN7) -> 0 | BK7: =IF(ISBLANK(L7),"0",_xlfn.CEILING.MATH(AD7)) -> 0 | BL7: =IF(ISBLANK(L7),"0",_xlfn.CEILING.MATH(Z7)) -> 0 | BM7: {=IF(ISBLANK(AW7),"0",_xlfn.CEILING.MATH(AX7/الفرضيات!$H$3*(1+MAX(_xlfn.CHOOSECOLS(_xlfn._xlws.FILTER($I$4:$AT$335,$K$4:$K$335=AW7),36)))))} -> 0 | BN7: {=IF(ISBLANK(AW7),"0",_xlfn.CEILING.MATH(AY7/الفرضيات!$H$4*(1+MAX(_xlfn.CHOOSECOLS(_xlfn._xlws.FILTER($I$4:$AT$335,$K$4:$K$335=AW7),36)))))} -> 0 | BO7: =IF(ISBLANK(L7),"0",IF(S7<2,"0",(U7*(R7-AG7)/الفرضيات!$H$2*(1+AR7)))) -> 0 | BP7: =IF(ISBLANK(L7),"0",_xlfn.CEILING.MATH(X7)) -> 0 | BQ7: =IF(ISBLANK(AW7),"0",_xlfn.CEILING.MATH(BD7)) -> 0 | BR7: =IF(ISBLANK(AW7),"0",IF($AZ7<2,"0",BU7+BV7)) -> 0 | BS7: =IF(ISBLANK(L7),"0",_xlfn.CEILING.MATH(AE7)) -> 0 | BT7: =IF(ISBLANK(L7),"0",_xlfn.CEILING.MATH(AA7)) -> 0 | BU7: {=IF(ISBLANK(AW7),"0",IF($AZ7<2,"0",_xlfn.CEILING.MATH(AX7/الفرضيات!$H$3*(1+MAX(_xlfn.CHOOSECOLS(_xlfn._xlws.FILTER($I$4:$AT$335,$K$4:$K$335=AW7),36))))))} -> 0 | BV7: {=IF(ISBLANK(AW7),"0",IF($AZ7<2,"0",_xlfn.CEILING.MATH(AY7/الفرضيات!$H$4*(1+MAX(_xlfn.CHOOSECOLS(_xlfn._xlws.FILTER($I$4:$AT$335,$K$4:$K$335=AW7),36))))))} -> 0 | BW7: =IF(ISBLANK(L7),"0",IF(S7<3,"0",(V7*(R7-AG7)/الفرضيات!$H$2*(1+AR7)))) -> 0 | BX7: =IF(ISBLANK(L7),"0",_xlfn.CEILING.MATH(Y7)) -> 0 | BY7: =IF(ISBLANK(AW7),"0",_xlfn.CEILING.MATH(BE7)) -> 0 | BZ7: =IF(ISBLANK(AW7),"0",IF($AZ7<3,"0",CC7+CD7)) -> 0 | CA7: =IF(ISBLANK(L7),"0",_xlfn.CEILING.MATH(AF7)) -> 0 | CB7: =IF(ISBLANK(L7),"0",_xlfn.CEILING.MATH(AB7)) -> 0 | CC7: {=IF(ISBLANK(AW7),"0",IF($AZ7<3,"0",_xlfn.CEILING.MATH(AX7/الفرضيات!$H$3*(1+MAX(_xlfn.CHOOSECOLS(_xlfn._xlws.FILTER($I$4:$AT$335,$K$4:$K$335=AW7),36))))))} -> 0 | CD7: {=IF(ISBLANK(AW7),"0",IF($AZ7<3,"0",_xlfn.CEILING.MATH(AY7/الفرضيات!$H$4*(1+MAX(_xlfn.CHOOSECOLS(_xlfn._xlws.FILTER($I$4:$AT$335,$K$4:$K$335=AW7),36))))))} -> 0 | CE7: =IFERROR(MAX(0,((BG7+BO7+BW7)*(1+AS7+AR7)+(BH7+BI7+BJ7+BL7+BP7+BQ7+BR7+BT7+BX7+BY7+BZ7+CB7)*(1+AS7))*(1+ VLOOKUP(AQ7,الفرضيات!$N$1:$O$11,2,0))-AH7),0) -> 0 | CF7: =IFERROR(BK7+BS7+CA7,0) -> 0 | CG7: {=IFERROR(MAX(0,MAX(BM7,BU7,CC7)*(1+VLOOKUP(MAX(_xlfn.CHOOSECOLS(_xlfn._xlws.FILTER($I$4:$AT$335,$K$4:$K$335=AW7),35)),الفرضيات!$N$2:$O$11,2,0))-BA7),0)} -> 0 | CH7: {=IFERROR(MAX(0,MAX(BN7,BV7,CD7)*(1+VLOOKUP(MAX(_xlfn.CHOOSECOLS(_xlfn._xlws.FILTER($I$4:$AT$335,$K$4:$K$335=AW7),35)),الفرضيات!$N$2:$O$11,2,0))-BB7),0)} -> 0
AQ8: =IFERROR( IF(AND(AM8<>0,AL8<>0,AK8<>0), VLOOKUP(AL8,$B$45:$C$48,2,0)*VLOOKUP(AM8,$B$45:$C$48,2,0)*VLOOKUP(AK8,$B$45:$C$48,2,0), VLOOKUP(AO8,$B$45:$C$48,2,0)*VLOOKUP(AP8,$B$45:$C$48,2,0)*VLOOKUP(AN8,$B$45:$C$48,2,0)),"") | AR8: =IF(AQ8="","",(LOOKUP(SUM(N8:O8),الفرضيات!$R$2:$R$9, الفرضيات!$S$2:$S$9))) | AS8: =IF(ISBLANK(L8),"",الفرضيات!$L$2) | BG8: =IF(ISBLANK(L8),"0",T8*(R8-AG8)/الفرضيات!$H$2*(1+AR8)) -> 0 | BH8: =IF(ISBLANK(L8),"0",_xlfn.CEILING.MATH(W8)) -> 0 | BI8: =IF(ISBLANK(AW8),"0",_xlfn.CEILING.MATH(BC8)) -> 0 | BJ8: =IF(ISBLANK(AW8),"0",BM8+BN8) -> 0 | BK8: =IF(ISBLANK(L8),"0",_xlfn.CEILING.MATH(AD8)) -> 0 | BL8: =IF(ISBLANK(L8),"0",_xlfn.CEILING.MATH(Z8)) -> 0 | BM8: {=IF(ISBLANK(AW8),"0",_xlfn.CEILING.MATH(AX8/الفرضيات!$H$3*(1+MAX(_xlfn.CHOOSECOLS(_xlfn._xlws.FILTER($I$4:$AT$335,$K$4:$K$335=AW8),36)))))} -> 0 | BN8: {=IF(ISBLANK(AW8),"0",_xlfn.CEILING.MATH(AY8/الفرضيات!$H$4*(1+MAX(_xlfn.CHOOSECOLS(_xlfn._xlws.FILTER($I$4:$AT$335,$K$4:$K$335=AW8),36)))))} -> 0 | BO8: =IF(ISBLANK(L8),"0",IF(S8<2,"0",(U8*(R8-AG8)/الفرضيات!$H$2*(1+AR8)))) -> 0 | BP8: =IF(ISBLANK(L8),"0",_xlfn.CEILING.MATH(X8)) -> 0 | BQ8: =IF(ISBLANK(AW8),"0",_xlfn.CEILING.MATH(BD8)) -> 0 | BR8: =IF(ISBLANK(AW8),"0",IF($AZ8<2,"0",BU8+BV8)) -> 0 | BS8: =IF(ISBLANK(L8),"0",_xlfn.CEILING.MATH(AE8)) -> 0 | BT8: =IF(ISBLANK(L8),"0",_xlfn.CEILING.MATH(AA8)) -> 0 | BU8: {=IF(ISBLANK(AW8),"0",IF($AZ8<2,"0",_xlfn.CEILING.MATH(AX8/الفرضيات!$H$3*(1+MAX(_xlfn.CHOOSECOLS(_xlfn._xlws.FILTER($I$4:$AT$335,$K$4:$K$335=AW8),36))))))} -> 0 | BV8: {=IF(ISBLANK(AW8),"0",IF($AZ8<2,"0",_xlfn.CEILING.MATH(AY8/الفرضيات!$H$4*(1+MAX(_xlfn.CHOOSECOLS(_xlfn._xlws.FILTER($I$4:$AT$335,$K$4:$K$335=AW8),36))))))} -> 0 | BW8: =IF(ISBLANK(L8),"0",IF(S8<3,"0",(V8*(R8-AG8)/الفرضيات!$H$2*(1+AR8)))) -> 0 | BX8: =IF(ISBLANK(L8),"0",_xlfn.CEILING.MATH(Y8)) -> 0 | BY8: =IF(ISBLANK(AW8),"0",_xlfn.CEILING.MATH(BE8)) -> 0 | BZ8: =IF(ISBLANK(AW8),"0",IF($AZ8<3,"0",CC8+CD8)) -> 0 | CA8: =IF(ISBLANK(L8),"0",_xlfn.CEILING.MATH(AF8)) -> 0 | CB8: =IF(ISBLANK(L8),"0",_xlfn.CEILING.MATH(AB8)) -> 0 | CC8: {=IF(ISBLANK(AW8),"0",IF($AZ8<3,"0",_xlfn.CEILING.MATH(AX8/الفرضيات!$H$3*(1+MAX(_xlfn.CHOOSECOLS(_xlfn._xlws.FILTER($I$4:$AT$335,$K$4:$K$335=AW8),36))))))} -> 0 | CD8: {=IF(ISBLANK(AW8),"0",IF($AZ8<3,"0",_xlfn.CEILING.MATH(AY8/الفرضيات!$H$4*(1+MAX(_xlfn.CHOOSECOLS(_xlfn._xlws.FILTER($I$4:$AT$335,$K$4:$K$335=AW8),36))))))} -> 0 | CE8: =IFERROR(MAX(0,((BG8+BO8+BW8)*(1+AS8+AR8)+(BH8+BI8+BJ8+BL8+BP8+BQ8+BR8+BT8+BX8+BY8+BZ8+CB8)*(1+AS8))*(1+ VLOOKUP(AQ8,الفرضيات!$N$1:$O$11,2,0))-AH8),0) -> 0 | CF8: =IFERROR(BK8+BS8+CA8,0) -> 0 | CG8: {=IFERROR(MAX(0,MAX(BM8,BU8,CC8)*(1+VLOOKUP(MAX(_xlfn.CHOOSECOLS(_xlfn._xlws.FILTER($I$4:$AT$335,$K$4:$K$335=AW8),35)),الفرضيات!$N$2:$O$11,2,0))-BA8),0)} -> 0 | CH8: {=IFERROR(MAX(0,MAX(BN8,BV8,CD8)*(1+VLOOKUP(MAX(_xlfn.CHOOSECOLS(_xlfn._xlws.FILTER($I$4:$AT$335,$K$4:$K$335=AW8),35)),الفرضيات!$N$2:$O$11,2,0))-BB8),0)} -> 0
B9: تفاصيل المعدات | AQ9: =IFERROR( IF(AND(AM9<>0,AL9<>0,AK9<>0), VLOOKUP(AL9,$B$45:$C$48,2,0)*VLOOKUP(AM9,$B$45:$C$48,2,0)*VLOOKUP(AK9,$B$45:$C$48,2,0), VLOOKUP(AO9,$B$45:$C$48,2,0)*VLOOKUP(AP9,$B$45:$C$48,2,0)*VLOOKUP(AN9,$B$45:$C$48,2,0)),"") | AR9: =IF(AQ9="","",(LOOKUP(SUM(N9:O9),الفرضيات!$R$2:$R$9, الفرضيات!$S$2:$S$9))) | AS9: =IF(ISBLANK(L9),"",الفرضيات!$L$2) | BG9: =IF(ISBLANK(L9),"0",T9*(R9-AG9)/الفرضيات!$H$2*(1+AR9)) -> 0 | BH9: =IF(ISBLANK(L9),"0",_xlfn.CEILING.MATH(W9)) -> 0 | BI9: =IF(ISBLANK(AW9),"0",_xlfn.CEILING.MATH(BC9)) -> 0 | BJ9: =IF(ISBLANK(AW9),"0",BM9+BN9) -> 0 | BK9: =IF(ISBLANK(L9),"0",_xlfn.CEILING.MATH(AD9)) -> 0 | BL9: =IF(ISBLANK(L9),"0",_xlfn.CEILING.MATH(Z9)) -> 0 | BM9: {=IF(ISBLANK(AW9),"0",_xlfn.CEILING.MATH(AX9/الفرضيات!$H$3*(1+MAX(_xlfn.CHOOSECOLS(_xlfn._xlws.FILTER($I$4:$AT$335,$K$4:$K$335=AW9),36)))))} -> 0 | BN9: {=IF(ISBLANK(AW9),"0",_xlfn.CEILING.MATH(AY9/الفرضيات!$H$4*(1+MAX(_xlfn.CHOOSECOLS(_xlfn._xlws.FILTER($I$4:$AT$335,$K$4:$K$335=AW9),36)))))} -> 0 | BO9: =IF(ISBLANK(L9),"0",IF(S9<2,"0",(U9*(R9-AG9)/الفرضيات!$H$2*(1+AR9)))) -> 0 | BP9: =IF(ISBLANK(L9),"0",_xlfn.CEILING.MATH(X9)) -> 0 | BQ9: =IF(ISBLANK(AW9),"0",_xlfn.CEILING.MATH(BD9)) -> 0 | BR9: =IF(ISBLANK(AW9),"0",IF($AZ9<2,"0",BU9+BV9)) -> 0 | BS9: =IF(ISBLANK(L9),"0",_xlfn.CEILING.MATH(AE9)) -> 0 | BT9: =IF(ISBLANK(L9),"0",_xlfn.CEILING.MATH(AA9)) -> 0 | BU9: {=IF(ISBLANK(AW9),"0",IF($AZ9<2,"0",_xlfn.CEILING.MATH(AX9/الفرضيات!$H$3*(1+MAX(_xlfn.CHOOSECOLS(_xlfn._xlws.FILTER($I$4:$AT$335,$K$4:$K$335=AW9),36))))))} -> 0 | BV9: {=IF(ISBLANK(AW9),"0",IF($AZ9<2,"0",_xlfn.CEILING.MATH(AY9/الفرضيات!$H$4*(1+MAX(_xlfn.CHOOSECOLS(_xlfn._xlws.FILTER($I$4:$AT$335,$K$4:$K$335=AW9),36))))))} -> 0 | BW9: =IF(ISBLANK(L9),"0",IF(S9<3,"0",(V9*(R9-AG9)/الفرضيات!$H$2*(1+AR9)))) -> 0 | BX9: =IF(ISBLANK(L9),"0",_xlfn.CEILING.MATH(Y9)) -> 0 | BY9: =IF(ISBLANK(AW9),"0",_xlfn.CEILING.MATH(BE9)) -> 0 | BZ9: =IF(ISBLANK(AW9),"0",IF($AZ9<3,"0",CC9+CD9)) -> 0 | CA9: =IF(ISBLANK(L9),"0",_xlfn.CEILING.MATH(AF9)) -> 0 | CB9: =IF(ISBLANK(L9),"0",_xlfn.CEILING.MATH(AB9)) -> 0 | CC9: {=IF(ISBLANK(AW9),"0",IF($AZ9<3,"0",_xlfn.CEILING.MATH(AX9/الفرضيات!$H$3*(1+MAX(_xlfn.CHOOSECOLS(_xlfn._xlws.FILTER($I$4:$AT$335,$K$4:$K$335=AW9),36))))))} -> 0 | CD9: {=IF(ISBLANK(AW9),"0",IF($AZ9<3,"0",_xlfn.CEILING.MATH(AY9/الفرضيات!$H$4*(1+MAX(_xlfn.CHOOSECOLS(_xlfn._xlws.FILTER($I$4:$AT$335,$K$4:$K$335=AW9),36))))))} -> 0 | CE9: =IFERROR(MAX(0,((BG9+BO9+BW9)*(1+AS9+AR9)+(BH9+BI9+BJ9+BL9+BP9+BQ9+BR9+BT9+BX9+BY9+BZ9+CB9)*(1+AS9))*(1+ VLOOKUP(AQ9,الفرضيات!$N$1:$O$11,2,0))-AH9),0) -> 0 | CF9: =IFERROR(BK9+BS9+CA9,0) -> 0 | CG9: {=IFERROR(MAX(0,MAX(BM9,BU9,CC9)*(1+VLOOKUP(MAX(_xlfn.CHOOSECOLS(_xlfn._xlws.FILTER($I$4:$AT$335,$K$4:$K$335=AW9),35)),الفرضيات!$N$2:$O$11,2,0))-BA9),0)} -> 0 | CH9: {=IFERROR(MAX(0,MAX(BN9,BV9,CD9)*(1+VLOOKUP(MAX(_xlfn.CHOOSECOLS(_xlfn._xlws.FILTER($I$4:$AT$335,$K$4:$K$335=AW9),35)),الفرضيات!$N$2:$O$11,2,0))-BB9),0)} -> 0
B10: المسمى الوظيفي | C10: السنة 1 | D10: السنة 2 | E10: السنة 3 | F10: السنة 4 | G10: السنة 5 | AQ10: =IFERROR( IF(AND(AM10<>0,AL10<>0,AK10<>0), VLOOKUP(AL10,$B$45:$C$48,2,0)*VLOOKUP(AM10,$B$45:$C$48,2,0)*VLOOKUP(AK10,$B$45:$C$48,2,0), VLOOKUP(AO10,$B$45:$C$48,2,0)*VLOOKUP(AP10,$B$45:$C$48,2,0)*VLOOKUP(AN10,$B$45:$C$48,2,0)),"") | AR10: =IF(AQ10="","",(LOOKUP(SUM(N10:O10),الفرضيات!$R$2:$R$9, الفرضيات!$S$2:$S$9))) | AS10: =IF(ISBLANK(L10),"",الفرضيات!$L$2) | BG10: =IF(ISBLANK(L10),"0",T10*(R10-AG10)/الفرضيات!$H$2*(1+AR10)) -> 0 | BH10: =IF(ISBLANK(L10),"0",_xlfn.CEILING.MATH(W10)) -> 0 | BI10: =IF(ISBLANK(AW10),"0",_xlfn.CEILING.MATH(BC10)) -> 0 | BJ10: =IF(ISBLANK(AW10),"0",BM10+BN10) -> 0 | BK10: =IF(ISBLANK(L10),"0",_xlfn.CEILING.MATH(AD10)) -> 0 | BL10: =IF(ISBLANK(L10),"0",_xlfn.CEILING.MATH(Z10)) -> 0 | BM10: {=IF(ISBLANK(AW10),"0",_xlfn.CEILING.MATH(AX10/الفرضيات!$H$3*(1+MAX(_xlfn.CHOOSECOLS(_xlfn._xlws.FILTER($I$4:$AT$335,$K$4:$K$335=AW10),36)))))} -> 0 | BN10: {=IF(ISBLANK(AW10),"0",_xlfn.CEILING.MATH(AY10/الفرضيات!$H$4*(1+MAX(_xlfn.CHOOSECOLS(_xlfn._xlws.FILTER($I$4:$AT$335,$K$4:$K$335=AW10),36)))))} -> 0 | BO10: =IF(ISBLANK(L10),"0",IF(S10<2,"0",(U10*(R10-AG10)/الفرضيات!$H$2*(1+AR10)))) -> 0 | BP10: =IF(ISBLANK(L10),"0",_xlfn.CEILING.MATH(X10)) -> 0 | BQ10: =IF(ISBLANK(AW10),"0",_xlfn.CEILING.MATH(BD10)) -> 0 | BR10: =IF(ISBLANK(AW10),"0",IF($AZ10<2,"0",BU10+BV10)) -> 0 | BS10: =IF(ISBLANK(L10),"0",_xlfn.CEILING.MATH(AE10)) -> 0 | BT10: =IF(ISBLANK(L10),"0",_xlfn.CEILING.MATH(AA10)) -> 0 | BU10: {=IF(ISBLANK(AW10),"0",IF($AZ10<2,"0",_xlfn.CEILING.MATH(AX10/الفرضيات!$H$3*(1+MAX(_xlfn.CHOOSECOLS(_xlfn._xlws.FILTER($I$4:$AT$335,$K$4:$K$335=AW10),36))))))} -> 0 | BV10: {=IF(ISBLANK(AW10),"0",IF($AZ10<2,"0",_xlfn.CEILING.MATH(AY10/الفرضيات!$H$4*(1+MAX(_xlfn.CHOOSECOLS(_xlfn._xlws.FILTER($I$4:$AT$335,$K$4:$K$335=AW10),36))))))} -> 0 | BW10: =IF(ISBLANK(L10),"0",IF(S10<3,"0",(V10*(R10-AG10)/الفرضيات!$H$2*(1+AR10)))) -> 0 | BX10: =IF(ISBLANK(L10),"0",_xlfn.CEILING.MATH(Y10)) -> 0 | BY10: =IF(ISBLANK(AW10),"0",_xlfn.CEILING.MATH(BE10)) -> 0 | BZ10: =IF(ISBLANK(AW10),"0",IF($AZ10<3,"0",CC10+CD10)) -> 0 | CA10: =IF(ISBLANK(L10),"0",_xlfn.CEILING.MATH(AF10)) -> 0 | CB10: =IF(ISBLANK(L10),"0",_xlfn.CEILING.MATH(AB10)) -> 0 | CC10: {=IF(ISBLANK(AW10),"0",IF($AZ10<3,"0",_xlfn.CEILING.MATH(AX10/الفرضيات!$H$3*(1+MAX(_xlfn.CHOOSECOLS(_xlfn._xlws.FILTER($I$4:$AT$335,$K$4:$K$335=AW10),36))))))} -> 0 | CD10: {=IF(ISBLANK(AW10),"0",IF($AZ10<3,"0",_xlfn.CEILING.MATH(AY10/الفرضيات!$H$4*(1+MAX(_xlfn.CHOOSECOLS(_xlfn._xlws.FILTER($I$4:$AT$335,$K$4:$K$335=AW10),36))))))} -> 0 | CE10: =IFERROR(MAX(0,((BG10+BO10+BW10)*(1+AS10+AR10)+(BH10+BI10+BJ10+BL10+BP10+BQ10+BR10+BT10+BX10+BY10+BZ10+CB10)*(1+AS10))*(1+ VLOOKUP(AQ10,الفرضيات!$N$1:$O$11,2,0))-AH10),0) -> 0 | CF10: =IFERROR(BK10+BS10+CA10,0) -> 0 | CG10: {=IFERROR(MAX(0,MAX(BM10,BU10,CC10)*(1+VLOOKUP(MAX(_xlfn.CHOOSECOLS(_xlfn._xlws.FILTER($I$4:$AT$335,$K$4:$K$335=AW10),35)),الفرضيات!$N$2:$O$11,2,0))-BA10),0)} -> 0 | CH10: {=IFERROR(MAX(0,MAX(BN10,BV10,CD10)*(1+VLOOKUP(MAX(_xlfn.CHOOSECOLS(_xlfn._xlws.FILTER($I$4:$AT$335,$K$4:$K$335=AW10),35)),الفرضيات!$N$2:$O$11,2,0))-BB10),0)} -> 0
B11: سيارات الأمن ذات الدفع الثنائي | C11: =SUM(CG4:CG335) -> 0 | D11: =IF($B$21<>2,0,SUM(CG4:CG335)) -> 0 | E11: =IF(B22<>3,0,SUM(CG4:CG335)) -> 0 | F11: =IF(B23<>4,0,SUM(CG4:CG335)) -> 0 | G11: =IF(B24<>5,0,SUM(CG4:CG335)) -> 0 | AQ11: =IFERROR( IF(AND(AM11<>0,AL11<>0,AK11<>0), VLOOKUP(AL11,$B$45:$C$48,2,0)*VLOOKUP(AM11,$B$45:$C$48,2,0)*VLOOKUP(AK11,$B$45:$C$48,2,0), VLOOKUP(AO11,$B$45:$C$48,2,0)*VLOOKUP(AP11,$B$45:$C$48,2,0)*VLOOKUP(AN11,$B$45:$C$48,2,0)),"") | AR11: =IF(AQ11="","",(LOOKUP(SUM(N11:O11),الفرضيات!$R$2:$R$9, الفرضيات!$S$2:$S$9))) | AS11: =IF(ISBLANK(L11),"",الفرضيات!$L$2) | BG11: =IF(ISBLANK(L11),"0",T11*(R11-AG11)/الفرضيات!$H$2*(1+AR11)) -> 0 | BH11: =IF(ISBLANK(L11),"0",_xlfn.CEILING.MATH(W11)) -> 0 | BI11: =IF(ISBLANK(AW11),"0",_xlfn.CEILING.MATH(BC11)) -> 0 | BJ11: =IF(ISBLANK(AW11),"0",BM11+BN11) -> 0 | BK11: =IF(ISBLANK(L11),"0",_xlfn.CEILING.MATH(AD11)) -> 0 | BL11: =IF(ISBLANK(L11),"0",_xlfn.CEILING.MATH(Z11)) -> 0 | BM11: {=IF(ISBLANK(AW11),"0",_xlfn.CEILING.MATH(AX11/الفرضيات!$H$3*(1+MAX(_xlfn.CHOOSECOLS(_xlfn._xlws.FILTER($I$4:$AT$335,$K$4:$K$335=AW11),36)))))} -> 0 | BN11: {=IF(ISBLANK(AW11),"0",_xlfn.CEILING.MATH(AY11/الفرضيات!$H$4*(1+MAX(_xlfn.CHOOSECOLS(_xlfn._xlws.FILTER($I$4:$AT$335,$K$4:$K$335=AW11),36)))))} -> 0 | BO11: =IF(ISBLANK(L11),"0",IF(S11<2,"0",(U11*(R11-AG11)/الفرضيات!$H$2*(1+AR11)))) -> 0 | BP11: =IF(ISBLANK(L11),"0",_xlfn.CEILING.MATH(X11)) -> 0 | BQ11: =IF(ISBLANK(AW11),"0",_xlfn.CEILING.MATH(BD11)) -> 0 | BR11: =IF(ISBLANK(AW11),"0",IF($AZ11<2,"0",BU11+BV11)) -> 0 | BS11: =IF(ISBLANK(L11),"0",_xlfn.CEILING.MATH(AE11)) -> 0 | BT11: =IF(ISBLANK(L11),"0",_xlfn.CEILING.MATH(AA11)) -> 0 | BU11: {=IF(ISBLANK(AW11),"0",IF($AZ11<2,"0",_xlfn.CEILING.MATH(AX11/الفرضيات!$H$3*(1+MAX(_xlfn.CHOOSECOLS(_xlfn._xlws.FILTER($I$4:$AT$335,$K$4:$K$335=AW11),36))))))} -> 0 | BV11: {=IF(ISBLANK(AW11),"0",IF($AZ11<2,"0",_xlfn.CEILING.MATH(AY11/الفرضيات!$H$4*(1+MAX(_xlfn.CHOOSECOLS(_xlfn._xlws.FILTER($I$4:$AT$335,$K$4:$K$335=AW11),36))))))} -> 0 | BW11: =IF(ISBLANK(L11),"0",IF(S11<3,"0",(V11*(R11-AG11)/الفرضيات!$H$2*(1+AR11)))) -> 0 | BX11: =IF(ISBLANK(L11),"0",_xlfn.CEILING.MATH(Y11)) -> 0 | BY11: =IF(ISBLANK(AW11),"0",_xlfn.CEILING.MATH(BE11)) -> 0 | BZ11: =IF(ISBLANK(AW11),"0",IF($AZ11<3,"0",CC11+CD11)) -> 0 | CA11: =IF(ISBLANK(L11),"0",_xlfn.CEILING.MATH(AF11)) -> 0 | CB11: =IF(ISBLANK(L11),"0",_xlfn.CEILING.MATH(AB11)) -> 0 | CC11: {=IF(ISBLANK(AW11),"0",IF($AZ11<3,"0",_xlfn.CEILING.MATH(AX11/الفرضيات!$H$3*(1+MAX(_xlfn.CHOOSECOLS(_xlfn._xlws.FILTER($I$4:$AT$335,$K$4:$K$335=AW11),36))))))} -> 0 | CD11: {=IF(ISBLANK(AW11),"0",IF($AZ11<3,"0",_xlfn.CEILING.MATH(AY11/الفرضيات!$H$4*(1+MAX(_xlfn.CHOOSECOLS(_xlfn._xlws.FILTER($I$4:$AT$335,$K$4:$K$335=AW11),36))))))} -> 0 | CE11: =IFERROR(MAX(0,((BG11+BO11+BW11)*(1+AS11+AR11)+(BH11+BI11+BJ11+BL11+BP11+BQ11+BR11+BT11+BX11+BY11+BZ11+CB11)*(1+AS11))*(1+ VLOOKUP(AQ11,الفرضيات!$N$1:$O$11,2,0))-AH11),0) -> 0 | CF11: =IFERROR(BK11+BS11+CA11,0) -> 0 | CG11: {=IFERROR(MAX(0,MAX(BM11,BU11,CC11)*(1+VLOOKUP(MAX(_xlfn.CHOOSECOLS(_xlfn._xlws.FILTER($I$4:$AT$335,$K$4:$K$335=AW11),35)),الفرضيات!$N$2:$O$11,2,0))-BA11),0)} -> 0 | CH11: {=IFERROR(MAX(0,MAX(BN11,BV11,CD11)*(1+VLOOKUP(MAX(_xlfn.CHOOSECOLS(_xlfn._xlws.FILTER($I$4:$AT$335,$K$4:$K$335=AW11),35)),الفرضيات!$N$2:$O$11,2,0))-BB11),0)} -> 0
B12: سيارات الأمن ذات الدفع الرباعي | C12: =SUM(CH4:CH335) -> 0 | D12: =IF($B$21<>2,0,SUM(CH4:CH335)) -> 0 | E12: =IF(B22<>3,0,SUM(CH4:CH335)) -> 0 | F12: =IF(B23<>4,0,SUM(CH4:CH335)) -> 0 | G12: =IF(B24<>5,0,SUM(CH4:CH335)) -> 0 | AQ12: =IFERROR( IF(AND(AM12<>0,AL12<>0,AK12<>0), VLOOKUP(AL12,$B$45:$C$48,2,0)*VLOOKUP(AM12,$B$45:$C$48,2,0)*VLOOKUP(AK12,$B$45:$C$48,2,0), VLOOKUP(AO12,$B$45:$C$48,2,0)*VLOOKUP(AP12,$B$45:$C$48,2,0)*VLOOKUP(AN12,$B$45:$C$48,2,0)),"") | AR12: =IF(AQ12="","",(LOOKUP(SUM(N12:O12),الفرضيات!$R$2:$R$9, الفرضيات!$S$2:$S$9))) | AS12: =IF(ISBLANK(L12),"",الفرضيات!$L$2) | BG12: =IF(ISBLANK(L12),"0",T12*(R12-AG12)/الفرضيات!$H$2*(1+AR12)) -> 0 | BH12: =IF(ISBLANK(L12),"0",_xlfn.CEILING.MATH(W12)) -> 0 | BI12: =IF(ISBLANK(AW12),"0",_xlfn.CEILING.MATH(BC12)) -> 0 | BJ12: =IF(ISBLANK(AW12),"0",BM12+BN12) -> 0 | BK12: =IF(ISBLANK(L12),"0",_xlfn.CEILING.MATH(AD12)) -> 0 | BL12: =IF(ISBLANK(L12),"0",_xlfn.CEILING.MATH(Z12)) -> 0 | BM12: {=IF(ISBLANK(AW12),"0",_xlfn.CEILING.MATH(AX12/الفرضيات!$H$3*(1+MAX(_xlfn.CHOOSECOLS(_xlfn._xlws.FILTER($I$4:$AT$335,$K$4:$K$335=AW12),36)))))} -> 0 | BN12: {=IF(ISBLANK(AW12),"0",_xlfn.CEILING.MATH(AY12/الفرضيات!$H$4*(1+MAX(_xlfn.CHOOSECOLS(_xlfn._xlws.FILTER($I$4:$AT$335,$K$4:$K$335=AW12),36)))))} -> 0 | BO12: =IF(ISBLANK(L12),"0",IF(S12<2,"0",(U12*(R12-AG12)/الفرضيات!$H$2*(1+AR12)))) -> 0 | BP12: =IF(ISBLANK(L12),"0",_xlfn.CEILING.MATH(X12)) -> 0 | BQ12: =IF(ISBLANK(AW12),"0",_xlfn.CEILING.MATH(BD12)) -> 0 | BR12: =IF(ISBLANK(AW12),"0",IF($AZ12<2,"0",BU12+BV12)) -> 0 | BS12: =IF(ISBLANK(L12),"0",_xlfn.CEILING.MATH(AE12)) -> 0 | BT12: =IF(ISBLANK(L12),"0",_xlfn.CEILING.MATH(AA12)) -> 0 | BU12: {=IF(ISBLANK(AW12),"0",IF($AZ12<2,"0",_xlfn.CEILING.MATH(AX12/الفرضيات!$H$3*(1+MAX(_xlfn.CHOOSECOLS(_xlfn._xlws.FILTER($I$4:$AT$335,$K$4:$K$335=AW12),36))))))} -> 0 | BV12: {=IF(ISBLANK(AW12),"0",IF($AZ12<2,"0",_xlfn.CEILING.MATH(AY12/الفرضيات!$H$4*(1+MAX(_xlfn.CHOOSECOLS(_xlfn._xlws.FILTER($I$4:$AT$335,$K$4:$K$335=AW12),36))))))} -> 0 | BW12: =IF(ISBLANK(L12),"0",IF(S12<3,"0",(V12*(R12-AG12)/الفرضيات!$H$2*(1+AR12)))) -> 0 | BX12: =IF(ISBLANK(L12),"0",_xlfn.CEILING.MATH(Y12)) -> 0 | BY12: =IF(ISBLANK(AW12),"0",_xlfn.CEILING.MATH(BE12)) -> 0 | BZ12: =IF(ISBLANK(AW12),"0",IF($AZ12<3,"0",CC12+CD12)) -> 0 | CA12: =IF(ISBLANK(L12),"0",_xlfn.CEILING.MATH(AF12)) -> 0 | CB12: =IF(ISBLANK(L12),"0",_xlfn.CEILING.MATH(AB12)) -> 0 | CC12: {=IF(ISBLANK(AW12),"0",IF($AZ12<3,"0",_xlfn.CEILING.MATH(AX12/الفرضيات!$H$3*(1+MAX(_xlfn.CHOOSECOLS(_xlfn._xlws.FILTER($I$4:$AT$335,$K$4:$K$335=AW12),36))))))} -> 0 | CD12: {=IF(ISBLANK(AW12),"0",IF($AZ12<3,"0",_xlfn.CEILING.MATH(AY12/الفرضيات!$H$4*(1+MAX(_xlfn.CHOOSECOLS(_xlfn._xlws.FILTER($I$4:$AT$335,$K$4:$K$335=AW12),36))))))} -> 0 | CE12: =IFERROR(MAX(0,((BG12+BO12+BW12)*(1+AS12+AR12)+(BH12+BI12+BJ12+BL12+BP12+BQ12+BR12+BT12+BX12+BY12+BZ12+CB12)*(1+AS12))*(1+ VLOOKUP(AQ12,الفرضيات!$N$1:$O$11,2,0))-AH12),0) -> 0 | CF12: =IFERROR(BK12+BS12+CA12,0) -> 0 | CG12: {=IFERROR(MAX(0,MAX(BM12,BU12,CC12)*(1+VLOOKUP(MAX(_xlfn.CHOOSECOLS(_xlfn._xlws.FILTER($I$4:$AT$335,$K$4:$K$335=AW12),35)),الفرضيات!$N$2:$O$11,2,0))-BA12),0)} -> 0 | CH12: {=IFERROR(MAX(0,MAX(BN12,BV12,CD12)*(1+VLOOKUP(MAX(_xlfn.CHOOSECOLS(_xlfn._xlws.FILTER($I$4:$AT$335,$K$4:$K$335=AW12),35)),الفرضيات!$N$2:$O$11,2,0))-BB12),0)} -> 0
AQ13: =IFERROR( IF(AND(AM13<>0,AL13<>0,AK13<>0), VLOOKUP(AL13,$B$45:$C$48,2,0)*VLOOKUP(AM13,$B$45:$C$48,2,0)*VLOOKUP(AK13,$B$45:$C$48,2,0), VLOOKUP(AO13,$B$45:$C$48,2,0)*VLOOKUP(AP13,$B$45:$C$48,2,0)*VLOOKUP(AN13,$B$45:$C$48,2,0)),"") | AR13: =IF(AQ13="","",(LOOKUP(SUM(N13:O13),الفرضيات!$R$2:$R$9, الفرضيات!$S$2:$S$9))) | AS13: =IF(ISBLANK(L13),"",الفرضيات!$L$2) | BG13: =IF(ISBLANK(L13),"0",T13*(R13-AG13)/الفرضيات!$H$2*(1+AR13)) -> 0 | BH13: =IF(ISBLANK(L13),"0",_xlfn.CEILING.MATH(W13)) -> 0 | BI13: =IF(ISBLANK(AW13),"0",_xlfn.CEILING.MATH(BC13)) -> 0 | BJ13: =IF(ISBLANK(AW13),"0",BM13+BN13) -> 0 | BK13: =IF(ISBLANK(L13),"0",_xlfn.CEILING.MATH(AD13)) -> 0 | BL13: =IF(ISBLANK(L13),"0",_xlfn.CEILING.MATH(Z13)) -> 0 | BM13: {=IF(ISBLANK(AW13),"0",_xlfn.CEILING.MATH(AX13/الفرضيات!$H$3*(1+MAX(_xlfn.CHOOSECOLS(_xlfn._xlws.FILTER($I$4:$AT$335,$K$4:$K$335=AW13),36)))))} -> 0 | BN13: {=IF(ISBLANK(AW13),"0",_xlfn.CEILING.MATH(AY13/الفرضيات!$H$4*(1+MAX(_xlfn.CHOOSECOLS(_xlfn._xlws.FILTER($I$4:$AT$335,$K$4:$K$335=AW13),36)))))} -> 0 | BO13: =IF(ISBLANK(L13),"0",IF(S13<2,"0",(U13*(R13-AG13)/الفرضيات!$H$2*(1+AR13)))) -> 0 | BP13: =IF(ISBLANK(L13),"0",_xlfn.CEILING.MATH(X13)) -> 0 | BQ13: =IF(ISBLANK(AW13),"0",_xlfn.CEILING.MATH(BD13)) -> 0 | BR13: =IF(ISBLANK(AW13),"0",IF($AZ13<2,"0",BU13+BV13)) -> 0 | BS13: =IF(ISBLANK(L13),"0",_xlfn.CEILING.MATH(AE13)) -> 0 | BT13: =IF(ISBLANK(L13),"0",_xlfn.CEILING.MATH(AA13)) -> 0 | BU13: {=IF(ISBLANK(AW13),"0",IF($AZ13<2,"0",_xlfn.CEILING.MATH(AX13/الفرضيات!$H$3*(1+MAX(_xlfn.CHOOSECOLS(_xlfn._xlws.FILTER($I$4:$AT$335,$K$4:$K$335=AW13),36))))))} -> 0 | BV13: {=IF(ISBLANK(AW13),"0",IF($AZ13<2,"0",_xlfn.CEILING.MATH(AY13/الفرضيات!$H$4*(1+MAX(_xlfn.CHOOSECOLS(_xlfn._xlws.FILTER($I$4:$AT$335,$K$4:$K$335=AW13),36))))))} -> 0 | BW13: =IF(ISBLANK(L13),"0",IF(S13<3,"0",(V13*(R13-AG13)/الفرضيات!$H$2*(1+AR13)))) -> 0 | BX13: =IF(ISBLANK(L13),"0",_xlfn.CEILING.MATH(Y13)) -> 0 | BY13: =IF(ISBLANK(AW13),"0",_xlfn.CEILING.MATH(BE13)) -> 0 | BZ13: =IF(ISBLANK(AW13),"0",IF($AZ13<3,"0",CC13+CD13)) -> 0 | CA13: =IF(ISBLANK(L13),"0",_xlfn.CEILING.MATH(AF13)) -> 0 | CB13: =IF(ISBLANK(L13),"0",_xlfn.CEILING.MATH(AB13)) -> 0 | CC13: {=IF(ISBLANK(AW13),"0",IF($AZ13<3,"0",_xlfn.CEILING.MATH(AX13/الفرضيات!$H$3*(1+MAX(_xlfn.CHOOSECOLS(_xlfn._xlws.FILTER($I$4:$AT$335,$K$4:$K$335=AW13),36))))))} -> 0 | CD13: {=IF(ISBLANK(AW13),"0",IF($AZ13<3,"0",_xlfn.CEILING.MATH(AY13/الفرضيات!$H$4*(1+MAX(_xlfn.CHOOSECOLS(_xlfn._xlws.FILTER($I$4:$AT$335,$K$4:$K$335=AW13),36))))))} -> 0 | CE13: =IFERROR(MAX(0,((BG13+BO13+BW13)*(1+AS13+AR13)+(BH13+BI13+BJ13+BL13+BP13+BQ13+BR13+BT13+BX13+BY13+BZ13+CB13)*(1+AS13))*(1+ VLOOKUP(AQ13,الفرضيات!$N$1:$O$11,2,0))-AH13),0) -> 0 | CF13: =IFERROR(BK13+BS13+CA13,0) -> 0 | CG13: {=IFERROR(MAX(0,MAX(BM13,BU13,CC13)*(1+VLOOKUP(MAX(_xlfn.CHOOSECOLS(_xlfn._xlws.FILTER($I$4:$AT$335,$K$4:$K$335=AW13),35)),الفرضيات!$N$2:$O$11,2,0))-BA13),0)} -> 0 | CH13: {=IFERROR(MAX(0,MAX(BN13,BV13,CD13)*(1+VLOOKUP(MAX(_xlfn.CHOOSECOLS(_xlfn._xlws.FILTER($I$4:$AT$335,$K$4:$K$335=AW13),35)),الفرضيات!$N$2:$O$11,2,0))-BB13),0)} -> 0
AQ14: =IFERROR( IF(AND(AM14<>0,AL14<>0,AK14<>0), VLOOKUP(AL14,$B$45:$C$48,2,0)*VLOOKUP(AM14,$B$45:$C$48,2,0)*VLOOKUP(AK14,$B$45:$C$48,2,0), VLOOKUP(AO14,$B$45:$C$48,2,0)*VLOOKUP(AP14,$B$45:$C$48,2,0)*VLOOKUP(AN14,$B$45:$C$48,2,0)),"") | AR14: =IF(AQ14="","",(LOOKUP(SUM(N14:O14),الفرضيات!$R$2:$R$9, الفرضيات!$S$2:$S$9))) | AS14: =IF(ISBLANK(L14),"",الفرضيات!$L$2) | BG14: =IF(ISBLANK(L14),"0",T14*(R14-AG14)/الفرضيات!$H$2*(1+AR14)) -> 0 | BH14: =IF(ISBLANK(L14),"0",_xlfn.CEILING.MATH(W14)) -> 0 | BI14: =IF(ISBLANK(AW14),"0",_xlfn.CEILING.MATH(BC14)) -> 0 | BJ14: =IF(ISBLANK(AW14),"0",BM14+BN14) -> 0 | BK14: =IF(ISBLANK(L14),"0",_xlfn.CEILING.MATH(AD14)) -> 0 | BL14: =IF(ISBLANK(L14),"0",_xlfn.CEILING.MATH(Z14)) -> 0 | BM14: {=IF(ISBLANK(AW14),"0",_xlfn.CEILING.MATH(AX14/الفرضيات!$H$3*(1+MAX(_xlfn.CHOOSECOLS(_xlfn._xlws.FILTER($I$4:$AT$335,$K$4:$K$335=AW14),36)))))} -> 0 | BN14: {=IF(ISBLANK(AW14),"0",_xlfn.CEILING.MATH(AY14/الفرضيات!$H$4*(1+MAX(_xlfn.CHOOSECOLS(_xlfn._xlws.FILTER($I$4:$AT$335,$K$4:$K$335=AW14),36)))))} -> 0 | BO14: =IF(ISBLANK(L14),"0",IF(S14<2,"0",(U14*(R14-AG14)/الفرضيات!$H$2*(1+AR14)))) -> 0 | BP14: =IF(ISBLANK(L14),"0",_xlfn.CEILING.MATH(X14)) -> 0 | BQ14: =IF(ISBLANK(AW14),"0",_xlfn.CEILING.MATH(BD14)) -> 0 | BR14: =IF(ISBLANK(AW14),"0",IF($AZ14<2,"0",BU14+BV14)) -> 0 | BS14: =IF(ISBLANK(L14),"0",_xlfn.CEILING.MATH(AE14)) -> 0 | BT14: =IF(ISBLANK(L14),"0",_xlfn.CEILING.MATH(AA14)) -> 0 | BU14: {=IF(ISBLANK(AW14),"0",IF($AZ14<2,"0",_xlfn.CEILING.MATH(AX14/الفرضيات!$H$3*(1+MAX(_xlfn.CHOOSECOLS(_xlfn._xlws.FILTER($I$4:$AT$335,$K$4:$K$335=AW14),36))))))} -> 0 | BV14: {=IF(ISBLANK(AW14),"0",IF($AZ14<2,"0",_xlfn.CEILING.MATH(AY14/الفرضيات!$H$4*(1+MAX(_xlfn.CHOOSECOLS(_xlfn._xlws.FILTER($I$4:$AT$335,$K$4:$K$335=AW14),36))))))} -> 0 | BW14: =IF(ISBLANK(L14),"0",IF(S14<3,"0",(V14*(R14-AG14)/الفرضيات!$H$2*(1+AR14)))) -> 0 | BX14: =IF(ISBLANK(L14),"0",_xlfn.CEILING.MATH(Y14)) -> 0 | BY14: =IF(ISBLANK(AW14),"0",_xlfn.CEILING.MATH(BE14)) -> 0 | BZ14: =IF(ISBLANK(AW14),"0",IF($AZ14<3,"0",CC14+CD14)) -> 0 | CA14: =IF(ISBLANK(L14),"0",_xlfn.CEILING.MATH(AF14)) -> 0 | CB14: =IF(ISBLANK(L14),"0",_xlfn.CEILING.MATH(AB14)) -> 0 | CC14: {=IF(ISBLANK(AW14),"0",IF($AZ14<3,"0",_xlfn.CEILING.MATH(AX14/الفرضيات!$H$3*(1+MAX(_xlfn.CHOOSECOLS(_xlfn._xlws.FILTER($I$4:$AT$335,$K$4:$K$335=AW14),36))))))} -> 0 | CD14: {=IF(ISBLANK(AW14),"0",IF($AZ14<3,"0",_xlfn.CEILING.MATH(AY14/الفرضيات!$H$4*(1+MAX(_xlfn.CHOOSECOLS(_xlfn._xlws.FILTER($I$4:$AT$335,$K$4:$K$335=AW14),36))))))} -> 0 | CE14: =IFERROR(MAX(0,((BG14+BO14+BW14)*(1+AS14+AR14)+(BH14+BI14+BJ14+BL14+BP14+BQ14+BR14+BT14+BX14+BY14+BZ14+CB14)*(1+AS14))*(1+ VLOOKUP(AQ14,الفرضيات!$N$1:$O$11,2,0))-AH14),0) -> 0 | CF14: =IFERROR(BK14+BS14+CA14,0) -> 0 | CG14: {=IFERROR(MAX(0,MAX(BM14,BU14,CC14)*(1+VLOOKUP(MAX(_xlfn.CHOOSECOLS(_xlfn._xlws.FILTER($I$4:$AT$335,$K$4:$K$335=AW14),35)),الفرضيات!$N$2:$O$11,2,0))-BA14),0)} -> 0 | CH14: {=IFERROR(MAX(0,MAX(BN14,BV14,CD14)*(1+VLOOKUP(MAX(_xlfn.CHOOSECOLS(_xlfn._xlws.FILTER($I$4:$AT$335,$K$4:$K$335=AW14),35)),الفرضيات!$N$2:$O$11,2,0))-BB14),0)} -> 0
AQ15: =IFERROR( IF(AND(AM15<>0,AL15<>0,AK15<>0), VLOOKUP(AL15,$B$45:$C$48,2,0)*VLOOKUP(AM15,$B$45:$C$48,2,0)*VLOOKUP(AK15,$B$45:$C$48,2,0), VLOOKUP(AO15,$B$45:$C$48,2,0)*VLOOKUP(AP15,$B$45:$C$48,2,0)*VLOOKUP(AN15,$B$45:$C$48,2,0)),"") | AR15: =IF(AQ15="","",(LOOKUP(SUM(N15:O15),الفرضيات!$R$2:$R$9, الفرضيات!$S$2:$S$9))) | AS15: =IF(ISBLANK(L15),"",الفرضيات!$L$2) | BG15: =IF(ISBLANK(L15),"0",T15*(R15-AG15)/الفرضيات!$H$2*(1+AR15)) -> 0 | BH15: =IF(ISBLANK(L15),"0",_xlfn.CEILING.MATH(W15)) -> 0 | BI15: =IF(ISBLANK(AW15),"0",_xlfn.CEILING.MATH(BC15)) -> 0 | BJ15: =IF(ISBLANK(AW15),"0",BM15+BN15) -> 0 | BK15: =IF(ISBLANK(L15),"0",_xlfn.CEILING.MATH(AD15)) -> 0 | BL15: =IF(ISBLANK(L15),"0",_xlfn.CEILING.MATH(Z15)) -> 0 | BM15: {=IF(ISBLANK(AW15),"0",_xlfn.CEILING.MATH(AX15/الفرضيات!$H$3*(1+MAX(_xlfn.CHOOSECOLS(_xlfn._xlws.FILTER($I$4:$AT$335,$K$4:$K$335=AW15),36)))))} -> 0 | BN15: {=IF(ISBLANK(AW15),"0",_xlfn.CEILING.MATH(AY15/الفرضيات!$H$4*(1+MAX(_xlfn.CHOOSECOLS(_xlfn._xlws.FILTER($I$4:$AT$335,$K$4:$K$335=AW15),36)))))} -> 0 | BO15: =IF(ISBLANK(L15),"0",IF(S15<2,"0",(U15*(R15-AG15)/الفرضيات!$H$2*(1+AR15)))) -> 0 | BP15: =IF(ISBLANK(L15),"0",_xlfn.CEILING.MATH(X15)) -> 0 | BQ15: =IF(ISBLANK(AW15),"0",_xlfn.CEILING.MATH(BD15)) -> 0 | BR15: =IF(ISBLANK(AW15),"0",IF($AZ15<2,"0",BU15+BV15)) -> 0 | BS15: =IF(ISBLANK(L15),"0",_xlfn.CEILING.MATH(AE15)) -> 0 | BT15: =IF(ISBLANK(L15),"0",_xlfn.CEILING.MATH(AA15)) -> 0 | BU15: {=IF(ISBLANK(AW15),"0",IF($AZ15<2,"0",_xlfn.CEILING.MATH(AX15/الفرضيات!$H$3*(1+MAX(_xlfn.CHOOSECOLS(_xlfn._xlws.FILTER($I$4:$AT$335,$K$4:$K$335=AW15),36))))))} -> 0 | BV15: {=IF(ISBLANK(AW15),"0",IF($AZ15<2,"0",_xlfn.CEILING.MATH(AY15/الفرضيات!$H$4*(1+MAX(_xlfn.CHOOSECOLS(_xlfn._xlws.FILTER($I$4:$AT$335,$K$4:$K$335=AW15),36))))))} -> 0 | BW15: =IF(ISBLANK(L15),"0",IF(S15<3,"0",(V15*(R15-AG15)/الفرضيات!$H$2*(1+AR15)))) -> 0 | BX15: =IF(ISBLANK(L15),"0",_xlfn.CEILING.MATH(Y15)) -> 0 | BY15: =IF(ISBLANK(AW15),"0",_xlfn.CEILING.MATH(BE15)) -> 0 | BZ15: =IF(ISBLANK(AW15),"0",IF($AZ15<3,"0",CC15+CD15)) -> 0 | CA15: =IF(ISBLANK(L15),"0",_xlfn.CEILING.MATH(AF15)) -> 0 | CB15: =IF(ISBLANK(L15),"0",_xlfn.CEILING.MATH(AB15)) -> 0 | CC15: {=IF(ISBLANK(AW15),"0",IF($AZ15<3,"0",_xlfn.CEILING.MATH(AX15/الفرضيات!$H$3*(1+MAX(_xlfn.CHOOSECOLS(_xlfn._xlws.FILTER($I$4:$AT$335,$K$4:$K$335=AW15),36))))))} -> 0 | CD15: {=IF(ISBLANK(AW15),"0",IF($AZ15<3,"0",_xlfn.CEILING.MATH(AY15/الفرضيات!$H$4*(1+MAX(_xlfn.CHOOSECOLS(_xlfn._xlws.FILTER($I$4:$AT$335,$K$4:$K$335=AW15),36))))))} -> 0 | CE15: =IFERROR(MAX(0,((BG15+BO15+BW15)*(1+AS15+AR15)+(BH15+BI15+BJ15+BL15+BP15+BQ15+BR15+BT15+BX15+BY15+BZ15+CB15)*(1+AS15))*(1+ VLOOKUP(AQ15,الفرضيات!$N$1:$O$11,2,0))-AH15),0) -> 0 | CF15: =IFERROR(BK15+BS15+CA15,0) -> 0 | CG15: {=IFERROR(MAX(0,MAX(BM15,BU15,CC15)*(1+VLOOKUP(MAX(_xlfn.CHOOSECOLS(_xlfn._xlws.FILTER($I$4:$AT$335,$K$4:$K$335=AW15),35)),الفرضيات!$N$2:$O$11,2,0))-BA15),0)} -> 0 | CH15: {=IFERROR(MAX(0,MAX(BN15,BV15,CD15)*(1+VLOOKUP(MAX(_xlfn.CHOOSECOLS(_xlfn._xlws.FILTER($I$4:$AT$335,$K$4:$K$335=AW15),35)),الفرضيات!$N$2:$O$11,2,0))-BB15),0)} -> 0
AQ16: =IFERROR( IF(AND(AM16<>0,AL16<>0,AK16<>0), VLOOKUP(AL16,$B$45:$C$48,2,0)*VLOOKUP(AM16,$B$45:$C$48,2,0)*VLOOKUP(AK16,$B$45:$C$48,2,0), VLOOKUP(AO16,$B$45:$C$48,2,0)*VLOOKUP(AP16,$B$45:$C$48,2,0)*VLOOKUP(AN16,$B$45:$C$48,2,0)),"") | AR16: =IF(AQ16="","",(LOOKUP(SUM(N16:O16),الفرضيات!$R$2:$R$9, الفرضيات!$S$2:$S$9))) | AS16: =IF(ISBLANK(L16),"",الفرضيات!$L$2) | BG16: =IF(ISBLANK(L16),"0",T16*(R16-AG16)/الفرضيات!$H$2*(1+AR16)) -> 0 | BH16: =IF(ISBLANK(L16),"0",_xlfn.CEILING.MATH(W16)) -> 0 | BI16: =IF(ISBLANK(AW16),"0",_xlfn.CEILING.MATH(BC16)) -> 0 | BJ16: =IF(ISBLANK(AW16),"0",BM16+BN16) -> 0 | BK16: =IF(ISBLANK(L16),"0",_xlfn.CEILING.MATH(AD16)) -> 0 | BL16: =IF(ISBLANK(L16),"0",_xlfn.CEILING.MATH(Z16)) -> 0 | BM16: {=IF(ISBLANK(AW16),"0",_xlfn.CEILING.MATH(AX16/الفرضيات!$H$3*(1+MAX(_xlfn.CHOOSECOLS(_xlfn._xlws.FILTER($I$4:$AT$335,$K$4:$K$335=AW16),36)))))} -> 0 | BN16: {=IF(ISBLANK(AW16),"0",_xlfn.CEILING.MATH(AY16/الفرضيات!$H$4*(1+MAX(_xlfn.CHOOSECOLS(_xlfn._xlws.FILTER($I$4:$AT$335,$K$4:$K$335=AW16),36)))))} -> 0 | BO16: =IF(ISBLANK(L16),"0",IF(S16<2,"0",(U16*(R16-AG16)/الفرضيات!$H$2*(1+AR16)))) -> 0 | BP16: =IF(ISBLANK(L16),"0",_xlfn.CEILING.MATH(X16)) -> 0 | BQ16: =IF(ISBLANK(AW16),"0",_xlfn.CEILING.MATH(BD16)) -> 0 | BR16: =IF(ISBLANK(AW16),"0",IF($AZ16<2,"0",BU16+BV16)) -> 0 | BS16: =IF(ISBLANK(L16),"0",_xlfn.CEILING.MATH(AE16)) -> 0 | BT16: =IF(ISBLANK(L16),"0",_xlfn.CEILING.MATH(AA16)) -> 0 | BU16: {=IF(ISBLANK(AW16),"0",IF($AZ16<2,"0",_xlfn.CEILING.MATH(AX16/الفرضيات!$H$3*(1+MAX(_xlfn.CHOOSECOLS(_xlfn._xlws.FILTER($I$4:$AT$335,$K$4:$K$335=AW16),36))))))} -> 0 | BV16: {=IF(ISBLANK(AW16),"0",IF($AZ16<2,"0",_xlfn.CEILING.MATH(AY16/الفرضيات!$H$4*(1+MAX(_xlfn.CHOOSECOLS(_xlfn._xlws.FILTER($I$4:$AT$335,$K$4:$K$335=AW16),36))))))} -> 0 | BW16: =IF(ISBLANK(L16),"0",IF(S16<3,"0",(V16*(R16-AG16)/الفرضيات!$H$2*(1+AR16)))) -> 0 | BX16: =IF(ISBLANK(L16),"0",_xlfn.CEILING.MATH(Y16)) -> 0 | BY16: =IF(ISBLANK(AW16),"0",_xlfn.CEILING.MATH(BE16)) -> 0 | BZ16: =IF(ISBLANK(AW16),"0",IF($AZ16<3,"0",CC16+CD16)) -> 0 | CA16: =IF(ISBLANK(L16),"0",_xlfn.CEILING.MATH(AF16)) -> 0 | CB16: =IF(ISBLANK(L16),"0",_xlfn.CEILING.MATH(AB16)) -> 0 | CC16: {=IF(ISBLANK(AW16),"0",IF($AZ16<3,"0",_xlfn.CEILING.MATH(AX16/الفرضيات!$H$3*(1+MAX(_xlfn.CHOOSECOLS(_xlfn._xlws.FILTER($I$4:$AT$335,$K$4:$K$335=AW16),36))))))} -> 0 | CD16: {=IF(ISBLANK(AW16),"0",IF($AZ16<3,"0",_xlfn.CEILING.MATH(AY16/الفرضيات!$H$4*(1+MAX(_xlfn.CHOOSECOLS(_xlfn._xlws.FILTER($I$4:$AT$335,$K$4:$K$335=AW16),36))))))} -> 0 | CE16: =IFERROR(MAX(0,((BG16+BO16+BW16)*(1+AS16+AR16)+(BH16+BI16+BJ16+BL16+BP16+BQ16+BR16+BT16+BX16+BY16+BZ16+CB16)*(1+AS16))*(1+ VLOOKUP(AQ16,الفرضيات!$N$1:$O$11,2,0))-AH16),0) -> 0 | CF16: =IFERROR(BK16+BS16+CA16,0) -> 0 | CG16: {=IFERROR(MAX(0,MAX(BM16,BU16,CC16)*(1+VLOOKUP(MAX(_xlfn.CHOOSECOLS(_xlfn._xlws.FILTER($I$4:$AT$335,$K$4:$K$335=AW16),35)),الفرضيات!$N$2:$O$11,2,0))-BA16),0)} -> 0 | CH16: {=IFERROR(MAX(0,MAX(BN16,BV16,CD16)*(1+VLOOKUP(MAX(_xlfn.CHOOSECOLS(_xlfn._xlws.FILTER($I$4:$AT$335,$K$4:$K$335=AW16),35)),الفرضيات!$N$2:$O$11,2,0))-BB16),0)} -> 0
AQ17: =IFERROR( IF(AND(AM17<>0,AL17<>0,AK17<>0), VLOOKUP(AL17,$B$45:$C$48,2,0)*VLOOKUP(AM17,$B$45:$C$48,2,0)*VLOOKUP(AK17,$B$45:$C$48,2,0), VLOOKUP(AO17,$B$45:$C$48,2,0)*VLOOKUP(AP17,$B$45:$C$48,2,0)*VLOOKUP(AN17,$B$45:$C$48,2,0)),"") | AR17: =IF(AQ17="","",(LOOKUP(SUM(N17:O17),الفرضيات!$R$2:$R$9, الفرضيات!$S$2:$S$9))) | AS17: =IF(ISBLANK(L17),"",الفرضيات!$L$2) | BG17: =IF(ISBLANK(L17),"0",T17*(R17-AG17)/الفرضيات!$H$2*(1+AR17)) -> 0 | BH17: =IF(ISBLANK(L17),"0",_xlfn.CEILING.MATH(W17)) -> 0 | BI17: =IF(ISBLANK(AW17),"0",_xlfn.CEILING.MATH(BC17)) -> 0 | BJ17: =IF(ISBLANK(AW17),"0",BM17+BN17) -> 0 | BK17: =IF(ISBLANK(L17),"0",_xlfn.CEILING.MATH(AD17)) -> 0 | BL17: =IF(ISBLANK(L17),"0",_xlfn.CEILING.MATH(Z17)) -> 0 | BM17: {=IF(ISBLANK(AW17),"0",_xlfn.CEILING.MATH(AX17/الفرضيات!$H$3*(1+MAX(_xlfn.CHOOSECOLS(_xlfn._xlws.FILTER($I$4:$AT$335,$K$4:$K$335=AW17),36)))))} -> 0 | BN17: {=IF(ISBLANK(AW17),"0",_xlfn.CEILING.MATH(AY17/الفرضيات!$H$4*(1+MAX(_xlfn.CHOOSECOLS(_xlfn._xlws.FILTER($I$4:$AT$335,$K$4:$K$335=AW17),36)))))} -> 0 | BO17: =IF(ISBLANK(L17),"0",IF(S17<2,"0",(U17*(R17-AG17)/الفرضيات!$H$2*(1+AR17)))) -> 0 | BP17: =IF(ISBLANK(L17),"0",_xlfn.CEILING.MATH(X17)) -> 0 | BQ17: =IF(ISBLANK(AW17),"0",_xlfn.CEILING.MATH(BD17)) -> 0 | BR17: =IF(ISBLANK(AW17),"0",IF($AZ17<2,"0",BU17+BV17)) -> 0 | BS17: =IF(ISBLANK(L17),"0",_xlfn.CEILING.MATH(AE17)) -> 0 | BT17: =IF(ISBLANK(L17),"0",_xlfn.CEILING.MATH(AA17)) -> 0 | BU17: {=IF(ISBLANK(AW17),"0",IF($AZ17<2,"0",_xlfn.CEILING.MATH(AX17/الفرضيات!$H$3*(1+MAX(_xlfn.CHOOSECOLS(_xlfn._xlws.FILTER($I$4:$AT$335,$K$4:$K$335=AW17),36))))))} -> 0 | BV17: {=IF(ISBLANK(AW17),"0",IF($AZ17<2,"0",_xlfn.CEILING.MATH(AY17/الفرضيات!$H$4*(1+MAX(_xlfn.CHOOSECOLS(_xlfn._xlws.FILTER($I$4:$AT$335,$K$4:$K$335=AW17),36))))))} -> 0 | BW17: =IF(ISBLANK(L17),"0",IF(S17<3,"0",(V17*(R17-AG17)/الفرضيات!$H$2*(1+AR17)))) -> 0 | BX17: =IF(ISBLANK(L17),"0",_xlfn.CEILING.MATH(Y17)) -> 0 | BY17: =IF(ISBLANK(AW17),"0",_xlfn.CEILING.MATH(BE17)) -> 0 | BZ17: =IF(ISBLANK(AW17),"0",IF($AZ17<3,"0",CC17+CD17)) -> 0 | CA17: =IF(ISBLANK(L17),"0",_xlfn.CEILING.MATH(AF17)) -> 0 | CB17: =IF(ISBLANK(L17),"0",_xlfn.CEILING.MATH(AB17)) -> 0 | CC17: {=IF(ISBLANK(AW17),"0",IF($AZ17<3,"0",_xlfn.CEILING.MATH(AX17/الفرضيات!$H$3*(1+MAX(_xlfn.CHOOSECOLS(_xlfn._xlws.FILTER($I$4:$AT$335,$K$4:$K$335=AW17),36))))))} -> 0 | CD17: {=IF(ISBLANK(AW17),"0",IF($AZ17<3,"0",_xlfn.CEILING.MATH(AY17/الفرضيات!$H$4*(1+MAX(_xlfn.CHOOSECOLS(_xlfn._xlws.FILTER($I$4:$AT$335,$K$4:$K$335=AW17),36))))))} -> 0 | CE17: =IFERROR(MAX(0,((BG17+BO17+BW17)*(1+AS17+AR17)+(BH17+BI17+BJ17+BL17+BP17+BQ17+BR17+BT17+BX17+BY17+BZ17+CB17)*(1+AS17))*(1+ VLOOKUP(AQ17,الفرضيات!$N$1:$O$11,2,0))-AH17),0) -> 0 | CF17: =IFERROR(BK17+BS17+CA17,0) -> 0 | CG17: {=IFERROR(MAX(0,MAX(BM17,BU17,CC17)*(1+VLOOKUP(MAX(_xlfn.CHOOSECOLS(_xlfn._xlws.FILTER($I$4:$AT$335,$K$4:$K$335=AW17),35)),الفرضيات!$N$2:$O$11,2,0))-BA17),0)} -> 0 | CH17: {=IFERROR(MAX(0,MAX(BN17,BV17,CD17)*(1+VLOOKUP(MAX(_xlfn.CHOOSECOLS(_xlfn._xlws.FILTER($I$4:$AT$335,$K$4:$K$335=AW17),35)),الفرضيات!$N$2:$O$11,2,0))-BB17),0)} -> 0
AQ18: =IFERROR( IF(AND(AM18<>0,AL18<>0,AK18<>0), VLOOKUP(AL18,$B$45:$C$48,2,0)*VLOOKUP(AM18,$B$45:$C$48,2,0)*VLOOKUP(AK18,$B$45:$C$48,2,0), VLOOKUP(AO18,$B$45:$C$48,2,0)*VLOOKUP(AP18,$B$45:$C$48,2,0)*VLOOKUP(AN18,$B$45:$C$48,2,0)),"") | AR18: =IF(AQ18="","",(LOOKUP(SUM(N18:O18),الفرضيات!$R$2:$R$9, الفرضيات!$S$2:$S$9))) | AS18: =IF(ISBLANK(L18),"",الفرضيات!$L$2) | BG18: =IF(ISBLANK(L18),"0",T18*(R18-AG18)/الفرضيات!$H$2*(1+AR18)) -> 0 | BH18: =IF(ISBLANK(L18),"0",_xlfn.CEILING.MATH(W18)) -> 0 | BI18: =IF(ISBLANK(AW18),"0",_xlfn.CEILING.MATH(BC18)) -> 0 | BJ18: =IF(ISBLANK(AW18),"0",BM18+BN18) -> 0 | BK18: =IF(ISBLANK(L18),"0",_xlfn.CEILING.MATH(AD18)) -> 0 | BL18: =IF(ISBLANK(L18),"0",_xlfn.CEILING.MATH(Z18)) -> 0 | BM18: {=IF(ISBLANK(AW18),"0",_xlfn.CEILING.MATH(AX18/الفرضيات!$H$3*(1+MAX(_xlfn.CHOOSECOLS(_xlfn._xlws.FILTER($I$4:$AT$335,$K$4:$K$335=AW18),36)))))} -> 0 | BN18: {=IF(ISBLANK(AW18),"0",_xlfn.CEILING.MATH(AY18/الفرضيات!$H$4*(1+MAX(_xlfn.CHOOSECOLS(_xlfn._xlws.FILTER($I$4:$AT$335,$K$4:$K$335=AW18),36)))))} -> 0 | BO18: =IF(ISBLANK(L18),"0",IF(S18<2,"0",(U18*(R18-AG18)/الفرضيات!$H$2*(1+AR18)))) -> 0 | BP18: =IF(ISBLANK(L18),"0",_xlfn.CEILING.MATH(X18)) -> 0 | BQ18: =IF(ISBLANK(AW18),"0",_xlfn.CEILING.MATH(BD18)) -> 0 | BR18: =IF(ISBLANK(AW18),"0",IF($AZ18<2,"0",BU18+BV18)) -> 0 | BS18: =IF(ISBLANK(L18),"0",_xlfn.CEILING.MATH(AE18)) -> 0 | BT18: =IF(ISBLANK(L18),"0",_xlfn.CEILING.MATH(AA18)) -> 0 | BU18: {=IF(ISBLANK(AW18),"0",IF($AZ18<2,"0",_xlfn.CEILING.MATH(AX18/الفرضيات!$H$3*(1+MAX(_xlfn.CHOOSECOLS(_xlfn._xlws.FILTER($I$4:$AT$335,$K$4:$K$335=AW18),36))))))} -> 0 | BV18: {=IF(ISBLANK(AW18),"0",IF($AZ18<2,"0",_xlfn.CEILING.MATH(AY18/الفرضيات!$H$4*(1+MAX(_xlfn.CHOOSECOLS(_xlfn._xlws.FILTER($I$4:$AT$335,$K$4:$K$335=AW18),36))))))} -> 0 | BW18: =IF(ISBLANK(L18),"0",IF(S18<3,"0",(V18*(R18-AG18)/الفرضيات!$H$2*(1+AR18)))) -> 0 | BX18: =IF(ISBLANK(L18),"0",_xlfn.CEILING.MATH(Y18)) -> 0 | BY18: =IF(ISBLANK(AW18),"0",_xlfn.CEILING.MATH(BE18)) -> 0 | BZ18: =IF(ISBLANK(AW18),"0",IF($AZ18<3,"0",CC18+CD18)) -> 0 | CA18: =IF(ISBLANK(L18),"0",_xlfn.CEILING.MATH(AF18)) -> 0 | CB18: =IF(ISBLANK(L18),"0",_xlfn.CEILING.MATH(AB18)) -> 0 | CC18: {=IF(ISBLANK(AW18),"0",IF($AZ18<3,"0",_xlfn.CEILING.MATH(AX18/الفرضيات!$H$3*(1+MAX(_xlfn.CHOOSECOLS(_xlfn._xlws.FILTER($I$4:$AT$335,$K$4:$K$335=AW18),36))))))} -> 0 | CD18: {=IF(ISBLANK(AW18),"0",IF($AZ18<3,"0",_xlfn.CEILING.MATH(AY18/الفرضيات!$H$4*(1+MAX(_xlfn.CHOOSECOLS(_xlfn._xlws.FILTER($I$4:$AT$335,$K$4:$K$335=AW18),36))))))} -> 0 | CE18: =IFERROR(MAX(0,((BG18+BO18+BW18)*(1+AS18+AR18)+(BH18+BI18+BJ18+BL18+BP18+BQ18+BR18+BT18+BX18+BY18+BZ18+CB18)*(1+AS18))*(1+ VLOOKUP(AQ18,الفرضيات!$N$1:$O$11,2,0))-AH18),0) -> 0 | CF18: =IFERROR(BK18+BS18+CA18,0) -> 0 | CG18: {=IFERROR(MAX(0,MAX(BM18,BU18,CC18)*(1+VLOOKUP(MAX(_xlfn.CHOOSECOLS(_xlfn._xlws.FILTER($I$4:$AT$335,$K$4:$K$335=AW18),35)),الفرضيات!$N$2:$O$11,2,0))-BA18),0)} -> 0 | CH18: {=IFERROR(MAX(0,MAX(BN18,BV18,CD18)*(1+VLOOKUP(MAX(_xlfn.CHOOSECOLS(_xlfn._xlws.FILTER($I$4:$AT$335,$K$4:$K$335=AW18),35)),الفرضيات!$N$2:$O$11,2,0))-BB18),0)} -> 0
B19: سنوات العقد | AQ19: =IFERROR( IF(AND(AM19<>0,AL19<>0,AK19<>0), VLOOKUP(AL19,$B$45:$C$48,2,0)*VLOOKUP(AM19,$B$45:$C$48,2,0)*VLOOKUP(AK19,$B$45:$C$48,2,0), VLOOKUP(AO19,$B$45:$C$48,2,0)*VLOOKUP(AP19,$B$45:$C$48,2,0)*VLOOKUP(AN19,$B$45:$C$48,2,0)),"") | AR19: =IF(AQ19="","",(LOOKUP(SUM(N19:O19),الفرضيات!$R$2:$R$9, الفرضيات!$S$2:$S$9))) | AS19: =IF(ISBLANK(L19),"",الفرضيات!$L$2) | BG19: =IF(ISBLANK(L19),"0",T19*(R19-AG19)/الفرضيات!$H$2*(1+AR19)) -> 0 | BH19: =IF(ISBLANK(L19),"0",_xlfn.CEILING.MATH(W19)) -> 0 | BI19: =IF(ISBLANK(AW19),"0",_xlfn.CEILING.MATH(BC19)) -> 0 | BJ19: =IF(ISBLANK(AW19),"0",BM19+BN19) -> 0 | BK19: =IF(ISBLANK(L19),"0",_xlfn.CEILING.MATH(AD19)) -> 0 | BL19: =IF(ISBLANK(L19),"0",_xlfn.CEILING.MATH(Z19)) -> 0 | BM19: {=IF(ISBLANK(AW19),"0",_xlfn.CEILING.MATH(AX19/الفرضيات!$H$3*(1+MAX(_xlfn.CHOOSECOLS(_xlfn._xlws.FILTER($I$4:$AT$335,$K$4:$K$335=AW19),36)))))} -> 0 | BN19: {=IF(ISBLANK(AW19),"0",_xlfn.CEILING.MATH(AY19/الفرضيات!$H$4*(1+MAX(_xlfn.CHOOSECOLS(_xlfn._xlws.FILTER($I$4:$AT$335,$K$4:$K$335=AW19),36)))))} -> 0 | BO19: =IF(ISBLANK(L19),"0",IF(S19<2,"0",(U19*(R19-AG19)/الفرضيات!$H$2*(1+AR19)))) -> 0 | BP19: =IF(ISBLANK(L19),"0",_xlfn.CEILING.MATH(X19)) -> 0 | BQ19: =IF(ISBLANK(AW19),"0",_xlfn.CEILING.MATH(BD19)) -> 0 | BR19: =IF(ISBLANK(AW19),"0",IF($AZ19<2,"0",BU19+BV19)) -> 0 | BS19: =IF(ISBLANK(L19),"0",_xlfn.CEILING.MATH(AE19)) -> 0 | BT19: =IF(ISBLANK(L19),"0",_xlfn.CEILING.MATH(AA19)) -> 0 | BU19: {=IF(ISBLANK(AW19),"0",IF($AZ19<2,"0",_xlfn.CEILING.MATH(AX19/الفرضيات!$H$3*(1+MAX(_xlfn.CHOOSECOLS(_xlfn._xlws.FILTER($I$4:$AT$335,$K$4:$K$335=AW19),36))))))} -> 0 | BV19: {=IF(ISBLANK(AW19),"0",IF($AZ19<2,"0",_xlfn.CEILING.MATH(AY19/الفرضيات!$H$4*(1+MAX(_xlfn.CHOOSECOLS(_xlfn._xlws.FILTER($I$4:$AT$335,$K$4:$K$335=AW19),36))))))} -> 0 | BW19: =IF(ISBLANK(L19),"0",IF(S19<3,"0",(V19*(R19-AG19)/الفرضيات!$H$2*(1+AR19)))) -> 0 | BX19: =IF(ISBLANK(L19),"0",_xlfn.CEILING.MATH(Y19)) -> 0 | BY19: =IF(ISBLANK(AW19),"0",_xlfn.CEILING.MATH(BE19)) -> 0 | BZ19: =IF(ISBLANK(AW19),"0",IF($AZ19<3,"0",CC19+CD19)) -> 0 | CA19: =IF(ISBLANK(L19),"0",_xlfn.CEILING.MATH(AF19)) -> 0 | CB19: =IF(ISBLANK(L19),"0",_xlfn.CEILING.MATH(AB19)) -> 0 | CC19: {=IF(ISBLANK(AW19),"0",IF($AZ19<3,"0",_xlfn.CEILING.MATH(AX19/الفرضيات!$H$3*(1+MAX(_xlfn.CHOOSECOLS(_xlfn._xlws.FILTER($I$4:$AT$335,$K$4:$K$335=AW19),36))))))} -> 0 | CD19: {=IF(ISBLANK(AW19),"0",IF($AZ19<3,"0",_xlfn.CEILING.MATH(AY19/الفرضيات!$H$4*(1+MAX(_xlfn.CHOOSECOLS(_xlfn._xlws.FILTER($I$4:$AT$335,$K$4:$K$335=AW19),36))))))} -> 0 | CE19: =IFERROR(MAX(0,((BG19+BO19+BW19)*(1+AS19+AR19)+(BH19+BI19+BJ19+BL19+BP19+BQ19+BR19+BT19+BX19+BY19+BZ19+CB19)*(1+AS19))*(1+ VLOOKUP(AQ19,الفرضيات!$N$1:$O$11,2,0))-AH19),0) -> 0 | CF19: =IFERROR(BK19+BS19+CA19,0) -> 0 | CG19: {=IFERROR(MAX(0,MAX(BM19,BU19,CC19)*(1+VLOOKUP(MAX(_xlfn.CHOOSECOLS(_xlfn._xlws.FILTER($I$4:$AT$335,$K$4:$K$335=AW19),35)),الفرضيات!$N$2:$O$11,2,0))-BA19),0)} -> 0 | CH19: {=IFERROR(MAX(0,MAX(BN19,BV19,CD19)*(1+VLOOKUP(MAX(_xlfn.CHOOSECOLS(_xlfn._xlws.FILTER($I$4:$AT$335,$K$4:$K$335=AW19),35)),الفرضيات!$N$2:$O$11,2,0))-BB19),0)} -> 0
B20: =IF('الصفحة الرئيسية '!$E$11>=1,1,"") | AQ20: =IFERROR( IF(AND(AM20<>0,AL20<>0,AK20<>0), VLOOKUP(AL20,$B$45:$C$48,2,0)*VLOOKUP(AM20,$B$45:$C$48,2,0)*VLOOKUP(AK20,$B$45:$C$48,2,0), VLOOKUP(AO20,$B$45:$C$48,2,0)*VLOOKUP(AP20,$B$45:$C$48,2,0)*VLOOKUP(AN20,$B$45:$C$48,2,0)),"") | AR20: =IF(AQ20="","",(LOOKUP(SUM(N20:O20),الفرضيات!$R$2:$R$9, الفرضيات!$S$2:$S$9))) | AS20: =IF(ISBLANK(L20),"",الفرضيات!$L$2) | BG20: =IF(ISBLANK(L20),"0",T20*(R20-AG20)/الفرضيات!$H$2*(1+AR20)) -> 0 | BH20: =IF(ISBLANK(L20),"0",_xlfn.CEILING.MATH(W20)) -> 0 | BI20: =IF(ISBLANK(AW20),"0",_xlfn.CEILING.MATH(BC20)) -> 0 | BJ20: =IF(ISBLANK(AW20),"0",BM20+BN20) -> 0 | BK20: =IF(ISBLANK(L20),"0",_xlfn.CEILING.MATH(AD20)) -> 0 | BL20: =IF(ISBLANK(L20),"0",_xlfn.CEILING.MATH(Z20)) -> 0 | BM20: {=IF(ISBLANK(AW20),"0",_xlfn.CEILING.MATH(AX20/الفرضيات!$H$3*(1+MAX(_xlfn.CHOOSECOLS(_xlfn._xlws.FILTER($I$4:$AT$335,$K$4:$K$335=AW20),36)))))} -> 0 | BN20: {=IF(ISBLANK(AW20),"0",_xlfn.CEILING.MATH(AY20/الفرضيات!$H$4*(1+MAX(_xlfn.CHOOSECOLS(_xlfn._xlws.FILTER($I$4:$AT$335,$K$4:$K$335=AW20),36)))))} -> 0 | BO20: =IF(ISBLANK(L20),"0",IF(S20<2,"0",(U20*(R20-AG20)/الفرضيات!$H$2*(1+AR20)))) -> 0 | BP20: =IF(ISBLANK(L20),"0",_xlfn.CEILING.MATH(X20)) -> 0 | BQ20: =IF(ISBLANK(AW20),"0",_xlfn.CEILING.MATH(BD20)) -> 0 | BR20: =IF(ISBLANK(AW20),"0",IF($AZ20<2,"0",BU20+BV20)) -> 0 | BS20: =IF(ISBLANK(L20),"0",_xlfn.CEILING.MATH(AE20)) -> 0 | BT20: =IF(ISBLANK(L20),"0",_xlfn.CEILING.MATH(AA20)) -> 0 | BU20: {=IF(ISBLANK(AW20),"0",IF($AZ20<2,"0",_xlfn.CEILING.MATH(AX20/الفرضيات!$H$3*(1+MAX(_xlfn.CHOOSECOLS(_xlfn._xlws.FILTER($I$4:$AT$335,$K$4:$K$335=AW20),36))))))} -> 0 | BV20: {=IF(ISBLANK(AW20),"0",IF($AZ20<2,"0",_xlfn.CEILING.MATH(AY20/الفرضيات!$H$4*(1+MAX(_xlfn.CHOOSECOLS(_xlfn._xlws.FILTER($I$4:$AT$335,$K$4:$K$335=AW20),36))))))} -> 0 | BW20: =IF(ISBLANK(L20),"0",IF(S20<3,"0",(V20*(R20-AG20)/الفرضيات!$H$2*(1+AR20)))) -> 0 | BX20: =IF(ISBLANK(L20),"0",_xlfn.CEILING.MATH(Y20)) -> 0 | BY20: =IF(ISBLANK(AW20),"0",_xlfn.CEILING.MATH(BE20)) -> 0 | BZ20: =IF(ISBLANK(AW20),"0",IF($AZ20<3,"0",CC20+CD20)) -> 0 | CA20: =IF(ISBLANK(L20),"0",_xlfn.CEILING.MATH(AF20)) -> 0 | CB20: =IF(ISBLANK(L20),"0",_xlfn.CEILING.MATH(AB20)) -> 0 | CC20: {=IF(ISBLANK(AW20),"0",IF($AZ20<3,"0",_xlfn.CEILING.MATH(AX20/الفرضيات!$H$3*(1+MAX(_xlfn.CHOOSECOLS(_xlfn._xlws.FILTER($I$4:$AT$335,$K$4:$K$335=AW20),36))))))} -> 0 | CD20: {=IF(ISBLANK(AW20),"0",IF($AZ20<3,"0",_xlfn.CEILING.MATH(AY20/الفرضيات!$H$4*(1+MAX(_xlfn.CHOOSECOLS(_xlfn._xlws.FILTER($I$4:$AT$335,$K$4:$K$335=AW20),36))))))} -> 0 | CE20: =IFERROR(MAX(0,((BG20+BO20+BW20)*(1+AS20+AR20)+(BH20+BI20+BJ20+BL20+BP20+BQ20+BR20+BT20+BX20+BY20+BZ20+CB20)*(1+AS20))*(1+ VLOOKUP(AQ20,الفرضيات!$N$1:$O$11,2,0))-AH20),0) -> 0 | CF20: =IFERROR(BK20+BS20+CA20,0) -> 0 | CG20: {=IFERROR(MAX(0,MAX(BM20,BU20,CC20)*(1+VLOOKUP(MAX(_xlfn.CHOOSECOLS(_xlfn._xlws.FILTER($I$4:$AT$335,$K$4:$K$335=AW20),35)),الفرضيات!$N$2:$O$11,2,0))-BA20),0)} -> 0 | CH20: {=IFERROR(MAX(0,MAX(BN20,BV20,CD20)*(1+VLOOKUP(MAX(_xlfn.CHOOSECOLS(_xlfn._xlws.FILTER($I$4:$AT$335,$K$4:$K$335=AW20),35)),الفرضيات!$N$2:$O$11,2,0))-BB20),0)} -> 0
